BEGIN:VCALENDAR
VERSION:2.0
PRODID:-//Quiero Disfrutar - ECPv6.15.1.1//NONSGML v1.0//EN
CALSCALE:GREGORIAN
METHOD:PUBLISH
X-WR-CALNAME:Quiero Disfrutar
X-ORIGINAL-URL:http://www.quierodisfrutar.mx
X-WR-CALDESC:Eventos para Quiero Disfrutar
REFRESH-INTERVAL;VALUE=DURATION:PT1H
X-Robots-Tag:noindex
X-PUBLISHED-TTL:PT1H
BEGIN:VTIMEZONE
TZID:America/Mexico_City
BEGIN:DAYLIGHT
TZOFFSETFROM:-0600
TZOFFSETTO:-0500
TZNAME:CDT
DTSTART:20240407T080000
END:DAYLIGHT
BEGIN:STANDARD
TZOFFSETFROM:-0500
TZOFFSETTO:-0600
TZNAME:CST
DTSTART:20241027T070000
END:STANDARD
END:VTIMEZONE
BEGIN:VEVENT
DTSTART;VALUE=DATE:20241118
DTEND;VALUE=DATE:20241213
DTSTAMP:20260424T191757
CREATED:20241119T183654Z
LAST-MODIFIED:20241119T183654Z
UID:52416-1731888000-1734047999@www.quierodisfrutar.mx
SUMMARY:Donación Navideña
DESCRIPTION:Este año hemos propuesto organizar una colecta para la Loc. de Perote ! Únete\, queremos que más niños reciban la palabra de Dios y un regalo. \nSi tienes algún juguete en buen estado que quieras donar te invitamos a sumarte. Te puedes contactar a los número que aparecen en la imagen. \nÚnete y juntos hagamos la diferencia.
URL:http://www.quierodisfrutar.mx/evento/donacion-navidena/
CATEGORIES:Actividades Altruistas
ATTACH;FMTTYPE=image/jpeg:http://www.quierodisfrutar.mx/wp-content/uploads/2024/11/463211809_591716890106241_1354058503959215419_n.jpg
END:VEVENT
BEGIN:VEVENT
DTSTART;TZID=America/Mexico_City:20241214T080000
DTEND;TZID=America/Mexico_City:20241215T120000
DTSTAMP:20260424T191757
CREATED:20241213T233106Z
LAST-MODIFIED:20241213T233106Z
UID:52559-1734163200-1734264000@www.quierodisfrutar.mx
SUMMARY:Colecta Anual de Invierno
DESCRIPTION:
URL:http://www.quierodisfrutar.mx/evento/colecta-anual-de-invierno/
CATEGORIES:Actividades Altruistas
ATTACH;FMTTYPE=image/jpeg:http://www.quierodisfrutar.mx/wp-content/uploads/2024/12/467320440_1102976794947823_1016073791817792758_n.jpg
END:VEVENT
BEGIN:VEVENT
DTSTART;VALUE=DATE:20241215
DTEND;VALUE=DATE:20241216
DTSTAMP:20260424T191757
CREATED:20241214T195636Z
LAST-MODIFIED:20241214T195636Z
UID:52563-1734220800-1734307199@www.quierodisfrutar.mx
SUMMARY:CROQUETÓN BANDERILLA 2024
DESCRIPTION:
URL:http://www.quierodisfrutar.mx/evento/croqueton-banderilla-2024/
CATEGORIES:Actividades Altruistas
ATTACH;FMTTYPE=image/jpeg:http://www.quierodisfrutar.mx/wp-content/uploads/2024/12/WhatsApp-Image-2024-12-14-at-11.57.40-AM.jpeg
END:VEVENT
BEGIN:VEVENT
DTSTART;VALUE=DATE:20241216
DTEND;VALUE=DATE:20241223
DTSTAMP:20260424T191757
CREATED:20241217T021009Z
LAST-MODIFIED:20241217T021009Z
UID:52569-1734307200-1734911999@www.quierodisfrutar.mx
SUMMARY:Actividades culturales en la ciudad de Xalapa
DESCRIPTION:Actividades culturales en Xalapa\n 
URL:http://www.quierodisfrutar.mx/evento/actividades-culturales-en-la-ciudad-de-xalapa/
CATEGORIES:Actividades Altruistas,Cine,Concierto,Educativos,Exposiciones
ATTACH;FMTTYPE=image/jpeg:http://www.quierodisfrutar.mx/wp-content/uploads/2024/12/WhatsApp-Image-2024-12-16-at-3.38.46-PM-5.jpeg
END:VEVENT
BEGIN:VEVENT
DTSTART;TZID=America/Mexico_City:20241219T190000
DTEND;TZID=America/Mexico_City:20241219T210000
DTSTAMP:20260424T191757
CREATED:20241217T012649Z
LAST-MODIFIED:20241217T012649Z
UID:52566-1734634800-1734642000@www.quierodisfrutar.mx
SUMMARY:Arquidiócesis invita a la quinceava Caravana Navideña 2024
DESCRIPTION:– Se llevará a cabo el próximo 19 de diciembre en la zona centro de la Capital \n  \nAprovechamos la oportunidad para reconocer la labor periodística que realizan por el bien de la población de Xalapa y de nuestro estado. Pedimos a Dios por que su labor siempre sea a favor de la verdad\, Dios los bendiga. \n El motivo de este correo es solicitar su apoyo para difundir en su portal electrónico\, la propaganda de nuestra próxima 15° Caravana Navideña 2024 organizada por el movimiento católico nueva evangelización de la Arquidiócesis de Xalapa. La Caravana navideña se denomina: «adoremos al protagonista del amor: Jesús nuestro salvador». esta se llevará a cabo el próximo jueves 19 de diciembre a partir de las 19:00 horas en las principales calles de nuestra ciudad de Xalapa\, Veracruz. \nLa Caravana partirá del parque hundido de Maestros Veracruzanos\, calle Veracruz\, 20 de noviembre\, Xalapeños Ilustres\, Enríquez\, Ávila Camacho para culminar en el teatro del estado. \nInvitamos a todas las familias para que asistan; hacemos también un comunicado a nuestros amigos conductores\, trataremos de hacer lo menos tráfico vehicular\, sin embargo les pedimos comprensión y paciencia. \nEn la caravana participan niños\, adolescentes\, jóvenes y padres de familia integrantes de nuestro movimiento; el objetivo es llevar un mensaje de unidad\, paz y alegría en medio de los momentos tan difíciles que vivimos\, que el niño Jesús nos ayude a salir de estas oscuridades y renueve con su llegada esa esperanza de una nueva vida. \nEnviamos el cartel de propaganda\, esperando contar con su apoyo cualquier duda quedamos a sus ordenes. \n \nAtentamente Integrante de equipo organizativoMovimiento Católico Nueva Evangelización.
URL:http://www.quierodisfrutar.mx/evento/arquidiocesis-invita-a-la-quinceava-caravana-navidena-2024/
CATEGORIES:Actividades Altruistas,Especiales,Exposiciones,Fiesta y tradición
ATTACH;FMTTYPE=image/jpeg:http://www.quierodisfrutar.mx/wp-content/uploads/2024/12/15-CARAVANA-NAVIDEÑA-NUEVA-EVANGELIZACIÓN.jpg
END:VEVENT
BEGIN:VEVENT
DTSTART;TZID=America/Mexico_City:20241228T180000
DTEND;TZID=America/Mexico_City:20241228T200000
DTSTAMP:20260424T191757
CREATED:20241219T195704Z
LAST-MODIFIED:20241219T195704Z
UID:52599-1735408800-1735416000@www.quierodisfrutar.mx
SUMMARY:Tocada de Rock: un regalo\, una sonrisa
DESCRIPTION:Concierto de música de Rock a beneficio de recolecta de juguetes para donarlos a los niños de la colonia Zapata de Coatepec\, Veracruz. \nDicho evento será el próximo Sábado 28 de diciembre a partir de las 18:00 hrs en el parque Juárez.  \nLa Banda «La Sustancia»\, originarios del Pueblo Mágico de Coatepec amenizará la velada. \nPara cualquier información 2281710467 a nombre de Lucio Ronzon. \n\n 
URL:http://www.quierodisfrutar.mx/evento/tocada-de-rock-un-regalo-una-sonrisa/
LOCATION:Parque Juárez\, Calle Enríquez
CATEGORIES:Actividades Altruistas,Arte,Concierto
ATTACH;FMTTYPE=image/jpeg:http://www.quierodisfrutar.mx/wp-content/uploads/2024/12/IMG-20241219-WA0085.jpg
END:VEVENT
END:VCALENDAR