BEGIN:VCALENDAR
VERSION:2.0
PRODID:-//Quiero Disfrutar - ECPv6.15.1.1//NONSGML v1.0//EN
CALSCALE:GREGORIAN
METHOD:PUBLISH
X-WR-CALNAME:Quiero Disfrutar
X-ORIGINAL-URL:http://www.quierodisfrutar.mx
X-WR-CALDESC:Eventos para Quiero Disfrutar
REFRESH-INTERVAL;VALUE=DURATION:PT1H
X-Robots-Tag:noindex
X-PUBLISHED-TTL:PT1H
BEGIN:VTIMEZONE
TZID:America/Mexico_City
BEGIN:DAYLIGHT
TZOFFSETFROM:-0600
TZOFFSETTO:-0500
TZNAME:CDT
DTSTART:20240407T080000
END:DAYLIGHT
BEGIN:STANDARD
TZOFFSETFROM:-0500
TZOFFSETTO:-0600
TZNAME:CST
DTSTART:20241027T070000
END:STANDARD
END:VTIMEZONE
BEGIN:VEVENT
DTSTART;VALUE=DATE:20240202
DTEND;VALUE=DATE:20240301
DTSTAMP:20260425T103610
CREATED:20240201T173716Z
LAST-MODIFIED:20240201T173716Z
UID:51649-1706832000-1709251199@www.quierodisfrutar.mx
SUMMARY:¡Ven y vive el amor este febrero con Difusión Cultural! Eventos conciertos y mucho más
DESCRIPTION:Febrero es el mes en que las actividades artísticas\, culturales y académicas de los Grupos Artísticos regresan tras un descanso invernal\, el mes que aparte de llenarnos de amor\, nos ofrece una variedad de actividades para disfrutar con amigos\, familia o pareja. \nConoce lo que La Guía trae para todos en este mes: \nEn el inicio por el festejo de su 45 aniversario el Ensamble Clásico de Guitarras presenta el programa México Mágico el domingo 4 a las 13:00 h en el Museo de Antropología de Xalapa y el martes 20 a las 20:00 h en el Casino Jalapeño. Con estas presentaciones busca mostrar al público su amplio repertorio tanto de música de distintas épocas y autores\, así como de obras originales para ensambles de guitarra. \nEl Trío Chopin\, ensamble creado con la finalidad de difundir la música de cámara presenta el concierto Cuatro B’s a dos instrumentos este mes tendrán cuatro fechas\, iniciando el miércoles 7 en la Galería Ramón Alva de la Canal a las 17:00 h\, continuando el miércoles 14 en el Centro de Atención Múltiple No. 74\, el domingo 25 tendrán dos presentaciones\, a las 12:00 h en la Estancia Garnica y a las 17:00 h en Casa Doña Falla. Museo de la Música Veracruzana\, su última presentación será el jueves 29 en el auditorio de Radio UV a las 17:00 h. \nLos conciertos románticos del mes estarán a cargo de nuestros grupos más emblemáticos\, inicia el Mariachi UV el miércoles 14 a las 19:00 h en Casa del Lago\, el jueves 15 Xalli Big Band se presenta en el Teatro J.J. Herrera a las 19:00 h\, Tlen Huicani presenta 30 años de románticos el domingo 18 en el Teatro del Estado a las 12:00 h\, el último concierto romántico estará a cargo de la Orquesta de Salsa UV el jueves 29 a las 19:00 h en Casa del Lago UV. \nLa Temporada Especial 2024 inicia con la charla-concierto Cuco que contará con la participación del Mariachi UV y el Dr. Alfonso Colorado\, la cita es en la Sala Anexa de Tlaqná\, Centro Cultural el próximo miércoles 28 en punto de las 19:30 h. \nTodas las presentaciones son gratuitas\, se recomienda llegar con anticipación debido al aforo limitado de cada recinto. \nLa Orquesta Sinfónica de Xalapa reanudo sus actividades el pasado 19 de enero\, cada viernes se presentan en la Sala de conciertos de Tlaqná\, para conocer su cartelera\, costos y el nuevo servicio de transporte a través del USBITO UV visita sus redes sociales. \nLa Galería Ramón Alva de la Canal continúa presentando la exposición Hacemos nuestro río\, los horarios de visita son: lunes a viernes de 9:00 a 19:45 h\, sábados\, domingos y días festivos de 9:00 a 14:00 y 15:00 a 19:45 horas\, la entrada es libre. \nVisita las Redes Sociales de Facebook\, Instagram y Tik Tok de Difusión Cultural UV para ver contenido exclusivo de los Grupos UV\, dinámicas para ganar discos y mucho más.
URL:http://www.quierodisfrutar.mx/evento/ven-y-vive-el-amor-este-febrero-con-difusion-cultural-eventos-conciertos-y-mucho-mas/
CATEGORIES:Arte,Concierto,Variados
ATTACH;FMTTYPE=image/png:http://www.quierodisfrutar.mx/wp-content/uploads/2024/02/La-Guía-Feb24.png
END:VEVENT
BEGIN:VEVENT
DTSTART;VALUE=DATE:20240205
DTEND;VALUE=DATE:20240212
DTSTAMP:20260425T103610
CREATED:20240205T201047Z
LAST-MODIFIED:20240205T201047Z
UID:51658-1707091200-1707695999@www.quierodisfrutar.mx
SUMMARY:Cartelera Cultural Febrero 2024
DESCRIPTION:Cartelera Cultural Febrero 2024 \n  \n 
URL:http://www.quierodisfrutar.mx/evento/cartelera-cultural-febrero-2024/
CATEGORIES:Arte
ATTACH;FMTTYPE=image/jpeg:http://www.quierodisfrutar.mx/wp-content/uploads/2024/02/WhatsApp-Image-2024-02-05-at-1.00.52-PM-4.jpeg
END:VEVENT
BEGIN:VEVENT
DTSTART;TZID=America/Mexico_City:20240218T120000
DTEND;TZID=America/Mexico_City:20240218T140000
DTSTAMP:20260425T103610
CREATED:20240215T204336Z
LAST-MODIFIED:20240215T204336Z
UID:51685-1708257600-1708264800@www.quierodisfrutar.mx
SUMMARY:30 años de románticos con Tlen Huicani
DESCRIPTION:Este año el grupo Tlen Huicani celebra 30 años de ofrecer conciertos románticos en estas fechas de celebración del amor y la amistad\, con un concierto dedicado a los temas románticos de la música folklórica de México y América Latina. \nHace 50 años se fundó Tlen Huicani (Los cantores\, en náhuatl)\, desde entonces han compartido el patrimonio musical Veracruzano con todo el mundo. Sus integrantes\, originarios de distintas regiones del Estado\, han aprendido en su más puro estilo las diferentes manifestaciones musicales de Veracruz\, investigando también las formas ya olvidadas y las de nueva creación. \nEl concierto se realizará en la Sala Emilio Carballido del Teatro del Estado “Gral. Ignacio de la Llave” el domingo 18 de febrero a las 12:00 h\, la entrada es libre\, las puertas se abren a las 11:00 h para que el público pueda ingresar a la sala\, se entregaran boletos de control al ingresar al recinto. \nEsta presentación es de ambiente familiar\, por lo cual se extiende una cordial invitación a todas las personas que quieran disfrutar y celebrar 30 años de románticos con Tlen Huicani. \nPara más información de los Grupos Artísticos de la Universidad Veracruzana\, visita las redes sociales de Difusión Cultural y descubre contenido exclusivo.
URL:http://www.quierodisfrutar.mx/evento/30-anos-de-romanticos-con-tlen-huicani/
LOCATION:Sala Emilio Carballido del Teatro del Estado\, 91000\, México
CATEGORIES:Arte,Concierto
ATTACH;FMTTYPE=image/png:http://www.quierodisfrutar.mx/wp-content/uploads/2024/02/CARTEL-30-ANÞOS-ROMAìNTICOS-1.png
END:VEVENT
BEGIN:VEVENT
DTSTART;TZID=America/Mexico_City:20240221T180000
DTEND;TZID=America/Mexico_City:20240221T190000
DTSTAMP:20260425T103610
CREATED:20240220T192027Z
LAST-MODIFIED:20240220T192039Z
UID:51699-1708538400-1708542000@www.quierodisfrutar.mx
SUMMARY:Homenaje a la vida artística de Armando Manzanero: Presentación a cargo de Difusión Cultural UV
DESCRIPTION:-Presentación de libro: Armando Manzanero. \n-Presentación artística: Ensamble de la Orquesta Universitaria de Música Popular\, con arreglos y dirección del Mtro. Rodolfo Sánchez Vega. \nLa Dirección General de Difusión Cultural tiene el honor de participar e invitar al público a la presentación del libro Armando Manzanero. Contará con la participación artística del Ensamble de la Orquesta Universitaria de Música Popular\, con arreglos y bajo la dirección del Mtro. Rodolfo Sánchez Vega\, y la participación especial de Miguel Ernesto Villicaña Sánchez\, pianista de Armando Manzanero. \nEl panel es conformado por la Mtra. Mercedes Lozano\, Académica de la Facultad de Letras Españolas\, el Dr. Rafael Figueroa\, Director del Centro de Estudios de la Cultura y la Comunicación\, bajo la moderación del Dr. Alfonso Colorado\, Director General de Difusión Cultural. \nLos 73 años de trayectoria del compositor\, actor\, arreglista\, productor y cantante más importante de México\, Armando Manzanero\, son homenajeados en un libro sobre su vida artística que reúne anécdotas\, fotografías\, manuscritos\, notas periodísticas y audios que reproducen momentos clave de su vida. \nEste libro homónimo estuvo a cargo del editor y lingüista Alberto Tovalín Ahumada\, el prólogo es del escritor y ensayista Pável Granados y tiene un texto central muy especial del investigador musical Enrique Martín Briceño. \nLa cita para disfrutar de esta presentación es el miércoles 21 de febrero a las 18:00 h en el Teatro J.J. Herrera\, ubicado en Miguel Palacios no. 12\, zona centro. \nLa entrada es libre\, por lo que esperamos que todos los amantes de la música\, la balada y el bolero se den cita para conocer más detalles de la vida artística del gran compositor mexicano Armando Manzanero y puedan adquirir el libro que cuenta con un gran valor estético y documental sobre su trascendencia en el ámbito musical universal.
URL:http://www.quierodisfrutar.mx/evento/homenaje-a-la-vida-artistica-de-armando-manzanero-presentacion-a-cargo-de-difusion-cultural-uv/
LOCATION:Teatro JJ Herrera\, Corredor turístico Carlos Fuentes #12\, col. Centro\, Xalapa\, Veracruz\, México
CATEGORIES:Arte,Lectura,Música y Danza
ATTACH;FMTTYPE=image/jpeg:http://www.quierodisfrutar.mx/wp-content/uploads/2024/02/manzanero.jpg
END:VEVENT
END:VCALENDAR