BEGIN:VCALENDAR
VERSION:2.0
PRODID:-//Quiero Disfrutar - ECPv6.15.1.1//NONSGML v1.0//EN
CALSCALE:GREGORIAN
METHOD:PUBLISH
X-WR-CALNAME:Quiero Disfrutar
X-ORIGINAL-URL:http://www.quierodisfrutar.mx
X-WR-CALDESC:Eventos para Quiero Disfrutar
REFRESH-INTERVAL;VALUE=DURATION:PT1H
X-Robots-Tag:noindex
X-PUBLISHED-TTL:PT1H
BEGIN:VTIMEZONE
TZID:America/Mexico_City
BEGIN:DAYLIGHT
TZOFFSETFROM:-0600
TZOFFSETTO:-0500
TZNAME:CDT
DTSTART:20250406T080000
END:DAYLIGHT
BEGIN:STANDARD
TZOFFSETFROM:-0500
TZOFFSETTO:-0600
TZNAME:CST
DTSTART:20251026T070000
END:STANDARD
END:VTIMEZONE
BEGIN:VEVENT
DTSTART;VALUE=DATE:20250220
DTEND;VALUE=DATE:20250629
DTSTAMP:20260424T082241
CREATED:20250218T201743Z
LAST-MODIFIED:20250218T201804Z
UID:52777-1740009600-1751155199@www.quierodisfrutar.mx
SUMMARY:Cartelera de conciertos de la Orquesta Sinfónica de Xalapa
DESCRIPTION:La Orquesta Sinfónica de Xalapa\, en su misión de acercar la música a más personas\, comparten su cartelera de conciertos para los meses de febrero\, marzo\, abril\, mayo y junio. 
URL:http://www.quierodisfrutar.mx/evento/cartelera-de-conciertos-de-la-orquesta-sinfonica-de-xalapa/
CATEGORIES:Arte,Concierto
ATTACH;FMTTYPE=image/jpeg:http://www.quierodisfrutar.mx/wp-content/uploads/2025/02/CARTELERA_2025_TEMPO1-ACTUALIZADA_page-0001.jpg
END:VEVENT
BEGIN:VEVENT
DTSTART;VALUE=DATE:20250415
DTEND;VALUE=DATE:20250501
DTSTAMP:20260424T082241
CREATED:20250415T182241Z
LAST-MODIFIED:20250415T182241Z
UID:52969-1744675200-1746057599@www.quierodisfrutar.mx
SUMMARY:Actividades culturales en Xalapa durante abril
DESCRIPTION:
URL:http://www.quierodisfrutar.mx/evento/actividades-culturales-en-xalapa-durante-abril/
CATEGORIES:Arte,Turismo,Variados
ATTACH;FMTTYPE=image/jpeg:http://www.quierodisfrutar.mx/wp-content/uploads/2025/04/WhatsApp-Image-2025-04-15-at-1.07.41-PM-7.jpeg
END:VEVENT
BEGIN:VEVENT
DTSTART;VALUE=DATE:20250421
DTEND;VALUE=DATE:20250501
DTSTAMP:20260424T082241
CREATED:20250421T182637Z
LAST-MODIFIED:20250421T191426Z
UID:52995-1745193600-1746057599@www.quierodisfrutar.mx
SUMMARY:Actividades culturales en Xalapa del 21 al 30 de abril
DESCRIPTION:
URL:http://www.quierodisfrutar.mx/evento/actividades-culturales-en-xalapa-del-23-al-27-de-abril/
CATEGORIES:Arte,Variados
ATTACH;FMTTYPE=image/jpeg:http://www.quierodisfrutar.mx/wp-content/uploads/2025/04/WhatsApp-Image-2025-04-21-at-12.39.56-PM.jpeg
END:VEVENT
BEGIN:VEVENT
DTSTART;VALUE=DATE:20250501
DTEND;VALUE=DATE:20250505
DTSTAMP:20260424T082241
CREATED:20250429T154120Z
LAST-MODIFIED:20250429T154120Z
UID:53044-1746057600-1746403199@www.quierodisfrutar.mx
SUMMARY:Voces de Haymarket: teatro para recordar el primero de mayo
DESCRIPTION:Una obra que revive la historia de quienes dieron la vida por los derechos laborales. \nEn el marco del Día Internacional de los Trabajadores\, el Colectivo Teatral Los Escondidos presenta Voces de Haymarket\, una obra que revive la lucha de los obreros anarquistas ejecutados tras la Revuelta de Haymarket en 1886\, evento que dio origen al primero de mayo como fecha conmemorativa para los movimientos laborales en todo el mundo. \nLa puesta en escena ofrece una inmersión dramática en los corazones y mentes de quienes enfrentaron la horca tras exigir la jornada laboral de ocho horas. Desde la horca\, la narrativa se despliega en reversa para reconstruir las vidas\, ideales y pasiones de los llamados “Mártires de Chicago”\, figuras clave en la historia del movimiento obrero. \nCon una mezcla de poesía\, testimonios históricos\, máscaras\, punk y canciones libertarias\, Voces de Haymarket confronta al espectador con la urgencia de no olvidar. Entre celdas frías y discursos encendidos\, la obra arrastra al público a una época que\, aunque parezca lejana\, sigue resonando en cada injusticia y en cada protesta. \nBajo la dirección de Dalia R. de Leo\, y con las actuaciones de Mariana Ruiz\, Ximena Márquez\, Ricardo Martínez\, Ricardo Sosa\, Edison Solis\, Néstor Cano Ríos y Luis Adrián Limón\, esta obra se presenta como un homenaje escénico a la memoria\, la resistencia y la búsqueda de justicia social. \nVoces de Haymarket se presentará del 1 al 4 de mayo en Trasmundo Teatro (Xalapeños Ilustres #171). La función especial del jueves 1º de mayo\, Día Internacional de los Trabajadores\, contará con una promoción de 2 boletos por $150. Las funciones continúan el viernes 2 a las 20:00 h\, sábado 3 a las 19:00 h y domingo 4 a las 18:00 h. El costo en preventa es de $100 entrada general y $80 para estudiantes (válido hasta un día antes de cada función). En taquilla\, el boleto tendrá un costo de $150. \nEl Colectivo Teatral Los Escondidos\, agrupación independiente con una década de trayectoria dedicada a reflexionar sobre la condición humana\, invita a este evento que recupera la memoria de quienes\, con su sacrificio\, abrieron paso a los derechos laborales que hoy seguimos defendiendo. Informes y boletos: WhatsApp 228 363 4401. Redes sociales: @ctlescondidos. No faltes. La historia sigue viva.
URL:http://www.quierodisfrutar.mx/evento/voces-de-haymarket-teatro-para-recordar-el-primero-de-mayo/
LOCATION:TRASMUNDO TEATRO\, Xalapeños Ilustres 171 casi 20 de nov\, Xalapa\, Veracruz\, 91000\, México
CATEGORIES:Arte,Teatro
ATTACH;FMTTYPE=image/jpeg:http://www.quierodisfrutar.mx/wp-content/uploads/2025/04/493216556_661170833203255_1901999710551913391_n.jpg
END:VEVENT
BEGIN:VEVENT
DTSTART;TZID=America/Mexico_City:20250504T170000
DTEND;TZID=America/Mexico_City:20250504T180000
DTSTAMP:20260424T082241
CREATED:20250502T152858Z
LAST-MODIFIED:20250502T152858Z
UID:53054-1746378000-1746381600@www.quierodisfrutar.mx
SUMMARY:Recital de Oud Egipcio
DESCRIPTION:
URL:http://www.quierodisfrutar.mx/evento/recital-de-oud-egipcio/
LOCATION:Museo de la Música Veracruzana Casa Doña Falla\, calle Salvador Díaz Mirón número 21\, Xalapa\, Veracruz\, 91000\, México
CATEGORIES:Arte,Concierto
ATTACH;FMTTYPE=image/jpeg:http://www.quierodisfrutar.mx/wp-content/uploads/2025/05/WhatsApp-Image-2025-05-02-at-10.26.22-AM.jpeg
END:VEVENT
BEGIN:VEVENT
DTSTART;VALUE=DATE:20250507
DTEND;VALUE=DATE:20250530
DTSTAMP:20260424T082241
CREATED:20250502T183329Z
LAST-MODIFIED:20250502T183329Z
UID:53060-1746576000-1748563199@www.quierodisfrutar.mx
SUMMARY:Los Grupos Artísticos UV con las mejores presentaciones
DESCRIPTION:La Dirección General de Difusión Cultural invita al público a disfrutar de una variada programación artística durante el mes de mayo\, con eventos pensados para todos los gustos y edades.\nDesde la elegancia de la música clásica hasta la energía del mariachi\, el jazz\, la trova y el bolero\, pasando por la alegría de la marimba veracruzana y una presentación de los inolvidables éxitos de Chicago\, esta guía de presentaciones celebra la diversidad musical con propuestas de alta calidad que enriquecen la vida cultural de nuestra comunidad. Toma nota de alguno de ellos:\n\nMiércoles 7 y jueves 8: Orquesta Universitaria de Música Popular\, en la Parroquia San José y la Sala Anexa de Tlaqná.\nLos días 8\,10\,11 y 22: Trío Chopin con programas de música clásica en diferentes sedes de la ciudad.\nJueves 8: Tardes de Xallitic con Tlen Huicani Maderas en el Barrio Mágico de Xallitic (19:00 h).\nDomingo 11: Especial del día de las madres con el Mariachi UV desde el Museo de Antropología de Xalapa (13:00 h).\nMiércoles 14: Esta noche suena a… Sergio Martínez con un programa de Grandes éxitos de Chicago en el Foro de Difusión Cultural UV (19:00 h).\nViernes 23: Concierto para la 30° edición FILU dedicada a Canadá y EUA con la Orquesta Sinfónica de Xalapa y Orbis Tertius en Tlaqná\, Centro Cultural (20:00 h).\nJueves 29: Trova y Bolero con Cutberto Navarro en el Museo San Rafael Guízar y Valencia (18:00 h)\n\nUno de los momentos más esperados será “Salsa en el Nido”\, este evento promete una noche inolvidable de ritmo y sabor latino\, con el talento de la Orquesta de Salsa UV y la Xalli Big Band\, en un ambiente para toda la familia. La cita es el sábado 17 de mayo a las 18:00 h en el Gimnasio Nido del Halcón. Los boletos están disponibles en línea empresasuv.comprarboletos.com y en Tienda UV.\nConsulta la programación completa en nuestras redes sociales y acompáñanos en todos los eventos.
URL:http://www.quierodisfrutar.mx/evento/los-grupos-artisticos-uv-con-las-mejores-presentaciones/
CATEGORIES:Arte,Concierto,Variados
ATTACH;FMTTYPE=image/jpeg:http://www.quierodisfrutar.mx/wp-content/uploads/2025/05/MAYO.jpg
END:VEVENT
BEGIN:VEVENT
DTSTART;TZID=America/Mexico_City:20250511T180000
DTEND;TZID=America/Mexico_City:20250511T190000
DTSTAMP:20260424T082241
CREATED:20250509T143826Z
LAST-MODIFIED:20250509T143826Z
UID:53087-1746986400-1746990000@www.quierodisfrutar.mx
SUMMARY:Nessun Dorma en la voz de Jair Torres Baizabal
DESCRIPTION:
URL:http://www.quierodisfrutar.mx/evento/nessun-dorma-en-la-voz-de-jair-torres-baizabal/
LOCATION:Centro Recreativo Xalapeño\, avenida Insurgentes esquina con Xalapeños Ilustres\, col. Centro\, Xalapa\, Veracruz\, México
CATEGORIES:Arte,Concierto
ATTACH;FMTTYPE=image/jpeg:http://www.quierodisfrutar.mx/wp-content/uploads/2025/05/494570394_1384380019424186_4724978943124180566_n.jpg
END:VEVENT
BEGIN:VEVENT
DTSTART;TZID=America/Mexico_City:20250516T180000
DTEND;TZID=America/Mexico_City:20250516T190000
DTSTAMP:20260424T082241
CREATED:20250509T144000Z
LAST-MODIFIED:20250509T144000Z
UID:53090-1747418400-1747422000@www.quierodisfrutar.mx
SUMMARY:Presentación editorial: Alguien muere en el teatro
DESCRIPTION:
URL:http://www.quierodisfrutar.mx/evento/presentacion-editorial-alguien-muere-en-el-teatro/
LOCATION:Museo de la Música Veracruzana\, Salvador Díaz Mirón 21\, Xalapa\, Veracruz\, 91000\, México
CATEGORIES:Arte,Lectura
ATTACH;FMTTYPE=image/jpeg:http://www.quierodisfrutar.mx/wp-content/uploads/2025/05/494570367_981964947086248_1835624765937442569_n.jpg
END:VEVENT
BEGIN:VEVENT
DTSTART;TZID=America/Mexico_City:20250517T173000
DTEND;TZID=America/Mexico_City:20250517T183000
DTSTAMP:20260424T082241
CREATED:20250516T185055Z
LAST-MODIFIED:20250516T185055Z
UID:53100-1747503000-1747506600@www.quierodisfrutar.mx
SUMMARY:GENTE MUNDANA (Free Jazz/Avant Garde/Electrónica)
DESCRIPTION:
URL:http://www.quierodisfrutar.mx/evento/gente-mundana-free-jazz-avant-garde-electronica/
LOCATION:Museo de la Música Veracruzana Casa Doña Falla\, calle Salvador Díaz Mirón número 21\, Xalapa\, Veracruz\, 91000\, México
CATEGORIES:Arte,Concierto
ATTACH;FMTTYPE=image/jpeg:http://www.quierodisfrutar.mx/wp-content/uploads/2025/05/WhatsApp-Image-2025-05-16-at-1.22.19-PM.jpeg
END:VEVENT
BEGIN:VEVENT
DTSTART;VALUE=DATE:20250519
DTEND;VALUE=DATE:20250525
DTSTAMP:20260424T082241
CREATED:20250506T232405Z
LAST-MODIFIED:20250506T232405Z
UID:53070-1747612800-1748131199@www.quierodisfrutar.mx
SUMMARY:Exposición Colectiva: Entre calles
DESCRIPTION:La Facultad de Artes Plásticas se complace en presentar Entre calles\, una exposición colectiva que reúne el trabajo de doce artistas visuales en formación\, cuyo punto de partida es la exploración del espacio urbano como escenario simbólico\, social y estético. \nLa calle\, entendida como un ente dinámico y compartido\, se convierte aquí en objeto de interpretación y diálogo. Cada propuesta artística —realizada mediante técnicas mixtas— ofrece una mirada singular sobre la vida urbana\, los vínculos comunitarios y la experiencia cotidiana del entorno. Esta muestra busca no sólo capturar la esencia visual de la ciudad\, sino también cuestionar nuestras formas de habitarla\, percibirla y representarla. \nLa exposición invita al espectador a reflexionar sobre su propia relación con el espacio público\, propiciando una interacción entre el arte\, la comunidad y la ciudad. En este cruce de miradas\, Entre calles propone una lectura sensible y crítica del contexto urbano contemporáneo. \nEl evento inaugural se llevará a cabo el lunes 19 de mayo de 2025 a las 19:00 horas en el Centro Recreativo Xalapeño\, ubicado en Xalapeños Ilustres 31\, Zona Centro\, Xalapa\, Veracruz. La exposición estará abierta al público del 19 al 24 de mayo de 2025. \nEsta muestra forma parte del compromiso de la comunidad artística universitaria con la creación contemporánea y el diálogo ciudadano a través del arte.
URL:http://www.quierodisfrutar.mx/evento/exposicion-colectiva-entre-calles/
LOCATION:Centro Recreativo Xalapeño\, avenida Insurgentes esquina con Xalapeños Ilustres\, col. Centro\, Xalapa\, Veracruz\, México
CATEGORIES:Arte,Exposiciones
ATTACH;FMTTYPE=image/jpeg:http://www.quierodisfrutar.mx/wp-content/uploads/2025/05/Cartel-Vertical.jpeg
END:VEVENT
BEGIN:VEVENT
DTSTART;TZID=America/Mexico_City:20250521T180000
DTEND;TZID=America/Mexico_City:20250521T190000
DTSTAMP:20260424T082241
CREATED:20250520T181050Z
LAST-MODIFIED:20250520T181050Z
UID:53111-1747850400-1747854000@www.quierodisfrutar.mx
SUMMARY:AIRES DE PRIMAVERA
DESCRIPTION:
URL:http://www.quierodisfrutar.mx/evento/aires-de-primavera/
LOCATION:Museo de la Música Veracruzana Casa Doña Falla\, calle Salvador Díaz Mirón número 21\, Xalapa\, Veracruz\, 91000\, México
CATEGORIES:Arte,Concierto
ATTACH;FMTTYPE=image/jpeg:http://www.quierodisfrutar.mx/wp-content/uploads/2025/05/WhatsApp-Image-2025-05-20-at-12.37.04-PM.jpeg
END:VEVENT
BEGIN:VEVENT
DTSTART;TZID=America/Mexico_City:20250523T200000
DTEND;TZID=America/Mexico_City:20250523T220000
DTSTAMP:20260424T082241
CREATED:20250510T235141Z
LAST-MODIFIED:20250510T235141Z
UID:53093-1748030400-1748037600@www.quierodisfrutar.mx
SUMMARY:Concierto de Gala con Raquel Fisk
DESCRIPTION:Concierto de Gala con Raquel Fisk \n \n\n\nEl 23 de mayo a las 20:00 h\, la Orquesta Filarmónica de Boca del Río se enorgullece en presentar a la talentosa pianista Raquel Fisk\, quien se unirá a nosotros como piano invitado en un programa espectacular.\n \n\n\n Programa:\n\n\nE. V. Dohnányi: Minutos Sinfónicos\n\n\nP. I. Tchaikovsky: Concierto para piano No. 1 en Si bemol\, Op. 23\n\n\nL. V. Beethoven: Sinfonía No. 7 en La mayor\, Op. 92\n\n\n Director: Jorge Mester\, Director Laureado.\n \n\n\n¡Una noche llena de emociones y música excepcional! \n\nBoletos disponibles en taquilla y en www.foroticket.com.\n 
URL:http://www.quierodisfrutar.mx/evento/concierto-de-gala-con-raquel-fisk/
LOCATION:Foro Boca\, Blvd. Vicente Fox Quesada\, col. Pescadores\, Boca del Río\, Veracruz\, 94290\, México
CATEGORIES:Arte,Concierto
ATTACH;FMTTYPE=image/jpeg:http://www.quierodisfrutar.mx/wp-content/uploads/2025/05/492705326_1108005711353180_6085878581919257752_n.jpg
END:VEVENT
BEGIN:VEVENT
DTSTART;TZID=America/Mexico_City:20250529T180000
DTEND;TZID=America/Mexico_City:20250529T190000
DTSTAMP:20260424T082241
CREATED:20250502T154948Z
LAST-MODIFIED:20250502T154948Z
UID:53057-1748541600-1748545200@www.quierodisfrutar.mx
SUMMARY:Recital de piano y flauta: Un paseo por Francia
DESCRIPTION:
URL:http://www.quierodisfrutar.mx/evento/recital-de-piano-y-flauta-un-paseo-por-francia/
LOCATION:Museo de la Música Veracruzana Casa Doña Falla\, calle Salvador Díaz Mirón número 21\, Xalapa\, Veracruz\, 91000\, México
CATEGORIES:Arte,Concierto
ATTACH;FMTTYPE=image/jpeg:http://www.quierodisfrutar.mx/wp-content/uploads/2025/05/WhatsApp-Image-2025-05-02-at-10.47.49-AM.jpeg
END:VEVENT
BEGIN:VEVENT
DTSTART;TZID=America/Mexico_City:20250529T190000
DTEND;TZID=America/Mexico_City:20250529T210000
DTSTAMP:20260424T082241
CREATED:20250529T203921Z
LAST-MODIFIED:20250529T203921Z
UID:53127-1748545200-1748552400@www.quierodisfrutar.mx
SUMMARY:Se inaugura este jueves “Inventario”\, de la artista visual Mariana Del Campo
DESCRIPTION:Se inaugura este jueves “Inventario”\, de la artista visual Mariana Del Campo \n 
URL:http://www.quierodisfrutar.mx/evento/se-inaugura-este-jueves-inventario-de-la-artista-visual-mariana-del-campo/
CATEGORIES:Arte
ATTACH;FMTTYPE=image/jpeg:http://www.quierodisfrutar.mx/wp-content/uploads/2025/05/WhatsApp-Image-2025-05-29-at-2.37.30-PM-1.jpeg
END:VEVENT
BEGIN:VEVENT
DTSTART;VALUE=DATE:20250530
DTEND;VALUE=DATE:20250816
DTSTAMP:20260424T082241
CREATED:20250531T182052Z
LAST-MODIFIED:20250531T182052Z
UID:53133-1748563200-1755302399@www.quierodisfrutar.mx
SUMMARY:Historias sobre el poder generativo y destructivo de la serpiente emplumada
DESCRIPTION:
URL:http://www.quierodisfrutar.mx/evento/historias-sobre-el-poder-generativo-y-destructivo-de-la-serpiente-emplumada/
LOCATION:Museo de Antropología de Xalapa\, Av. Xalapa\, Unidad Magisterial\, Xalapa 
CATEGORIES:Arte,Exposiciones
ATTACH;FMTTYPE=image/jpeg:http://www.quierodisfrutar.mx/wp-content/uploads/2025/05/WhatsApp-Image-2025-05-31-at-12.04.34-PM-1.jpeg
END:VEVENT
BEGIN:VEVENT
DTSTART;TZID=America/Mexico_City:20250531T200000
DTEND;TZID=America/Mexico_City:20250531T210000
DTSTAMP:20260424T082241
CREATED:20250516T232311Z
LAST-MODIFIED:20250516T232311Z
UID:53103-1748721600-1748725200@www.quierodisfrutar.mx
SUMMARY:Neuro Prog Rock Sessions
DESCRIPTION:
URL:http://www.quierodisfrutar.mx/evento/neuro-prog-rock-sessions/
LOCATION:La Tasca Xalapa\, Xicoténcatl 76\, Xalapa\, Xalapa\, 91000\, México
CATEGORIES:Arte
ATTACH;FMTTYPE=image/jpeg:http://www.quierodisfrutar.mx/wp-content/uploads/2025/05/WhatsApp-Image-2025-05-16-at-5.56.28-PM.jpeg
END:VEVENT
END:VCALENDAR