BEGIN:VCALENDAR
VERSION:2.0
PRODID:-//Quiero Disfrutar - ECPv6.15.1.1//NONSGML v1.0//EN
CALSCALE:GREGORIAN
METHOD:PUBLISH
X-WR-CALNAME:Quiero Disfrutar
X-ORIGINAL-URL:http://www.quierodisfrutar.mx
X-WR-CALDESC:Eventos para Quiero Disfrutar
REFRESH-INTERVAL;VALUE=DURATION:PT1H
X-Robots-Tag:noindex
X-PUBLISHED-TTL:PT1H
BEGIN:VTIMEZONE
TZID:America/Mexico_City
BEGIN:DAYLIGHT
TZOFFSETFROM:-0600
TZOFFSETTO:-0500
TZNAME:CDT
DTSTART:20250406T080000
END:DAYLIGHT
BEGIN:STANDARD
TZOFFSETFROM:-0500
TZOFFSETTO:-0600
TZNAME:CST
DTSTART:20251026T070000
END:STANDARD
END:VTIMEZONE
BEGIN:VEVENT
DTSTART;VALUE=DATE:20250530
DTEND;VALUE=DATE:20250816
DTSTAMP:20260424T045322
CREATED:20250531T182052Z
LAST-MODIFIED:20250531T182052Z
UID:53133-1748563200-1755302399@www.quierodisfrutar.mx
SUMMARY:Historias sobre el poder generativo y destructivo de la serpiente emplumada
DESCRIPTION:
URL:http://www.quierodisfrutar.mx/evento/historias-sobre-el-poder-generativo-y-destructivo-de-la-serpiente-emplumada/
LOCATION:Museo de Antropología de Xalapa\, Av. Xalapa\, Unidad Magisterial\, Xalapa 
CATEGORIES:Arte,Exposiciones
ATTACH;FMTTYPE=image/jpeg:http://www.quierodisfrutar.mx/wp-content/uploads/2025/05/WhatsApp-Image-2025-05-31-at-12.04.34-PM-1.jpeg
END:VEVENT
BEGIN:VEVENT
DTSTART;TZID=America/Mexico_City:20250704T203000
DTEND;TZID=America/Mexico_City:20250704T223000
DTSTAMP:20260424T045322
CREATED:20250624T184701Z
LAST-MODIFIED:20250624T184701Z
UID:53296-1751661000-1751668200@www.quierodisfrutar.mx
SUMMARY:Gran Noche de Gala con Aida Cuevas y Grupos UV
DESCRIPTION:Fiesta Eterna\, Aida Cuevas canta al Divo de Juárez \nPor primera vez en la mejor sala de conciertos del estado\, Tlaqná\, Centro Cultural\, la icónica Aida Cuevas\, ganadora del Grammy y considerada como la máxima exponente de la música mexicana\, se presenta con un espectáculo sin precedentes: Fiesta Eterna\, un emotivo homenaje a su entrañable amigo y mentor\, Juan Gabriel.\n\nAida Cuevas estará acompañada por el reconocido Mariachi UV y la espectacular Orquesta Universitaria de Música Popular\, dos agrupaciones emblemáticas de la Universidad Veracruzana que combinan excelencia musical con una profunda pasión por nuestras raíces.\n\nEn esta noche de gala\, el escenario se llenará de vida\, nostalgia y orgullo mexicano con los más grandes éxitos del Divo de Juárez. Más de 70 artistas en escena darán vida a una noche que promete tocar el corazón del público y celebrar la grandeza de nuestra música mexicana.\n\nVive esta experiencia única con una de las voces más queridas de México\, en un concierto lleno de tradición\, sentimiento y amor por la música ranchera.\n\nLa cita será el próximo viernes 4 de julio a las 20:30 horas en la Sala Principal de Tlaqná\, los boletos están a la venta en las Tiendas UV (Zona UV y Museo de Antropología de Xalapa) o en línea: https://empresasuv.comprarboletos.com/
URL:http://www.quierodisfrutar.mx/evento/gran-noche-de-gala-con-aida-cuevas-y-grupos-uv/
LOCATION:Sala de conciertos Tlaqná\, Centro Cultural\, Xalapa
CATEGORIES:Arte,Concierto
ATTACH;FMTTYPE=image/jpeg:http://www.quierodisfrutar.mx/wp-content/uploads/2025/06/Juan-Gabriel-ACMUVOUMP.jpg
END:VEVENT
BEGIN:VEVENT
DTSTART;VALUE=DATE:20250713
DTEND;VALUE=DATE:20250804
DTSTAMP:20260424T045322
CREATED:20250711T160650Z
LAST-MODIFIED:20250711T160650Z
UID:53371-1752364800-1754265599@www.quierodisfrutar.mx
SUMMARY:Eventos culturales en Trasmundo Teatro
DESCRIPTION:
URL:http://www.quierodisfrutar.mx/evento/eventos-culturales-en-trasmundo-teatro/
LOCATION:TRASMUNDO TEATRO\, Xalapeños Ilustres 171 casi 20 de nov\, Xalapa\, Veracruz\, 91000\, México
CATEGORIES:Arte,Turismo
ATTACH;FMTTYPE=image/jpeg:http://www.quierodisfrutar.mx/wp-content/uploads/2025/07/WhatsApp-Image-2025-07-11-at-10.52.21-AM-1.jpeg
END:VEVENT
BEGIN:VEVENT
DTSTART;TZID=America/Mexico_City:20250719T100000
DTEND;TZID=America/Mexico_City:20250719T190000
DTSTAMP:20260424T045322
CREATED:20250610T170028Z
LAST-MODIFIED:20250610T170028Z
UID:53224-1752919200-1752951600@www.quierodisfrutar.mx
SUMMARY:DIVA FEST 2025
DESCRIPTION:¡Celebramos 11 años de pedaleo y lucha por la movilidad en Xalapa!\nA los medios de comunicación y periodistas comprometidos con la transformación urbana: \nLa Colectiva Ciclista Divas Urban Bike cumple 11 años de trabajo ininterrumpido promoviendo:\n Movilidad segura e inclusiva\n Empoderamiento de mujeres y disidencias\n Incidencia en políticas públicas \nCon una coordinación 100% mujeres\, hemos logrado:\n Primera rodada nocturna con perspectiva de género\n Fomentamos la no violencia y la educación vial\n Talleres de mecánica para mujeres\n Formamos parte de la Coalición de Movilidad Segura Veracruz \nPróximamente más detalles de las actividades gratuitas dentro del marco de nuestro aniversario. Les invitamos a compartir en sus notas\n NOTA  https://www.facebook.com/share/p/19Ao4WDX6T/ \n«Nuestro mayor logro es ver cada día más mujeres pedaleando sin miedo por la ciudad” \nContacto para coberturas: divasurbanbike@gmail.com / 2281203264
URL:http://www.quierodisfrutar.mx/evento/diva-fest-2025/
CATEGORIES:Arte,Turismo
ATTACH;FMTTYPE=image/png:http://www.quierodisfrutar.mx/wp-content/uploads/2025/06/495269801_23905979369098004_8797195880293349478_n.png
END:VEVENT
BEGIN:VEVENT
DTSTART;TZID=America/Mexico_City:20250719T110000
DTEND;TZID=America/Mexico_City:20250719T110000
DTSTAMP:20260424T045322
CREATED:20250711T161136Z
LAST-MODIFIED:20250711T161136Z
UID:53375-1752922800-1752922800@www.quierodisfrutar.mx
SUMMARY:Entrega de Premios al Mérito Ambiental 2025
DESCRIPTION:
URL:http://www.quierodisfrutar.mx/evento/entrega-de-premios-al-merito-ambiental-2025/
LOCATION:Auditorio del Edificio JURISTA\, Blvd. Europa #101\, Monte Magno\, Xalapa\, Veracruz\, México
CATEGORIES:Arte
ATTACH;FMTTYPE=image/jpeg:http://www.quierodisfrutar.mx/wp-content/uploads/2025/07/WhatsApp-Image-2025-07-11-at-10.52.21-AM-2.jpeg
END:VEVENT
BEGIN:VEVENT
DTSTART;VALUE=DATE:20250722
DTEND;VALUE=DATE:20250728
DTSTAMP:20260424T045322
CREATED:20250722T160050Z
LAST-MODIFIED:20250722T160050Z
UID:53413-1753142400-1753660799@www.quierodisfrutar.mx
SUMMARY:Actividades culturales en Xalapa (del 22 al 27 de julio)
DESCRIPTION:
URL:http://www.quierodisfrutar.mx/evento/actividades-culturales-en-xalapa-del-22-al-27-de-julio/
CATEGORIES:Arte,Variados
ATTACH;FMTTYPE=image/jpeg:http://www.quierodisfrutar.mx/wp-content/uploads/2025/07/WhatsApp-Image-2025-07-22-at-10.53.07-AM-1.jpeg
END:VEVENT
BEGIN:VEVENT
DTSTART;TZID=America/Mexico_City:20250723T080000
DTEND;TZID=America/Mexico_City:20250727T170000
DTSTAMP:20260424T045322
CREATED:20250711T162004Z
LAST-MODIFIED:20250711T162004Z
UID:53379-1753257600-1753635600@www.quierodisfrutar.mx
SUMMARY:Por mi general Zapata
DESCRIPTION:
URL:http://www.quierodisfrutar.mx/evento/por-mi-general-zapata/
CATEGORIES:Arte,Teatro
ATTACH;FMTTYPE=image/jpeg:http://www.quierodisfrutar.mx/wp-content/uploads/2025/07/WhatsApp-Image-2025-07-11-at-10.52.20-AM.jpeg
END:VEVENT
END:VCALENDAR