BEGIN:VCALENDAR
VERSION:2.0
PRODID:-//Quiero Disfrutar - ECPv6.15.1.1//NONSGML v1.0//EN
CALSCALE:GREGORIAN
METHOD:PUBLISH
X-WR-CALNAME:Quiero Disfrutar
X-ORIGINAL-URL:http://www.quierodisfrutar.mx
X-WR-CALDESC:Eventos para Quiero Disfrutar
REFRESH-INTERVAL;VALUE=DURATION:PT1H
X-Robots-Tag:noindex
X-PUBLISHED-TTL:PT1H
BEGIN:VTIMEZONE
TZID:America/Mexico_City
BEGIN:DAYLIGHT
TZOFFSETFROM:-0600
TZOFFSETTO:-0500
TZNAME:CDT
DTSTART:20250406T080000
END:DAYLIGHT
BEGIN:STANDARD
TZOFFSETFROM:-0500
TZOFFSETTO:-0600
TZNAME:CST
DTSTART:20251026T070000
END:STANDARD
END:VTIMEZONE
BEGIN:VEVENT
DTSTART;VALUE=DATE:20250821
DTEND;VALUE=DATE:20250901
DTSTAMP:20260424T013606
CREATED:20250822T151442Z
LAST-MODIFIED:20250822T151442Z
UID:53616-1755734400-1756684799@www.quierodisfrutar.mx
SUMMARY:Tercer Festival Teatro Coatepec 2025
DESCRIPTION:
URL:http://www.quierodisfrutar.mx/evento/tercer-festival-teatro-coatepec-2025/
LOCATION:Centro Cultural de Coatepec\, Jimenez del Campillo No. 4\, Coatepec\, Veracruz\, 91500\, México
CATEGORIES:Arte,Teatro,Variados
ATTACH;FMTTYPE=image/jpeg:http://www.quierodisfrutar.mx/wp-content/uploads/2025/08/WhatsApp-Image-2025-08-22-at-10.09.29-AM.jpeg
END:VEVENT
BEGIN:VEVENT
DTSTART;TZID=America/Mexico_City:20250904T170000
DTEND;TZID=America/Mexico_City:20250904T180000
DTSTAMP:20260424T013606
CREATED:20250902T174030Z
LAST-MODIFIED:20250902T174030Z
UID:53689-1757005200-1757008800@www.quierodisfrutar.mx
SUMMARY:Lectura de Poesía
DESCRIPTION:
URL:http://www.quierodisfrutar.mx/evento/lectura-de-poesia/
LOCATION:Museo de la Música Veracruzana Casa Doña Falla\, calle Salvador Díaz Mirón número 21\, Xalapa\, Veracruz\, 91000\, México
CATEGORIES:Arte,Lectura
ATTACH;FMTTYPE=image/jpeg:http://www.quierodisfrutar.mx/wp-content/uploads/2025/09/WhatsApp-Image-2025-09-02-at-10.41.21-AM.jpeg
END:VEVENT
BEGIN:VEVENT
DTSTART;TZID=America/Mexico_City:20250906T170000
DTEND;TZID=America/Mexico_City:20250906T180000
DTSTAMP:20260424T013606
CREATED:20250902T174147Z
LAST-MODIFIED:20250902T174147Z
UID:53692-1757178000-1757181600@www.quierodisfrutar.mx
SUMMARY:VIII Ciclo de Guitarra
DESCRIPTION:
URL:http://www.quierodisfrutar.mx/evento/viii-ciclo-de-guitarra/
LOCATION:Museo de la Música Veracruzana Casa Doña Falla\, calle Salvador Díaz Mirón número 21\, Xalapa\, Veracruz\, 91000\, México
CATEGORIES:Arte,Música y Danza
ATTACH;FMTTYPE=image/jpeg:http://www.quierodisfrutar.mx/wp-content/uploads/2025/09/WhatsApp-Image-2025-09-02-at-10.41.21-AM-1.jpeg
END:VEVENT
BEGIN:VEVENT
DTSTART;TZID=America/Mexico_City:20250907T170000
DTEND;TZID=America/Mexico_City:20250907T180000
DTSTAMP:20260424T013606
CREATED:20250902T174300Z
LAST-MODIFIED:20250902T174300Z
UID:53695-1757264400-1757268000@www.quierodisfrutar.mx
SUMMARY:Recital de Guitarra
DESCRIPTION:
URL:http://www.quierodisfrutar.mx/evento/recital-de-guitarra/
LOCATION:Museo de la Música Veracruzana Casa Doña Falla\, calle Salvador Díaz Mirón número 21\, Xalapa\, Veracruz\, 91000\, México
CATEGORIES:Arte,Concierto
ATTACH;FMTTYPE=image/jpeg:http://www.quierodisfrutar.mx/wp-content/uploads/2025/09/WhatsApp-Image-2025-09-02-at-10.41.22-AM.jpeg
END:VEVENT
BEGIN:VEVENT
DTSTART;TZID=America/Mexico_City:20250912T180000
DTEND;TZID=America/Mexico_City:20250912T190000
DTSTAMP:20260424T013606
CREATED:20250905T151629Z
LAST-MODIFIED:20250905T151629Z
UID:53731-1757700000-1757703600@www.quierodisfrutar.mx
SUMMARY:Homenaje Póstumo al Dr. José Luis Arauz Aguilar
DESCRIPTION:
URL:http://www.quierodisfrutar.mx/evento/homenaje-postumo-al-dr-jose-luis-arauz-aguilar/
LOCATION:Museo de la Música Veracruzana Casa Doña Falla\, calle Salvador Díaz Mirón número 21\, Xalapa\, Veracruz\, 91000\, México
CATEGORIES:Arte
ATTACH;FMTTYPE=image/jpeg:http://www.quierodisfrutar.mx/wp-content/uploads/2025/09/WhatsApp-Image-2025-09-05-at-9.07.55-AM.jpeg
END:VEVENT
BEGIN:VEVENT
DTSTART;TZID=America/Mexico_City:20250912T200000
DTEND;TZID=America/Mexico_City:20250912T213000
DTSTAMP:20260424T013606
CREATED:20250911T153532Z
LAST-MODIFIED:20250911T153532Z
UID:53750-1757707200-1757712600@www.quierodisfrutar.mx
SUMMARY:Programa II con el violinista español Francisco Fullana
DESCRIPTION:
URL:http://www.quierodisfrutar.mx/evento/programa-ii-con-el-violinista-espanol-francisco-fullana/
LOCATION:Foro Boca\, Blvd. Vicente Fox Quesada\, col. Pescadores\, Boca del Río\, Veracruz\, 94290\, México
CATEGORIES:Arte,Concierto
ATTACH;FMTTYPE=image/jpeg:http://www.quierodisfrutar.mx/wp-content/uploads/2025/09/WhatsApp-Image-2025-09-11-at-10.05.56-AM.jpeg
END:VEVENT
BEGIN:VEVENT
DTSTART;VALUE=DATE:20250923
DTEND;VALUE=DATE:20250929
DTSTAMP:20260424T013606
CREATED:20250906T154857Z
LAST-MODIFIED:20250906T154857Z
UID:53737-1758585600-1759103999@www.quierodisfrutar.mx
SUMMARY:15° Festival Emilio Carballido
DESCRIPTION:
URL:http://www.quierodisfrutar.mx/evento/15-festival-emilio-carballido/
CATEGORIES:Arte,Turismo,Variados
ATTACH;FMTTYPE=image/jpeg:http://www.quierodisfrutar.mx/wp-content/uploads/2025/09/quiero-disfrutar.jpeg
END:VEVENT
BEGIN:VEVENT
DTSTART;VALUE=DATE:20250926
DTEND;VALUE=DATE:20251004
DTSTAMP:20260424T013606
CREATED:20250926T190636Z
LAST-MODIFIED:20250926T190636Z
UID:53829-1758844800-1759535999@www.quierodisfrutar.mx
SUMMARY:Actividades culturales en Xalapa
DESCRIPTION:
URL:http://www.quierodisfrutar.mx/evento/actividades-culturales-en-xalapa-15/
CATEGORIES:Arte,Variados
ATTACH;FMTTYPE=image/jpeg:http://www.quierodisfrutar.mx/wp-content/uploads/2025/09/WhatsApp-Image-2025-09-26-at-2.03.02-PM.jpeg
END:VEVENT
END:VCALENDAR