BEGIN:VCALENDAR
VERSION:2.0
PRODID:-//Quiero Disfrutar - ECPv6.15.1.1//NONSGML v1.0//EN
CALSCALE:GREGORIAN
METHOD:PUBLISH
X-ORIGINAL-URL:http://www.quierodisfrutar.mx
X-WR-CALDESC:Eventos para Quiero Disfrutar
REFRESH-INTERVAL;VALUE=DURATION:PT1H
X-Robots-Tag:noindex
X-PUBLISHED-TTL:PT1H
BEGIN:VTIMEZONE
TZID:America/Mexico_City
BEGIN:DAYLIGHT
TZOFFSETFROM:-0600
TZOFFSETTO:-0500
TZNAME:CDT
DTSTART:20260405T080000
END:DAYLIGHT
BEGIN:STANDARD
TZOFFSETFROM:-0500
TZOFFSETTO:-0600
TZNAME:CST
DTSTART:20261025T070000
END:STANDARD
END:VTIMEZONE
BEGIN:VEVENT
DTSTART;TZID=America/Mexico_City:20260312T180000
DTEND;TZID=America/Mexico_City:20260312T190000
DTSTAMP:20260423T152740
CREATED:20260310T183614Z
LAST-MODIFIED:20260310T183614Z
UID:54329-1773338400-1773342000@www.quierodisfrutar.mx
SUMMARY:Exposición Colectiva de Borbado
DESCRIPTION:
URL:http://www.quierodisfrutar.mx/evento/exposicion-colectiva-de-borbado/
LOCATION:Museo de Antropología de Xalapa\, Av. Xalapa\, Unidad Magisterial\, Xalapa 
CATEGORIES:Arte,Exposiciones
ATTACH;FMTTYPE=image/jpeg:http://www.quierodisfrutar.mx/wp-content/uploads/2026/03/WhatsApp-Image-2026-03-10-at-12.29.11-PM-1.jpeg
END:VEVENT
BEGIN:VEVENT
DTSTART;TZID=America/Mexico_City:20260314T180000
DTEND;TZID=America/Mexico_City:20260314T190000
DTSTAMP:20260423T152740
CREATED:20260313T192725Z
LAST-MODIFIED:20260313T192725Z
UID:54336-1773511200-1773514800@www.quierodisfrutar.mx
SUMMARY:Sonetos y poemas de Sor Juana Inés de la Cruz
DESCRIPTION:
URL:http://www.quierodisfrutar.mx/evento/sonetos-y-poemas-de-sor-juana-ines-de-la-cruz/
LOCATION:Centro Cultural de Coatepec\, Jimenez del Campillo No. 4\, Coatepec\, Veracruz\, 91500\, México
CATEGORIES:Arte
ATTACH;FMTTYPE=image/jpeg:http://www.quierodisfrutar.mx/wp-content/uploads/2026/03/WhatsApp-Image-2026-03-13-at-11.51.58-AM.jpeg
END:VEVENT
BEGIN:VEVENT
DTSTART;TZID=America/Mexico_City:20260315T130000
DTEND;TZID=America/Mexico_City:20260315T140000
DTSTAMP:20260423T152740
CREATED:20260303T182256Z
LAST-MODIFIED:20260303T182256Z
UID:54324-1773579600-1773583200@www.quierodisfrutar.mx
SUMMARY:El Coro de la Universidad Veracruzana celebra la música escrita por mujeres el próximo domingo 15 de marzo
DESCRIPTION:La Universidad Veracruzana\, a través de la Dirección General de Difusión Cultural UV y el Coro UV\, han preparado un programa especial como parte del inicio de su Temporada de Conciertos Especiales 2026. El próximo domingo 15 de marzo a las 13:00 horas\, desde la Sala Anexa de Tlaqná\, el coro presentará “Mucho Corazón”\, un recorrido musical que celebra la creación hecha por mujeres a lo largo de la historia.\n\nEl concierto propone un viaje sonoro que atraviesa siglos y fronteras. Desde la mística medieval de Hildegard von Bingen (Alemania)\, una de las primeras compositoras documentadas en la historia de la música occidental\, pasando por figuras fundamentales del Renacimiento y Barroco como Maddalena Casulana (Italia) —la primera mujer en publicar música con su nombre—\, Barbara Strozzi (Italia) e Isabella Leonarda (Italia)\, hasta llegar a voces latinoamericanas que han marcado la sensibilidad popular como Isolina Carrillo (Cuba) y Emma Elena Valdelamar (México).\n\nEl programa también da espacio a creadoras contemporáneas de distintas latitudes\, entre ellas Modesta Bor (Venezuela)\, Anne Cederberg-Orreteg (Suecia)\, Beatriz Corona (Cuba)\, Eva Ugalde (España)\, Christine Donkin (Canadá)\, Abbie Betinis (EEUU)\, Mónica Pacheco (Argentina)\, Diana Syrse (México) y Wilma Alba Cal (Cuba). Sus obras reflejan distintas estéticas\, idiomas y contextos culturales\, pero comparten una misma fuerza expresiva: la de una creación que ha abierto caminos en la música coral.\n\n“Mucho Corazón” no es solo un concierto\, es una invitación a redescubrir la historia musical desde otra perspectiva\, través de la música escrita por mujeres que\, durante siglos\, han creado\, resistido e innovado. El Coro UV ofrece así un programa diverso y emotivo que transita entre lo sacro y lo profano\, lo histórico y lo contemporáneo\, lo íntimo y lo conmovedor.\nEl Coro UV es dirigido por Jorge Cózatl y\, para este programa especial\, contará con la participación de la directora invitada Wilmia Verrier\, reconocida por su trabajo en la formación y dirección coral\, así como por su compromiso con la difusión del repertorio contemporáneo y latinoamericano.\n\nLa cita es este domingo 15 de marzo a las 13:00 horas en la Sala Anexa de Tlaqná\, Centro Cultural.\n\nLos boletos ya se encuentran a la venta en Tienda UV y en línea a través de empresasuv.comprarboletos.com\, con costos de $140 y $160 pesos. Al comprar directamente en las Tiendas UV se ofrecerá un 20% de descuento para los estudiantes UV con credencial vigente y personas afiliadas al INAPAM.\nExcelente oportunidad para dejarse envolver por la fuerza\, la sensibilidad y la historia de la música escrita por mujeres.
URL:http://www.quierodisfrutar.mx/evento/el-coro-de-la-universidad-veracruzana-celebra-la-musica-escrita-por-mujeres-el-proximo-domingo-15-de-marzo/
LOCATION:Tlaqná Centro Cultural\, Cultura Veracruzana #1 Col. Emiliano Zapata\, Xalapa\, Veracruz\, México
CATEGORIES:Arte,Concierto
ATTACH;FMTTYPE=image/jpeg:http://www.quierodisfrutar.mx/wp-content/uploads/2026/03/mucho-corazon-scaled.jpg
END:VEVENT
BEGIN:VEVENT
DTSTART;TZID=America/Mexico_City:20260321T120000
DTEND;TZID=America/Mexico_City:20260321T170000
DTSTAMP:20260423T152740
CREATED:20260319T193059Z
LAST-MODIFIED:20260319T193059Z
UID:54346-1774094400-1774112400@www.quierodisfrutar.mx
SUMMARY:"ANCESTROS CAFE CULTURAL"\, UN ESPACIO PARA ARTISTAS Y TALLERISTAS\, ABRE SUS PUERTAS EL 21 DE MARZO.
DESCRIPTION:Con la presentación musical del grupo Chéjere Sound\, el foro cultural y cafetería “Ancestros Café Cultural” iniciará operaciones el próximo sábado 21 de marzo a las 12:00 horas\, ubicado sobre Calle Rojano 20\, en el corazón de la ciudad Xalapa. La entrada será libre. \n«Ancestros Café Cultural surge de la posibilidad de juntar nuestra pasión por el trabajo comunitario con diversas actividades culturales\, artísticas y educativas a través de un foro cultural\, en donde el café funciona como facilitador para fomentar el dialogo entre los asistentes»\, declaró Jorge Reza\, fundador de Ancestros Café y uno de los cuatro integrantes que encabezan este proyecto colectivo. \nLas actividades que albergara el recinto serán proporcionales a la cantidad de personas interesadas en ocuparlo para darse a conocer: “buscamos literatos\, poetas\, antropólogos\, sociólogos; talleristas que deseen compartir su conocimiento en pintura\, escultura\, fotografía; o personas que buscan un espacio para proyectar películas propias o independientes. Aquí todos son bienvenidos”\, agregó Jorge. \nPor último\, Jorge profundizó en la importancia de este tipo de espacios a lo largo de la ciudad: “Xalapa particularmente alberga una gran cantidad de artistas\, la mayoría estudiantes\, que buscan espacios donde generar experiencia o dar a conocer su trabajo\, paradójicamente\, aunque existen muchos espacios como este\, siguen sin ser suficientes\, por ello\, creemos que estamos respondiendo a una necesidad que sigue aumentando exponencialmente”. \nEl foro será de uso gratuito para artistas y talleristas y podrás encontrar la cartelera cultural de “Ancestros Café Cultural” a partir del viernes 3 de abril en Calle Rojano 20 o a través de sus redes sociales.
URL:http://www.quierodisfrutar.mx/evento/ancestros-cafe-cultural-un-espacio-para-artistas-y-talleristas-abre-sus-puertas-el-21-de-marzo/
CATEGORIES:Arte,Talleres,Talleres y cursos
ATTACH;FMTTYPE=image/jpeg:http://www.quierodisfrutar.mx/wp-content/uploads/2026/03/IMG-20260316-WA0007-scaled.jpg
END:VEVENT
BEGIN:VEVENT
DTSTART;TZID=America/Mexico_City:20260328T120000
DTEND;TZID=America/Mexico_City:20260329T190000
DTSTAMP:20260423T152740
CREATED:20260328T184818Z
LAST-MODIFIED:20260328T184818Z
UID:54360-1774699200-1774810800@www.quierodisfrutar.mx
SUMMARY:Programa Artístico del Festival del Taco 2026 en Xalapa
DESCRIPTION:  \nTruque de libros por parte de fomento a la lectura.
URL:http://www.quierodisfrutar.mx/evento/programa-artistico-del-festival-del-taco-2026-en-xalapa/
LOCATION:Paseo de los lagos\, Paseo de Los Lagos\, Xalapa\, Veracruz\, 91000\, México
CATEGORIES:Arte,Lectura,Variados
ATTACH;FMTTYPE=image/jpeg:http://www.quierodisfrutar.mx/wp-content/uploads/2026/03/656095379_849183088195715_7913364993702391289_n.jpg
END:VEVENT
END:VCALENDAR