BEGIN:VCALENDAR
VERSION:2.0
PRODID:-//Quiero Disfrutar - ECPv6.15.1.1//NONSGML v1.0//EN
CALSCALE:GREGORIAN
METHOD:PUBLISH
X-WR-CALNAME:Quiero Disfrutar
X-ORIGINAL-URL:http://www.quierodisfrutar.mx
X-WR-CALDESC:Eventos para Quiero Disfrutar
REFRESH-INTERVAL;VALUE=DURATION:PT1H
X-Robots-Tag:noindex
X-PUBLISHED-TTL:PT1H
BEGIN:VTIMEZONE
TZID:America/Mexico_City
BEGIN:DAYLIGHT
TZOFFSETFROM:-0600
TZOFFSETTO:-0500
TZNAME:CDT
DTSTART:20260405T080000
END:DAYLIGHT
BEGIN:STANDARD
TZOFFSETFROM:-0500
TZOFFSETTO:-0600
TZNAME:CST
DTSTART:20261025T070000
END:STANDARD
END:VTIMEZONE
BEGIN:VEVENT
DTSTART;VALUE=DATE:20260430
DTEND;VALUE=DATE:20260503
DTSTAMP:20260423T152026
CREATED:20260412T000953Z
LAST-MODIFIED:20260412T000953Z
UID:54443-1777507200-1777766399@www.quierodisfrutar.mx
SUMMARY:Cine + Música en vivo: una experiencia que rompe lo real
DESCRIPTION: Cine + Música en vivo: una experiencia que rompe lo real. \nDel 30 de abril al 2 de mayo\, AUR4 te invita a sumergirte en tres noches de expresionismo alemán\, cine mudo y tensión psicológica\, acompañadas de una propuesta sonora electrónica en vivo.\n Programa:\n 30 de abril – El gabinete del doctor Caligari\, Paranoia\, sueños torcidos y una mente que se desmorona.\n 1 de mayo – Nosferatu\, La sombra del vampiro se expande lento\, inevitable.\n 2 de mayo – Metrópolis\, Lujo\, máquinas y una grieta en el orden establecido. \n\n Lugar: Artífice Foro Cultural (Av. Américas 73) Ubicación\n Dirección sonora: AUR4 (electrónica)\n 19:00 h\n $120 general\n Reservaciones: 228 183 0056 o en taquilla directamente\n https://linktr.ee/theaura
URL:http://www.quierodisfrutar.mx/evento/cine-musica-en-vivo-una-experiencia-que-rompe-lo-real/
CATEGORIES:Arte,Cine,Concierto
ATTACH;FMTTYPE=image/jpeg:http://www.quierodisfrutar.mx/wp-content/uploads/2026/04/art4.jpeg
END:VEVENT
BEGIN:VEVENT
DTSTART;TZID=America/Mexico_City:20260503T160000
DTEND;TZID=America/Mexico_City:20260503T180000
DTSTAMP:20260423T152026
CREATED:20260417T200204Z
LAST-MODIFIED:20260417T200204Z
UID:54449-1777824000-1777831200@www.quierodisfrutar.mx
SUMMARY:Xalapa Baila anuncia su 17ava edición organizada por el maestro Carlos González
DESCRIPTION:El maestro Carlos Gonzálaez ya dio a conocer la convocatoria de Xalapa Baila\, que este año arriba a su edición 17\, certamen espérados por las diferentes escuelas de danza de la ciudad\, muchas de ellas participantes en cada una de las ediciones pasadas. \nArmando Torres Jiménez\, el jefe de foro\, dio a conocer la presentación tendrá lugar en el Foro Cultural La Bodega\, ubicada en la céntrica calle de Cuahtémoc #20\, enfrente del mercado San José\, o subiendo por la Avenida Xalapeños Ilustres\, por la calle empedrada ubicada a un costado de la iglesia del mismo nombre. \nXalapa Baila está programada para el domingo 3 de mayo\, a partir de las 16.00 horas\, entrada general $100\, explicó el responsable del audio y la iluminación del Festival que reune a las escuelas de danza más importantes de toda la ciudad. \nXalapa Baila\, desde su primera edición\, ha tenido un alto nivel de convocatoria\, esta versión del domingo 3 de mayo es una convocatoria nivel Kids.
URL:http://www.quierodisfrutar.mx/evento/xalapa-baila-anuncia-su-17ava-edicion-organizada-por-el-maestro-carlos-gonzalez/
CATEGORIES:Arte,Danza
ATTACH;FMTTYPE=image/jpeg:http://www.quierodisfrutar.mx/wp-content/uploads/2026/04/WhatsApp-Image-2026-04-17-at-1.51.00-PM.jpeg
END:VEVENT
END:VCALENDAR