BEGIN:VCALENDAR
VERSION:2.0
PRODID:-//Quiero Disfrutar - ECPv6.15.1.1//NONSGML v1.0//EN
CALSCALE:GREGORIAN
METHOD:PUBLISH
X-WR-CALNAME:Quiero Disfrutar
X-ORIGINAL-URL:http://www.quierodisfrutar.mx
X-WR-CALDESC:Eventos para Quiero Disfrutar
REFRESH-INTERVAL;VALUE=DURATION:PT1H
X-Robots-Tag:noindex
X-PUBLISHED-TTL:PT1H
BEGIN:VTIMEZONE
TZID:America/Mexico_City
BEGIN:DAYLIGHT
TZOFFSETFROM:-0600
TZOFFSETTO:-0500
TZNAME:CDT
DTSTART:20230402T080000
END:DAYLIGHT
BEGIN:STANDARD
TZOFFSETFROM:-0500
TZOFFSETTO:-0600
TZNAME:CST
DTSTART:20231029T070000
END:STANDARD
END:VTIMEZONE
BEGIN:VEVENT
DTSTART;VALUE=DATE:20231003
DTEND;VALUE=DATE:20231101
DTSTAMP:20260425T192102
CREATED:20231006T154914Z
LAST-MODIFIED:20231006T154914Z
UID:51299-1696291200-1698796799@www.quierodisfrutar.mx
SUMMARY:
DESCRIPTION:
URL:http://www.quierodisfrutar.mx/evento/51299/
CATEGORIES:Arte,Variados
ATTACH;FMTTYPE=image/jpeg:http://www.quierodisfrutar.mx/wp-content/uploads/2023/10/F7tdGtNXAAATAaP.jpg
END:VEVENT
BEGIN:VEVENT
DTSTART;VALUE=DATE:20231009
DTEND;VALUE=DATE:20231016
DTSTAMP:20260425T192102
CREATED:20231009T231952Z
LAST-MODIFIED:20231009T231952Z
UID:51315-1696809600-1697414399@www.quierodisfrutar.mx
SUMMARY:Actividades culturales en Xalapa durante el mes de octubre
DESCRIPTION:Actividades culturales en Xalapa durante el mes de octubre\n  \n 
URL:http://www.quierodisfrutar.mx/evento/actividades-culturales-en-xalapa-durante-el-mes-de-octubre-2/
CATEGORIES:Arte
ATTACH;FMTTYPE=image/jpeg:http://www.quierodisfrutar.mx/wp-content/uploads/2023/10/F7tdGtNXAAATAaP.jpg
END:VEVENT
BEGIN:VEVENT
DTSTART;VALUE=DATE:20231013
DTEND;VALUE=DATE:20231016
DTSTAMP:20260425T192102
CREATED:20230922T212655Z
LAST-MODIFIED:20230922T212655Z
UID:51234-1697155200-1697414399@www.quierodisfrutar.mx
SUMMARY:9° Festival Como suena la clave 2023.
DESCRIPTION:
URL:http://www.quierodisfrutar.mx/evento/9-festival-como-suena-la-clave-2023/
LOCATION:Barrio Xallitic\, Centro\, Xalapa\, Veracruz\, 91000\, México
CATEGORIES:Arte,Festival
ATTACH;FMTTYPE=image/jpeg:http://www.quierodisfrutar.mx/wp-content/uploads/2023/09/WhatsApp-Image-2023-09-22-at-3.47.37-PM.jpeg
END:VEVENT
BEGIN:VEVENT
DTSTART;VALUE=DATE:20231013
DTEND;VALUE=DATE:20231030
DTSTAMP:20260425T192102
CREATED:20231010T154240Z
LAST-MODIFIED:20231010T154240Z
UID:51345-1697155200-1698623999@www.quierodisfrutar.mx
SUMMARY:Obra El veterinario de Dios
DESCRIPTION:El veterinario de Dios.Dramaturgia y dirección – Vladimir ArzateElenco – Daniel HurtadoProducción – Grecia MeloDiseño de cartel – Moro Camacho \nSinopsis: En el cielo\, dos nubes. Una tiene forma de gatito. También hay dos arbustos y el sol. Así comienza el primer día de vacaciones de Tim\, el veterinario. ¿Qué hace un veterinario en el bosque durante su tiempo libre? Exacto\, cazar. Tim ha venido a enfrentar los fantasmas que hicieron de él una caricatura del ser humano. Acompañado de un conejo\, un halcón y un oso buscará descubrir cómo se convirtió en el veterinario de Dios. Ubicación: Foro La Candileja. Sexta de Juárez 214 altos Belisario Domínguez. Xalapa\, Veracruz. Horarios: Viernes 13\, 20 y 27 (20:00hr); Sábados 14\, 21 y 28 (20:00hr) y Domingo 15\, 22 y 29 (20:00hr). Costos del boleto: Entrada general $150. Descuentos y preventa $100. Reservaciones Whatsapp: 229 241 6964. Facebook Ese perro está enroscado. Instagram ese_perro_está_enroscado
URL:http://www.quierodisfrutar.mx/evento/obra-el-veterinario-de-dios/
LOCATION:Foro La Candileja\, Sexta de Juárez 214 altos Belisario Domínguez\, Xalapa\, Veracruz\, México
CATEGORIES:Arte,Teatro
ATTACH;FMTTYPE=image/jpeg:http://www.quierodisfrutar.mx/wp-content/uploads/2023/10/WhatsApp-Image-2023-10-07-at-8.44.25-AM.jpeg
END:VEVENT
BEGIN:VEVENT
DTSTART;VALUE=DATE:20231016
DTEND;VALUE=DATE:20231023
DTSTAMP:20260425T192102
CREATED:20231016T195533Z
LAST-MODIFIED:20231016T195533Z
UID:51365-1697414400-1698019199@www.quierodisfrutar.mx
SUMMARY:Actividades culturales en Xalapa durante el mes de octubre
DESCRIPTION:Actividades culturales en Xalapa durante el mes de octubre\n 
URL:http://www.quierodisfrutar.mx/evento/actividades-culturales-en-xalapa-durante-el-mes-de-octubre-3/
CATEGORIES:Arte
ATTACH;FMTTYPE=image/jpeg:http://www.quierodisfrutar.mx/wp-content/uploads/2023/10/WhatsApp-Image-2023-10-16-at-2.49.21-PM.jpeg
END:VEVENT
END:VCALENDAR