BEGIN:VCALENDAR
VERSION:2.0
PRODID:-//Quiero Disfrutar - ECPv6.15.1.1//NONSGML v1.0//EN
CALSCALE:GREGORIAN
METHOD:PUBLISH
X-ORIGINAL-URL:http://www.quierodisfrutar.mx
X-WR-CALDESC:Eventos para Quiero Disfrutar
REFRESH-INTERVAL;VALUE=DURATION:PT1H
X-Robots-Tag:noindex
X-PUBLISHED-TTL:PT1H
BEGIN:VTIMEZONE
TZID:America/Mexico_City
BEGIN:DAYLIGHT
TZOFFSETFROM:-0600
TZOFFSETTO:-0500
TZNAME:CDT
DTSTART:20240407T080000
END:DAYLIGHT
BEGIN:STANDARD
TZOFFSETFROM:-0500
TZOFFSETTO:-0600
TZNAME:CST
DTSTART:20241027T070000
END:STANDARD
END:VTIMEZONE
BEGIN:VEVENT
DTSTART;VALUE=DATE:20240501
DTEND;VALUE=DATE:20240601
DTSTAMP:20260425T065110
CREATED:20240430T185810Z
LAST-MODIFIED:20240430T190012Z
UID:51835-1714521600-1717199999@www.quierodisfrutar.mx
SUMMARY:Cartelera Cultural Mayo 2024\, en Xalapa
DESCRIPTION:Arranca mayo con la gira de Documentales Ambulante  \n*Las proyecciones se llevarán a cabo del 2 al 5 en el Centro Recreativo Xalapeño y el Teatro J.J. Herrera \nXalapa\, Ver.- La gira de Documentales Ambulante 2024 y la Muestra de Cine Panafricano marcarán el inicio de mayo en Xalapa\, eventos que permitirán disfrutar de una selección de 12 largometrajes y 19 películas realizadas por reconocidos directores nacionales e internacionales.  \nEn el Centro Recreativo Xalapeño (CRX)\, Ambulante 2024 proyectará el 2 de mayo\, a las 17:00 horas\, el filme “Adentro mío estoy bailando”\, de Leandro Koch y Paloma Schachmann; el 3 de mayo\, a las 16:00 horas\, “Nocturnas”\, de Anirban Dutta y Anupama Srinivasan\, y el 4 de mayo\, “Peter Doherty: extraño en mi propia piel”\, de Katia de Vidas.  \nEn el Teatro J.J. Herrera\, el 3 de mayo\, a las 16:00\, 18:00 y 19:30 horas\, se exhibirán los documentales: “Fotobobia”\, de Ivan Ostrochovsky y Pavol Pekarčík; “Tres promesas”\, de Yousef Srouji\, y “Rebeladas”\, de Andrea Gautier y Tabatta Salinas. El 4 de mayo a las 12:00\, 17:00 y 19:00 horas están pautados el “Programa Coordenadas Veracruz 1”\, y la presentación de los filmes “Tótem”\, de la Unidad de Montaje Dialéctico\, y “Queendom”\, de Agniia Galdanova. \nEl 5 de mayo a las 12:00\, 16:00 y 19:00 horas se efectuará el “Programa Coordenadas Veracruz 2”; la proyección de “El eco”\, de Tatiana Huezo\, y “La guardia blanca”\, de Julien Elie.  \nEn el marco del Cine Panafricano\, el 2 de mayo\, a las 19:00 horas\, en el CRX\, se exhibirá “La Chapelle”\, de Jean-Michel Tchissoukou\, y el 9 de mayo a la misma hora\, “The gravedigger’s wife”\, de Khadar Ahmed.  \nEste 1 de mayo a las 16:00 y 18:00 horas en el CRX\, el Colectivo Teatral Estudio Arcadia presentará la obra “Melodía de la imaginación”\, mientras que a las 17:00 horas en el Teatro J.J. Herrera\, la Academia de Música Carpe Diem llevará a cabo un Tributo a Luis Miguel.  \nEl 2 de mayo a las 17:00 horas en el Barrio Mágico de Xallitic se presentará Ericka Rosas\, “La voz de Terciopelo”\, y las 18:00 horas en el Museo de la Música Veracruzana\, los alumnos del Centro de Iniciación Musical Infantil (CIMI)\, a cargo del maestro Ricardo Elías\, ofrecerán un recital.  \nEl 3 de mayo a las 12:00 y 18:00 horas\, en este último recinto cultural\, está prevista la inauguración de la exposición pictórica “La vida es bella”\, de Cristóbal Hernández\, y el ciclo “Jóvenes arpistas en Doña Falla”.  \nA las 18:00 horas en el auditorio de la IMAC\, Julián Villar inaugurará la exposición fotográfica “Magia\, luz y color”\, y en el parque Benito Juárez\, Ogma\, Washiwasha y TBA encabezarán una edición más de “Viernes de punchis punchis”.   \nEl 4 de mayo a las 10:00 horas\, en el Teatro J.J. Herrera\, Cultura Danzón Xalapa impartirá el taller “Danzón en el teatro”; a las 17:00 horas en el Museo de la Música Veracruzana\, Luis Karo ofrecerá el conversatorio recital “El surgimiento del contratenor”. Este día y el 5 de mayo a las 16:00 horas\, en el CRX\, el Colectivo Perro Frito impartirá el taller “Cine donde sea”. \nEl 5 de mayo a las 17:00 horas en el Museo de la Música Veracruzana\, se presentará el Ensamble Xicochimalco; a las 17:30 en el auditorio de la IMAC\, el mariachi “Los Hernández de Xalapa” llevará a cabo un concierto homenaje a Juan Gabriel; y a las 18:30 horas en el CRX\, habrá una demostración del taller “Live Cinema: Cine donde sea”.  \nEl 6 de mayo a las 17:00 horas\, en este último espacio\, Metafísica Humanista Universal A.C.\, ofrecerá “Clases de metafísica”\, y a la misma hora en el auditorio de la IMAC\, Maximun mobility realizará el foro “Fisioterapia\, el puente entre el diagnóstico médico y la recuperación funcional”. De igual forma\, este día comienza el taller “Mesa Brauer”\, que impartirá Héctor Brauer.  \nEl 8 de mayo a las 17:00 horas\, en el CRX\, la Red Xalapeña por el Arte y la Literatura realizarán un “Homenaje a las madres”; a las 19:00 horas\, Rolando Uscanga dirigirá una tertulia en honor a las madres xalapeñas.  \nEn el Museo de la Música Veracruzana\, a las 18:00 horas\, se desarrollará “Before Texmex”\, un ciclo de charlas-acercamiento a la musicología mexicana\, encabezado por Stefany Ochoa\, y a las 19:00 horas en el Teatro J.J. Herrera\, Ander Benítez y la Orquesta Pauta Nueva ofrecerán una “Serenata para mamá”. \nEl 9 de mayo a las 18:00 horas\, en el Museo de la Música Veracruzana\, los alumnos de Isabel Ladrón de Guevara ofrecerán un recital de violín\, y en el Teatro J.J. Herrera\, la Rondalla San Martín llevará a cabo su “Serenata a mamá”. El 10 de mayo a las 19:00 horas\, en este mismo lugar\, Akira Yoshida y Lali Ayguadé presentarán el espectáculo de danza contemporánea “Together to get here”.  \nEl 11 de mayo a las 17:00 horas\, en el Museo de la Música Veracruzana\, la Academia Suzuki Star ofrecerá un recital; a las 18:00 horas en el auditorio de la IMAC\, DW Dancenter realizará “Vintage\, concierto de oldies”\, y en el Parque Juárez\, Apantallarte-musical estará dedicado a “Iberia”.  \nEl 12 de mayo a las 17:00 horas\, en el Museo de la Música Veracruzana\, los alumnos de la maestra Beatriz Hernández llevarán a cabo un recital de canto\, y en el Teatro J.J. Herrera habrá un “Tributo Zero”\, de rock\, pop\, cumbia\, hit’s 80’s y 90’s; a las 18:00 horas en el auditorio de la IMAC\, Licea Producciones realizará el show musical “Pilar Boyero canta a Dúrcal y Jurado”. \nEl 11 y 12 en el Barrio Mágico de Xallitic se desarrollará la Expo-venta “Fiesta huasteca”; el 13 de mayo\, a las 19:00 horas\, en el Teatro J.J. Herrera\, Abracadabra Tropa Teatral presentará la obra “Cocinar el amor”; y el 12 a las 12:00 horas\, en el parque Juárez\, estará el Ballet Folklórico Tochtli amenizando los “Domingos Familiares”.  \nPor último\, el 15 de mayo a las 18:00 horas\, en el CRX\, Frida Marín inaugurará la exposición fotográfica: “¡Chicos y chicas a escena!”
URL:http://www.quierodisfrutar.mx/evento/cartelera-cultural-mayo-2024-en-xalapa/
CATEGORIES:Arte,Variados
ATTACH;FMTTYPE=image/jpeg:http://www.quierodisfrutar.mx/wp-content/uploads/2024/04/WhatsApp-Image-2024-04-30-at-1.31.07-PM.jpeg
END:VEVENT
BEGIN:VEVENT
DTSTART;TZID=America/Mexico_City:20240508T190000
DTEND;TZID=America/Mexico_City:20240508T210000
DTSTAMP:20260425T065110
CREATED:20240503T192924Z
LAST-MODIFIED:20240503T192924Z
UID:51864-1715194800-1715202000@www.quierodisfrutar.mx
SUMMARY:"Serenata para mamá" por Ander Benítez
DESCRIPTION:La Dirección de Cultura\, Ander Benítez y el Colectivo Café Literario le hacen una cordial invitación al concierto titulado “Serenata para mamá”\, un regalo adelantado a todas las madres y celebrando a la mujer que es organizadora del hogar y merece ser homenajeada y consentida. \nLa fecha es el próximo miércoles 8 de mayo\, a las 19:00 horas en el Teatro JJ Herrera\, ubicado en el Corredor turístico Carlos Fuentes\, zona centro de Xalapa. \nTRAYECTORIA \nAnder Benítez\, cantando a la vida \nAnder Benítez Monzón es un cantante y artista creativo\, nacido en la ciudad de Xalapa el 11 de mayo del 2004.  \nSus estudios primarios\, secundarios y preparatorianos los ha realizado en la ciudad capital de Veracruz. Desde pequeño ha mostrado sus dotes en el canto\, especializándose en canciones de antaño y particularmente el bolero.  \nComo cantor ha integrado la Rondalla Romántica Juvenil de la Escuela Secundaria General Número 4\, “David Alfaro Siqueiros”\, bajo la batuta musical de la maestra Laura Castañeda.  \nYa como solista\, ha consolidado su corta pero fructífera carrera\, sobresaliendo en ese grupo de artistas estudiantiles que lo acompañaron en la rondalla. Poseedor de una voz aterciopelada\, que ha sobrevivido a la transición de niño a adolescente y ahora como joven promesa de 18 años de edad\, se mantiene vigente en el grupo de amigos\, pero también en un público que cada vez es más numeroso. Alegre\, espontáneo y dueño de un carisma propio de un artista que quiere conquistar al espectador adulto\, aunque su frescura y su trato amigable ha logrado enamorar a los jóvenes de su edad.  \nAnder ha alternado su talento junto a otros cantantes en diferentes escenarios. \nComo integrante de la rondalla brindó su voz en el Primer Congreso Estatal de Escritores\, evento realizado en la Legislatura que se ubica en Xalapa.  \nAdemás acompañó al Colectivo Café Literario en el homenaje realizado a la escritora y poeta pozarricense\, Maestra Elba Prior Domínguez.  \nAsimismo\, ha amenizado diversos escenarios y eventos\, con gran éxito y cautivando con la tesitura de su canto a un público cada vez más exigente\, pero que reconoce cuando alguien tiene una voz privilegiada. Como característica única y especial\, Ander gusta de canciones de antaño\, esas que solo se escuchan en estaciones de radio que transmiten melodías del pasado.  \nSin embargo\, su tono y estilo han logrado que jóvenes le tomen gusto a esas canciones que muchos consideran del pasado o pasadas de moda. Algo que este artista ha sabido sortear\, abriendo espacios cada día más importantes en la ciudad de las flores. Recientemente brindó un concierto en la Feria Expo Flor y Miel Xalapa 2022\, así como en la pasada Feria Xalapeña del Libro y en la feria realizada en la ciudad de Coatepec. \n Lo mismo interpreta un bolero de suave tesitura climática como una canción que exige todo su potencial como la clásica Granada\, misma que escribió el cantautor veracruzano Agustín Lara. Así también ha tomado el riesgo de cantar en una tonalidad muy alta temas como el “Como una ola”\, que hiciera famosa la cantante española Rocío Jurado. Paso a paso y canción tras canción ha sabido ganar experiencia\, participando en concursos especializados en canto y que tienen gran demanda en la televisión mexicana\, logrando ser candidateable para ser partícipe de ellos y aunque no ha podido pertenecer a uno de ellos\, día a día se prepara y ensaya para brindar un mejor show.  \nAunado a su carrera de cantante que se consolida continuamente\, combina la de poeta y ha publicado en sitios especializados en internet y en el suplemento cultural La Jiribilla. También ha leído obra suya en diversos eventos literarios\, ampliando sus horizontes y expectativas. El mismo ha confesado que su mayor pasión es cantar y como artista sueña con abrir un concierto de un grande en la música mexicana. A través de sus melodías celebra la vida y de paso revive a todos aquellos cantantes que marcaron una época en nuestro país. \nSu Juventud precisamente les da brillo y lucidez a todas esas canciones que algunas vez enamoraron a más de una pareja\, por lo que su lado romántico y cursi lo explota siempre que pisa un entarimado.  \nPor ello es que cada día busca superarse a sí mismo y la fama no se le ha subido\, por lo que la humildad y su forma de ser tan amigable\, hace que sus fans se le acerquen y lo busquen para interpretar las mil y un canciones que se sabe. Atrapada su alma vieja en su cuerpo de joven\, la versatilidad de Ander le ha permitido dominar su estilo y su voz cada vez más.  \nPese a su edad\, ha sabido erigirse como dueño absoluto de su destino\, entregando sudor y pasión en cada una de sus actuaciones\, pues tiene claro que todos los sueños son posibles\, cuando uno se lo propone. \nActualmente prepara su primer disco y también prepara su primer libro de poesía. \nLarga vida a este novel cantante y seguramente el éxito lo alcanzará en no menos de lo que canta un gallo. \n Luis G. Mendoza
URL:http://www.quierodisfrutar.mx/evento/serenata-para-mama-por-ander-benitez/
LOCATION:Teatro J.J. Herrera\, Miguel Palacios #12\, Xalapa\, Veracruz\, 91000\, México
CATEGORIES:Arte,Concierto
ATTACH;FMTTYPE=image/jpeg:http://www.quierodisfrutar.mx/wp-content/uploads/2024/05/440213844_768323268700137_1125324448358701107_n.jpg
END:VEVENT
END:VCALENDAR