BEGIN:VCALENDAR
VERSION:2.0
PRODID:-//Quiero Disfrutar - ECPv6.15.1.1//NONSGML v1.0//EN
CALSCALE:GREGORIAN
METHOD:PUBLISH
X-WR-CALNAME:Quiero Disfrutar
X-ORIGINAL-URL:http://www.quierodisfrutar.mx
X-WR-CALDESC:Eventos para Quiero Disfrutar
REFRESH-INTERVAL;VALUE=DURATION:PT1H
X-Robots-Tag:noindex
X-PUBLISHED-TTL:PT1H
BEGIN:VTIMEZONE
TZID:America/Mexico_City
BEGIN:DAYLIGHT
TZOFFSETFROM:-0600
TZOFFSETTO:-0500
TZNAME:CDT
DTSTART:20240407T080000
END:DAYLIGHT
BEGIN:STANDARD
TZOFFSETFROM:-0500
TZOFFSETTO:-0600
TZNAME:CST
DTSTART:20241027T070000
END:STANDARD
END:VTIMEZONE
BEGIN:VEVENT
DTSTART;VALUE=DATE:20241028
DTEND;VALUE=DATE:20241108
DTSTAMP:20260424T202449
CREATED:20241028T210311Z
LAST-MODIFIED:20241028T210311Z
UID:52362-1730073600-1731023999@www.quierodisfrutar.mx
SUMMARY:Eventos culturales en Xalapa durante el mes de octubre y noviembre
DESCRIPTION:Eventos culturales en Xalapa durante el mes de octubre y noviembre \n 
URL:http://www.quierodisfrutar.mx/evento/eventos-culturales-en-xalapa-durante-el-mes-de-octubre-y-noviembre/
CATEGORIES:Arte,Concierto
ATTACH;FMTTYPE=image/jpeg:http://www.quierodisfrutar.mx/wp-content/uploads/2024/10/WhatsApp-Image-2024-10-28-at-2.47.03-PM.jpeg
END:VEVENT
BEGIN:VEVENT
DTSTART;TZID=America/Mexico_City:20241107T200000
DTEND;TZID=America/Mexico_City:20241110T220000
DTSTAMP:20260424T202449
CREATED:20241022T153205Z
LAST-MODIFIED:20241022T153251Z
UID:52335-1731009600-1731276000@www.quierodisfrutar.mx
SUMMARY:VOCES DE HAYMARKET
DESCRIPTION:Colectivo Teatral Los Escondidos celebra su décimo aniversario con la puesta en escena “Voces de Haymarket”. \nEn el marco de su décimo aniversario\, el Colectivo Teatral Los Escondidos\, fundado en 2014 con el estreno de la obra que le dio nombre y consolidado desde entonces como una agrupación teatral independiente en la ciudad de Xalapa\, anuncia su nueva puesta en escena: Voces de Haymarket. Esta obra tendrá una breve primera temporada en Trasmundo Teatro los días 7\, 8\, 9 y 10 de noviembre de 2024.  \n  \nVoces de Haymarket ofrece una inmersión dramática en los corazones y mentes de los obreros anarquistas que enfrentaron la horca tras la Revuelta de Haymarket en 1886\, un episodio clave en la lucha por los derechos laborales y origen del Día Internacional de los Trabajadores. La puesta en escena comienza mostrando los últimos respiros de estos activistas\, condenados a muerte después de las huelgas y disturbios. Desde la horca\, el tiempo en el relato retrocede\, desenmarañando sus vidas personales y reconstruyendo la esencia del movimiento obrero. \n  \nA sólo ocho horas de la eternidad\, los personajes confrontan sus miedos e ideales\, así como la inminencia de la muerte. La obra entrelaza testimonios históricos\, discursos originales y documentos biográficos\, representando la caída de los afamados “Mártires de Chicago”. Con elementos literarios y revisiones de archivo\, el relato describe cómo una bomba puede transformar una revolución. Los gritos y cantos\, una vez silenciados\, resurgen como retumbos indomables de libertad.  \n  \nA través de poesía\, diálogos hipotéticos\, canciones libertarias\, máscaras y un toque de punk\, Voces de Haymarket arrastra al espectador a las frías celdas donde se debaten desesperanza y determinación\, pintando un retrato feroz sobre la lucha que desafió a un sistema corrupto y que\, como pólvora encendida\, sigue detonando movimientos sociales. \n  \nLa obra escenifica los ecos imperecederos de aquella revuelta\, vibrantes aún en nuestro presente\, reflexionando sobre la anarquía y el costo irremediable de la revolución. \n  \nEl elenco está conformado por Mariana Ruiz\, Carolina Iturralde\, Ricardo Martínez\, Edison Solis\, Apolinar Guzmán\, Axel Ronzón y Ricardo Sosa. La dirección corre a cargo de Dalia Rodríguez de Leo\, con la asistencia de Ximena Márquez. \n  \nLas funciones se llevarán a cabo en Trasmundo Teatro\, ubicado en Xalapeños Ilustres #171\, Col. Centro. El costo del boleto es de $150 en taquilla\, con preventa a $100 y promoción especial para estudiantes a $50. \n  \nExtendemos una cordial invitación a toda la comunidad xalapeña para que nos acompañe en estas presentaciones: jueves 7 y viernes 8 a las 20:00 hrs; sábado 9 a las 19:00 hrs. y domingo 10 de noviembre a las 18:00 hrs. Para más información y adquisición de entradas\, comunícate al WhatsApp 228 109 3273 o a las redes sociales del Colectivo Teatral Los Escondidos (@ctlescondidos) y Trasmundo Teatro (@trasmundoteatro). \n 
URL:http://www.quierodisfrutar.mx/evento/voces-de-haymarket/
LOCATION:TRASMUNDO TEATRO\, Xalapeños Ilustres 171 casi 20 de nov\, Xalapa\, Veracruz\, 91000\, México
CATEGORIES:Arte,Teatro
ATTACH;FMTTYPE=image/png:http://www.quierodisfrutar.mx/wp-content/uploads/2024/10/462546127_1090405605800327_5622491609167816027_n.png
ORGANIZER;CN="Colectivo Teatral Los Escondidos":MAILTO:losescondidos@outlook.com
END:VEVENT
END:VCALENDAR