BEGIN:VCALENDAR
VERSION:2.0
PRODID:-//Quiero Disfrutar - ECPv6.15.1.1//NONSGML v1.0//EN
CALSCALE:GREGORIAN
METHOD:PUBLISH
X-WR-CALNAME:Quiero Disfrutar
X-ORIGINAL-URL:http://www.quierodisfrutar.mx
X-WR-CALDESC:Eventos para Quiero Disfrutar
REFRESH-INTERVAL;VALUE=DURATION:PT1H
X-Robots-Tag:noindex
X-PUBLISHED-TTL:PT1H
BEGIN:VTIMEZONE
TZID:America/Mexico_City
BEGIN:DAYLIGHT
TZOFFSETFROM:-0600
TZOFFSETTO:-0500
TZNAME:CDT
DTSTART:20260405T080000
END:DAYLIGHT
BEGIN:STANDARD
TZOFFSETFROM:-0500
TZOFFSETTO:-0600
TZNAME:CST
DTSTART:20261025T070000
END:STANDARD
END:VTIMEZONE
BEGIN:VEVENT
DTSTART;VALUE=DATE:20260130
DTEND;VALUE=DATE:20260203
DTSTAMP:20260423T185013
CREATED:20260115T160722Z
LAST-MODIFIED:20260115T160722Z
UID:54237-1769731200-1770076799@www.quierodisfrutar.mx
SUMMARY:Festival del Tamal Canario 2026 en Xico\, Veracruz
DESCRIPTION:
URL:http://www.quierodisfrutar.mx/evento/festival-del-tamal-canario-2026-en-xico-veracruz/
LOCATION:Parque Independencia\, Avenida Vicente Guerrero\, Xico\, Veracruz\, 91240\, México
CATEGORIES:Arte,Fiesta y tradición
ATTACH;FMTTYPE=image/jpeg:http://www.quierodisfrutar.mx/wp-content/uploads/2026/01/Festival-del-Tamal-Canario.jpg
END:VEVENT
END:VCALENDAR