BEGIN:VCALENDAR
VERSION:2.0
PRODID:-//Quiero Disfrutar - ECPv6.15.1.1//NONSGML v1.0//EN
CALSCALE:GREGORIAN
METHOD:PUBLISH
X-WR-CALNAME:Quiero Disfrutar
X-ORIGINAL-URL:http://www.quierodisfrutar.mx
X-WR-CALDESC:Eventos para Quiero Disfrutar
REFRESH-INTERVAL;VALUE=DURATION:PT1H
X-Robots-Tag:noindex
X-PUBLISHED-TTL:PT1H
BEGIN:VTIMEZONE
TZID:America/Mexico_City
BEGIN:DAYLIGHT
TZOFFSETFROM:-0600
TZOFFSETTO:-0500
TZNAME:CDT
DTSTART:20260405T080000
END:DAYLIGHT
BEGIN:STANDARD
TZOFFSETFROM:-0500
TZOFFSETTO:-0600
TZNAME:CST
DTSTART:20261025T070000
END:STANDARD
END:VTIMEZONE
BEGIN:VEVENT
DTSTART;VALUE=DATE:20260203
DTEND;VALUE=DATE:20260301
DTSTAMP:20260423T171246
CREATED:20260203T185520Z
LAST-MODIFIED:20260203T190013Z
UID:54259-1770076800-1772323199@www.quierodisfrutar.mx
SUMMARY:Cartelera Cultural en Xalapa durante febrero
DESCRIPTION:
URL:http://www.quierodisfrutar.mx/evento/cartelera-cultural-en-xalapa-durante-febrero/
CATEGORIES:Arte,Variados
ATTACH;FMTTYPE=image/jpeg:http://www.quierodisfrutar.mx/wp-content/uploads/2026/02/WhatsApp-Image-2026-02-03-at-11.13.17-AM.jpeg
END:VEVENT
BEGIN:VEVENT
DTSTART;VALUE=DATE:20260209
DTEND;VALUE=DATE:20260301
DTSTAMP:20260423T171246
CREATED:20260209T225741Z
LAST-MODIFIED:20260209T225741Z
UID:54294-1770595200-1772323199@www.quierodisfrutar.mx
SUMMARY:¡Conoce la pieza del mes! en el museo MAX
DESCRIPTION:¡Conoce la pieza del mes!\nAbierto de martes a domingo de 9 a 17 hrs.\nEntrada Gratuita
URL:http://www.quierodisfrutar.mx/evento/conoce-la-pieza-del-mes-en-el-museo-max/
CATEGORIES:Arte
ATTACH;FMTTYPE=image/jpeg:http://www.quierodisfrutar.mx/wp-content/uploads/2026/02/WhatsApp-Image-2026-02-09-at-3.58.41-PM-1.jpeg
END:VEVENT
BEGIN:VEVENT
DTSTART;VALUE=DATE:20260211
DTEND;VALUE=DATE:20260301
DTSTAMP:20260423T171246
CREATED:20260210T235608Z
LAST-MODIFIED:20260210T235608Z
UID:54297-1770768000-1772323199@www.quierodisfrutar.mx
SUMMARY:Eventos culturales en Xalapa durante febrero
DESCRIPTION:
URL:http://www.quierodisfrutar.mx/evento/eventos-culturales-en-xalapa-durante-febrero/
CATEGORIES:Arte,Variados
ATTACH;FMTTYPE=image/jpeg:http://www.quierodisfrutar.mx/wp-content/uploads/2026/02/WhatsApp-Image-2026-02-10-at-11.34.50-AM-1.jpeg
END:VEVENT
BEGIN:VEVENT
DTSTART;VALUE=DATE:20260214
DTEND;VALUE=DATE:20260301
DTSTAMP:20260423T171246
CREATED:20260213T233711Z
LAST-MODIFIED:20260213T233711Z
UID:54304-1771027200-1772323199@www.quierodisfrutar.mx
SUMMARY:Cartelera Cultural: Talleres en Xalapa
DESCRIPTION:
URL:http://www.quierodisfrutar.mx/evento/cartelera-cultural-talleres-en-xalapa/
CATEGORIES:Arte,Talleres,Talleres y cursos
ATTACH;FMTTYPE=image/jpeg:http://www.quierodisfrutar.mx/wp-content/uploads/2026/02/WhatsApp-Image-2026-02-13-at-3.17.59-PM.jpeg
END:VEVENT
BEGIN:VEVENT
DTSTART;TZID=America/Mexico_City:20260228T200000
DTEND;TZID=America/Mexico_City:20260228T213000
DTSTAMP:20260423T171246
CREATED:20260228T221628Z
LAST-MODIFIED:20260228T221628Z
UID:54320-1772308800-1772314200@www.quierodisfrutar.mx
SUMMARY:Noche de magia y ventriloquia en Xalapa
DESCRIPTION:
URL:http://www.quierodisfrutar.mx/evento/noche-de-magia-y-ventriloquia-en-xalapa/
LOCATION:Plaza Zaragoza\, Ignacio Zaragoza\, Xalapa\, Veracruz\, 91000\, México
CATEGORIES:Arte
ATTACH;FMTTYPE=image/jpeg:http://www.quierodisfrutar.mx/wp-content/uploads/2026/02/magia.jpeg
END:VEVENT
END:VCALENDAR