BEGIN:VCALENDAR
VERSION:2.0
PRODID:-//Quiero Disfrutar - ECPv6.15.1.1//NONSGML v1.0//EN
CALSCALE:GREGORIAN
METHOD:PUBLISH
X-ORIGINAL-URL:http://www.quierodisfrutar.mx
X-WR-CALDESC:Eventos para Quiero Disfrutar
REFRESH-INTERVAL;VALUE=DURATION:PT1H
X-Robots-Tag:noindex
X-PUBLISHED-TTL:PT1H
BEGIN:VTIMEZONE
TZID:America/Mexico_City
BEGIN:DAYLIGHT
TZOFFSETFROM:-0600
TZOFFSETTO:-0500
TZNAME:CDT
DTSTART:20240407T080000
END:DAYLIGHT
BEGIN:STANDARD
TZOFFSETFROM:-0500
TZOFFSETTO:-0600
TZNAME:CST
DTSTART:20241027T070000
END:STANDARD
END:VTIMEZONE
BEGIN:VEVENT
DTSTART;TZID=America/Mexico_City:20240506T100000
DTEND;TZID=America/Mexico_City:20240506T230000
DTSTAMP:20260425T152103
CREATED:20240502T204747Z
LAST-MODIFIED:20240502T204917Z
UID:51853-1714989600-1715036400@www.quierodisfrutar.mx
SUMMARY:"Queridamente"\, conversatorio de UV Xalapa
DESCRIPTION:
URL:http://www.quierodisfrutar.mx/evento/queridamente-conversatorio-de-uv-xalapa/
LOCATION:Difusión Cultural UV\, Benito Juárez 81\, Xalapa\, Veracruz\, 91000\, México
CATEGORIES:Conservatorio
ATTACH;FMTTYPE=image/png:http://www.quierodisfrutar.mx/wp-content/uploads/2024/05/Poster-Queridamente.png
END:VEVENT
END:VCALENDAR