BEGIN:VCALENDAR
VERSION:2.0
PRODID:-//Quiero Disfrutar - ECPv6.15.1.1//NONSGML v1.0//EN
CALSCALE:GREGORIAN
METHOD:PUBLISH
X-ORIGINAL-URL:http://www.quierodisfrutar.mx
X-WR-CALDESC:Eventos para Quiero Disfrutar
REFRESH-INTERVAL;VALUE=DURATION:PT1H
X-Robots-Tag:noindex
X-PUBLISHED-TTL:PT1H
BEGIN:VTIMEZONE
TZID:America/Mexico_City
BEGIN:DAYLIGHT
TZOFFSETFROM:-0600
TZOFFSETTO:-0500
TZNAME:CDT
DTSTART:20240407T080000
END:DAYLIGHT
BEGIN:STANDARD
TZOFFSETFROM:-0500
TZOFFSETTO:-0600
TZNAME:CST
DTSTART:20241027T070000
END:STANDARD
END:VTIMEZONE
BEGIN:VEVENT
DTSTART;VALUE=DATE:20241106
DTEND;VALUE=DATE:20241201
DTSTAMP:20260424T202558
CREATED:20241106T194704Z
LAST-MODIFIED:20241106T194704Z
UID:52387-1730851200-1733011199@www.quierodisfrutar.mx
SUMMARY:CECATI 151 ofrece diversos cursos
DESCRIPTION:  \n \n  \nDatos para contacto: \n  \nCECATI 151 \nAv. Granada esq. Jacarandas\, col. Arboledas del Sumidero\, Xalapa\, Ver. \ntels. 2288106516 \nwp: 2288358503 \nfb: Cecati 151 Xalapa
URL:http://www.quierodisfrutar.mx/evento/cecati-151-ofrece-diversos-cursos/
CATEGORIES:Cursos
ATTACH;FMTTYPE=image/jpeg:http://www.quierodisfrutar.mx/wp-content/uploads/2024/11/currso.jpg
END:VEVENT
END:VCALENDAR