BEGIN:VCALENDAR
VERSION:2.0
PRODID:-//Quiero Disfrutar - ECPv6.15.1.1//NONSGML v1.0//EN
CALSCALE:GREGORIAN
METHOD:PUBLISH
X-WR-CALNAME:Quiero Disfrutar
X-ORIGINAL-URL:http://www.quierodisfrutar.mx
X-WR-CALDESC:Eventos para Quiero Disfrutar
REFRESH-INTERVAL;VALUE=DURATION:PT1H
X-Robots-Tag:noindex
X-PUBLISHED-TTL:PT1H
BEGIN:VTIMEZONE
TZID:America/Mexico_City
BEGIN:DAYLIGHT
TZOFFSETFROM:-0600
TZOFFSETTO:-0500
TZNAME:CDT
DTSTART:20250406T080000
END:DAYLIGHT
BEGIN:STANDARD
TZOFFSETFROM:-0500
TZOFFSETTO:-0600
TZNAME:CST
DTSTART:20251026T070000
END:STANDARD
END:VTIMEZONE
BEGIN:VEVENT
DTSTART;VALUE=DATE:20251025
DTEND;VALUE=DATE:20251026
DTSTAMP:20260424T002842
CREATED:20251009T211308Z
LAST-MODIFIED:20251009T211308Z
UID:53905-1761350400-1761436799@www.quierodisfrutar.mx
SUMMARY:Entre cempasuchitl y lotos
DESCRIPTION:
URL:http://www.quierodisfrutar.mx/evento/entre-cempasuchitl-y-lotos/
LOCATION:Hanxue School\, Av. 20 de Noviembre 54\, Xalapa\, Veracruz\, 91000\, México
CATEGORIES:Concurso,Fiesta y tradición
ATTACH;FMTTYPE=image/jpeg:http://www.quierodisfrutar.mx/wp-content/uploads/2025/10/WhatsApp-Image-2025-10-09-at-4.09.07-PM.jpeg
END:VEVENT
END:VCALENDAR