BEGIN:VCALENDAR
VERSION:2.0
PRODID:-//Quiero Disfrutar - ECPv6.15.1.1//NONSGML v1.0//EN
CALSCALE:GREGORIAN
METHOD:PUBLISH
X-WR-CALNAME:Quiero Disfrutar
X-ORIGINAL-URL:http://www.quierodisfrutar.mx
X-WR-CALDESC:Eventos para Quiero Disfrutar
REFRESH-INTERVAL;VALUE=DURATION:PT1H
X-Robots-Tag:noindex
X-PUBLISHED-TTL:PT1H
BEGIN:VTIMEZONE
TZID:America/Mexico_City
BEGIN:DAYLIGHT
TZOFFSETFROM:-0600
TZOFFSETTO:-0500
TZNAME:CDT
DTSTART:20250406T080000
END:DAYLIGHT
BEGIN:STANDARD
TZOFFSETFROM:-0500
TZOFFSETTO:-0600
TZNAME:CST
DTSTART:20251026T070000
END:STANDARD
END:VTIMEZONE
BEGIN:VEVENT
DTSTART;TZID=America/Mexico_City:20251027T190000
DTEND;TZID=America/Mexico_City:20251027T200000
DTSTAMP:20260424T002859
CREATED:20251025T214435Z
LAST-MODIFIED:20251025T214435Z
UID:54009-1761591600-1761595200@www.quierodisfrutar.mx
SUMMARY:Segundo Gran Desfile de Catrinas 2025\, en Xalapa
DESCRIPTION:
URL:http://www.quierodisfrutar.mx/evento/segundo-gran-desfile-de-catrinas-2025-en-xalapa/
LOCATION:Veracruz
CATEGORIES:Fiesta y tradición
ATTACH;FMTTYPE=image/jpeg:http://www.quierodisfrutar.mx/wp-content/uploads/2025/10/566619713_1025046259728965_2014447582326982463_n.jpg
END:VEVENT
END:VCALENDAR