BEGIN:VCALENDAR
VERSION:2.0
PRODID:-//Quiero Disfrutar - ECPv6.15.1.1//NONSGML v1.0//EN
CALSCALE:GREGORIAN
METHOD:PUBLISH
X-ORIGINAL-URL:http://www.quierodisfrutar.mx
X-WR-CALDESC:Eventos para Quiero Disfrutar
REFRESH-INTERVAL;VALUE=DURATION:PT1H
X-Robots-Tag:noindex
X-PUBLISHED-TTL:PT1H
BEGIN:VTIMEZONE
TZID:America/Mexico_City
BEGIN:DAYLIGHT
TZOFFSETFROM:-0600
TZOFFSETTO:-0500
TZNAME:CDT
DTSTART:20250406T080000
END:DAYLIGHT
BEGIN:STANDARD
TZOFFSETFROM:-0500
TZOFFSETTO:-0600
TZNAME:CST
DTSTART:20251026T070000
END:STANDARD
END:VTIMEZONE
BEGIN:VEVENT
DTSTART;VALUE=DATE:20251031
DTEND;VALUE=DATE:20251110
DTSTAMP:20260423T225315
CREATED:20251028T194700Z
LAST-MODIFIED:20251028T194700Z
UID:54043-1761868800-1762732799@www.quierodisfrutar.mx
SUMMARY:Noche de Brujas
DESCRIPTION:Noche de Brujas: teatro inmersivo en Morada de Piedra \nEste 31 de octubre el Colectivo Teatral Los Escondidos estrena Noche de Brujas\, un recorrido escénico inmersivo que invita al público a adentrarse en el misterio\, la memoria y la magia ancestral. \nLa obra transforma la Morada de Piedra (Independencia #9\, Col. Centro\, Xalapa\, Ver.) en una casa encantada por presencias femeninas que invocan su historia entre fuego\, canto y sombras. Durante el recorrido\, el público se convierte en parte del ritual: entra en la casa del aquelarre\, participa en sus rituales y elige su propio camino. \nEn cada estación descubrirá fragmentos de un hechizo —una historia\, una confesión\, un conjuro— que conducen al Juicio del Libro de los Nombres\, donde las y los espectadores decidirán el destino de las brujas. \n«Noche de Brujas es una experiencia de conexión con la magia propia\, un encuentro entre teatro\, rito y memoria; una forma de reconocer la fuerza y sabiduría que sobrevive en las mujeres”\, comparte su directora Dalia R. de Leo. \n Funciones:\nEstreno: jueves 31 de octubre – 20:00 h\nTemporada: 1\, 2\, 7\, 8 y 9 de noviembre – 18:00 y 20:00 h \n Duración: 90 minutos aproximadamente \n Boletos:\nPreventa $80 | Taquilla $100\nCupo limitado \n Informes y reservas: 228 363 4401\n Instagram y Facebook: @ctlescondidos | @moradadepiedra \nEn escena: Jennifer Vázquez\, Crista Domínguez\, Gloria Flores\, Frida Nohelani\, Kay Aguilar\, Obed Hernández Herberth\, Alexey Fortunato\, Néstor Cano Ríos\, Axel J. Ronzón Conde\, Aravinda\, Dalia R. de Leo y Nayani Castañeda. \nNoche de Brujas es una invitación a cruzar el velo entre vivos y muertos\, a celebrar la memoria y la fuerza del aquelarre.\n¡No te lo pierdas!
URL:http://www.quierodisfrutar.mx/evento/noche-de-brujas/
LOCATION:Morada de Piedra\, Independencia #9\, Xalapa\, Veracruz\, 91033
CATEGORIES:Arte,Fiesta y tradición
ATTACH;FMTTYPE=image/jpeg:http://www.quierodisfrutar.mx/wp-content/uploads/2025/10/553829291_1442570683485568_3087879975686537519_n.jpg
END:VEVENT
END:VCALENDAR