BEGIN:VCALENDAR
VERSION:2.0
PRODID:-//Quiero Disfrutar - ECPv6.15.1.1//NONSGML v1.0//EN
CALSCALE:GREGORIAN
METHOD:PUBLISH
X-ORIGINAL-URL:https://www.quierodisfrutar.mx
X-WR-CALDESC:Eventos para Quiero Disfrutar
REFRESH-INTERVAL;VALUE=DURATION:PT1H
X-Robots-Tag:noindex
X-PUBLISHED-TTL:PT1H
BEGIN:VTIMEZONE
TZID:America/Mexico_City
BEGIN:DAYLIGHT
TZOFFSETFROM:-0600
TZOFFSETTO:-0500
TZNAME:CDT
DTSTART:20230402T080000
END:DAYLIGHT
BEGIN:STANDARD
TZOFFSETFROM:-0500
TZOFFSETTO:-0600
TZNAME:CST
DTSTART:20231029T070000
END:STANDARD
END:VTIMEZONE
BEGIN:VEVENT
DTSTART;TZID=America/Mexico_City:20230427T090000
DTEND;TZID=America/Mexico_City:20230607T170000
DTSTAMP:20260425T210733
CREATED:20230417T224811Z
LAST-MODIFIED:20230417T224811Z
UID:50930-1682586000-1686157200@www.quierodisfrutar.mx
SUMMARY:La misma luna\, gráfica contemporánea en el MAX
DESCRIPTION:Interpretaciones contemporáneas del legado prehispánico \n\n\n Con la participación de 15 artistas del Taller de Grabado Experimental de Coatepec \n\n\nEl Museo de Antropología de Xalapa (MAX) de la Universidad Veracruzana (UV) y el Taller de Grabado Experimental de Coatepec (TGEC) presentan la muestra colectiva La misma luna\, que se inaugura el próximo jueves 27 de abril a las 19 horas en la Galería Mezznine. \nLos artistas del TGEC trabajaron durante varios meses realizando sesiones de dibujo en el MAX para captar la imaginería plasmada en el acervo prehispánico\, para luego sumar elementos simbólicos del mundo contemporáneo y así resignificarlas. “Invocamos a los guerreros y a los sabios que nos honraron con su legado\, reflejando aquel pueblo que trabaja\, lucha\, sueña\, y que tiene el amparo de la misma luna”. \nEl resultado se aprecia en 26 obras gráficas para las que se recurrió\, entre otras\, a las técnicas de linografía\, litografía\, esténcil y punta seca. Estas variadas propuestas visuales revitalizan la concepción de un tiempo que parece lejano\, pero se revela presente. \nLos artistas participantes son: Alejandro Suárez\, Antonio Domínguez\, Armando Cruz\, Coyote López\, Erick Jarvio\, Fernando Mendoza\, Víctor José Pitalúa\, Karas Urbanas\, Ma. Pamela Flores\, Marco Venegas\, Miguel Hernández\, Pilar Farfalla\, Rosario González Escribano\, Saúl Paz Cortes y Yumali Misleyda Torres. \nLa exposición La misma luna\, podrá visitarse hasta el 7 de junio en un horario de martes a domingo de las 9:00 a las 17:00 horas en el mezzanine del MAX.
URL:https://www.quierodisfrutar.mx/evento/la-misma-luna-grafica-contemporanea-en-el-max/
LOCATION:Mezzanine Museo de Antropoligía de Xalapa\, Av. Xalapa\, Col. Unidad Magisteria\, Xalapa\, Veracruz\, 91017\, México
CATEGORIES:Arte
END:VEVENT
END:VCALENDAR