BEGIN:VCALENDAR
VERSION:2.0
PRODID:-//Quiero Disfrutar - ECPv6.15.1.1//NONSGML v1.0//EN
CALSCALE:GREGORIAN
METHOD:PUBLISH
X-WR-CALNAME:Quiero Disfrutar
X-ORIGINAL-URL:https://www.quierodisfrutar.mx
X-WR-CALDESC:Eventos para Quiero Disfrutar
REFRESH-INTERVAL;VALUE=DURATION:PT1H
X-Robots-Tag:noindex
X-PUBLISHED-TTL:PT1H
BEGIN:VTIMEZONE
TZID:America/Mexico_City
BEGIN:DAYLIGHT
TZOFFSETFROM:-0600
TZOFFSETTO:-0500
TZNAME:CDT
DTSTART:20230402T080000
END:DAYLIGHT
BEGIN:STANDARD
TZOFFSETFROM:-0500
TZOFFSETTO:-0600
TZNAME:CST
DTSTART:20231029T070000
END:STANDARD
END:VTIMEZONE
BEGIN:VEVENT
DTSTART;VALUE=DATE:20230605
DTEND;VALUE=DATE:20230701
DTSTAMP:20260425T191134
CREATED:20230605T232642Z
LAST-MODIFIED:20230605T232642Z
UID:51025-1685923200-1688169599@www.quierodisfrutar.mx
SUMMARY:Actividades culturales en Xalapa
DESCRIPTION:Actividades culturales en Xalapa\n  \n 
URL:https://www.quierodisfrutar.mx/evento/actividades-culturales-en-xalapa-4/
LOCATION:Veracruz
CATEGORIES:Actividades Altruistas
ATTACH;FMTTYPE=image/jpeg:https://www.quierodisfrutar.mx/wp-content/uploads/2023/06/Quiero-disfrutar-24.jpeg
END:VEVENT
BEGIN:VEVENT
DTSTART;VALUE=DATE:20230629
DTEND;VALUE=DATE:20230702
DTSTAMP:20260425T191134
CREATED:20230628T002823Z
LAST-MODIFIED:20230628T002857Z
UID:51110-1687996800-1688255999@www.quierodisfrutar.mx
SUMMARY:Festival Gastronómico del Pescador 2023 en Tuxpan
DESCRIPTION:
URL:https://www.quierodisfrutar.mx/evento/festival-gastronomico-del-pescador-2023-en-tuxpan/
LOCATION:Tuxpan\, Tuxpan\, Veracruz\, México
CATEGORIES:Arte,Concierto,Variados
ATTACH;FMTTYPE=image/jpeg:https://www.quierodisfrutar.mx/wp-content/uploads/2023/06/WhatsApp-Image-2023-06-27-at-7.22.18-PM.jpeg
END:VEVENT
BEGIN:VEVENT
DTSTART;TZID=America/Mexico_City:20230629T080000
DTEND;TZID=America/Mexico_City:20230629T170000
DTSTAMP:20260425T191134
CREATED:20230629T230006Z
LAST-MODIFIED:20230629T230006Z
UID:51114-1688025600-1688058000@www.quierodisfrutar.mx
SUMMARY:Invitación a escuela de verano
DESCRIPTION:Invitamos a toda la población interesada\, con énfasis a personas abogadas\, servidoras públicas y estudiantes de derecho\, a la Escuela Intensiva de Perspectiva de Género\, Derechos Humanos e Interseccionalidad. \nLa cual se llevará a cabo en las instalaciones de PROVEC A.C. ubicadas en Calle Gob. Antonio Pérez Rivera #149 col. Murillo Vidal entre Ferrocarril Interoceanico y Encanto. \n¡No te quedes atrasada/o y actualízate con nosotras! \n  \nPor una cultura de perspectiva de género y derechos humanos. \n  \nPara mayores informes enviar correo a escueladdhhpi@gmail.com \n  \n  \nPara incribirse en el siguien link: https://forms.gle/XeY4QS7EGvczJ5VcA \n  \n 
URL:https://www.quierodisfrutar.mx/evento/invitacion-a-escuela-de-verano/
LOCATION:Veracruz
CATEGORIES:Cursos
ATTACH;FMTTYPE=image/jpeg:https://www.quierodisfrutar.mx/wp-content/uploads/2023/06/Escuela.jpg
END:VEVENT
BEGIN:VEVENT
DTSTART;TZID=America/Mexico_City:20230629T180000
DTEND;TZID=America/Mexico_City:20230629T200000
DTSTAMP:20260425T191134
CREATED:20230627T173957Z
LAST-MODIFIED:20230627T173957Z
UID:51107-1688061600-1688068800@www.quierodisfrutar.mx
SUMMARY:Teatro de Títeres y objetos documentales
DESCRIPTION:
URL:https://www.quierodisfrutar.mx/evento/teatro-de-titeres-y-objetos-documentales/
LOCATION:Galería de Arte Contemporáneo\, Xalapeños Ilusres \, Xalapa\, Veracruz\, México
CATEGORIES:Arte,Conservatorio,Teatro
ATTACH;FMTTYPE=image/jpeg:https://www.quierodisfrutar.mx/wp-content/uploads/2023/06/CARTEL.jpg
END:VEVENT
END:VCALENDAR