BEGIN:VCALENDAR
VERSION:2.0
PRODID:-//Quiero Disfrutar - ECPv6.15.1.1//NONSGML v1.0//EN
CALSCALE:GREGORIAN
METHOD:PUBLISH
X-ORIGINAL-URL:https://www.quierodisfrutar.mx
X-WR-CALDESC:Eventos para Quiero Disfrutar
REFRESH-INTERVAL;VALUE=DURATION:PT1H
X-Robots-Tag:noindex
X-PUBLISHED-TTL:PT1H
BEGIN:VTIMEZONE
TZID:America/Mexico_City
BEGIN:DAYLIGHT
TZOFFSETFROM:-0600
TZOFFSETTO:-0500
TZNAME:CDT
DTSTART:20230402T080000
END:DAYLIGHT
BEGIN:STANDARD
TZOFFSETFROM:-0500
TZOFFSETTO:-0600
TZNAME:CST
DTSTART:20231029T070000
END:STANDARD
END:VTIMEZONE
BEGIN:VEVENT
DTSTART;VALUE=DATE:20230729
DTEND;VALUE=DATE:20230814
DTSTAMP:20260425T172730
CREATED:20230726T012152Z
LAST-MODIFIED:20230726T012445Z
UID:51129-1690588800-1691971199@www.quierodisfrutar.mx
SUMMARY:Turisteando en el Campus CAD
DESCRIPTION:¡Embárcate en una experiencia única en el Campus CAD!\n\n\nLa Fundación UV a través del Campus CAD y Tlaqná Centro Cultural y en coordinación con la USBI-Xalapa de la Universidad Veracruzana\, nos invitan a disfrutar de un interesante recorrido en tranvía y caminando  mientras exploras las maravillas naturales que integran este campus universitario dedicado a la actividad académica\, deportiva\, cultural y recreativa\, que impulsa la formación integral de los estudiantes de la Universidad Veracruzana. Conoce sus bondades y sumérgete en un ambiente enriquecedor.¡Reserva tu lugar ahora! \n \n\n\n 29\, 30 de julio\n 5\, 6\, 12 y 13 de agosto\n 11:00 hrs\n 17:00 hrs\n \n Punto de encuentro: Módulo Turístico de Enríquez\n\n \n\n\nEn este link pueden encontrar la información completa: https://www.fundacionuv.org/blog/noticias/turisteando23.php \nY este link los lleva a la publicación en Facebook desde la cuenta de @VisitaXalapa https://www.facebook.com/story.php?story_fbid=pfbid03JeRQ4T185HtP6kzgqTsv9hVXqotb6HKTGxTfCtxMfmaj2haHyS3nmK5GjVGswicl&id=100081104208235&mibextid=qC1gEa 
URL:https://www.quierodisfrutar.mx/evento/51129/
LOCATION:Veracruz
CATEGORIES:Turismo,Variados
ATTACH;FMTTYPE=image/jpeg:https://www.quierodisfrutar.mx/wp-content/uploads/2023/07/TUristeando-Campus-CAD.jpg
END:VEVENT
BEGIN:VEVENT
DTSTART;TZID=America/Mexico_City:20230805T150000
DTEND;TZID=America/Mexico_City:20230805T170000
DTSTAMP:20260425T172730
CREATED:20230804T142247Z
LAST-MODIFIED:20230804T142247Z
UID:51146-1691247600-1691254800@www.quierodisfrutar.mx
SUMMARY:Función de Gala Generación Carnaval
DESCRIPTION:
URL:https://www.quierodisfrutar.mx/evento/funcion-de-gala-generacion-carnaval/
LOCATION:Paseo de los lagos\, Paseo de Los Lagos\, Xalapa\, Veracruz\, 91000\, México
CATEGORIES:Arte,Danza,Variados
ATTACH;FMTTYPE=image/jpeg:https://www.quierodisfrutar.mx/wp-content/uploads/2023/08/cartel.jpg
END:VEVENT
BEGIN:VEVENT
DTSTART;TZID=America/Mexico_City:20230805T173000
DTEND;TZID=America/Mexico_City:20230805T183000
DTSTAMP:20260425T172730
CREATED:20230802T010934Z
LAST-MODIFIED:20230802T010934Z
UID:51140-1691256600-1691260200@www.quierodisfrutar.mx
SUMMARY:Libro Masonería de antiguo gremio en Veracruz. Aproximaciones desde la historia\, la genealogía\, la interpretación y la educación
DESCRIPTION:Este sábado 5 de agosto será presentado en Coatepec el libro “Masonería de antiguo gremio en Veracruz. Aproximaciones desde la historia\, la genealogía\, la interpretación y la educación”\, coordinado por Carlos Adrián Campillo Lazcurain y Ramsés Rodríguez Aguilar\, y publicado bajo el sello de la Gran Logia “Unida Mexicana” y de Libres y Aceptados Masones del Gran Oriente de Veracruz. \nLa obra será presentada por los doctores Víctor Manuel Andrade Guevara (IIHS-UV)\, Julieta Arcos Chigo (FH-UV)\, Ana María del Socorro García García (FH-UV) y Neyla Polanco Gálvez (FS-UV)\, todos ellos docentes e investigadores de la Universidad Veracruzana. \nComo moderador fungirá el Dr. Francisco Enrique Mendoza Pérez y como anfitrión el presidente de la Logia Coatepetl No. 38\, el Dr. David Isaac Bautista Crescencio. El evento se realizará el sábado 5 de agosto de 2023 a las 17:30 horas en la Casa de Cultura de Coatepec\, ubicada en Pedro Jiménez del Campillo 4\, zona Centro\, en la ciudad de Coatepec\, Veracruz. \nLa entrada es libre y gratuita. \nEl libro se puede descargar en la siguiente liga: https://glumver.org.mx/libros/Libro_Masoner%C3%ADa_de_antiguo_gremio_en_Veracruz_Version_digital.pdf \n#ancientcraft#masonería#masón#freemasonryworldwide#freemasonsofamerica#freemason#Masonería#freemasonry#confederacionmasonica#grandeslogiasregulares#granlogiaunidamexicana#freemasonry#freemason#Masonería#Veracruz
URL:https://www.quierodisfrutar.mx/evento/libro-masoneria-de-antiguo-gremio-en-veracruz-aproximaciones-desde-la-historia-la-genealogia-la-interpretacion-y-la-educacion/
LOCATION:Casa de cultura Coatepec\, Coatepec\, Veracruz\, México
CATEGORIES:Charlas,Lectura
ATTACH;FMTTYPE=image/png:https://www.quierodisfrutar.mx/wp-content/uploads/2023/08/GLUM_Cartel-presentación-de-libro.png
END:VEVENT
END:VCALENDAR