BEGIN:VCALENDAR
VERSION:2.0
PRODID:-//Quiero Disfrutar - ECPv6.15.1.1//NONSGML v1.0//EN
CALSCALE:GREGORIAN
METHOD:PUBLISH
X-ORIGINAL-URL:https://www.quierodisfrutar.mx
X-WR-CALDESC:Eventos para Quiero Disfrutar
REFRESH-INTERVAL;VALUE=DURATION:PT1H
X-Robots-Tag:noindex
X-PUBLISHED-TTL:PT1H
BEGIN:VTIMEZONE
TZID:America/Mexico_City
BEGIN:DAYLIGHT
TZOFFSETFROM:-0600
TZOFFSETTO:-0500
TZNAME:CDT
DTSTART:20230402T080000
END:DAYLIGHT
BEGIN:STANDARD
TZOFFSETFROM:-0500
TZOFFSETTO:-0600
TZNAME:CST
DTSTART:20231029T070000
END:STANDARD
END:VTIMEZONE
BEGIN:VEVENT
DTSTART;VALUE=DATE:20230814
DTEND;VALUE=DATE:20230821
DTSTAMP:20260425T172730
CREATED:20230814T190119Z
LAST-MODIFIED:20230815T231358Z
UID:51152-1691971200-1692575999@www.quierodisfrutar.mx
SUMMARY:Actividades culturales en Xalapa durante el mes de agosto
DESCRIPTION:Actividades culturales en Xalapa durante el mes de agosto\n 
URL:https://www.quierodisfrutar.mx/evento/actividades-culturales-en-xalapa-durante-el-mes-de-julio-2/
LOCATION:Veracruz
CATEGORIES:Arte
ATTACH;FMTTYPE=image/jpeg:https://www.quierodisfrutar.mx/wp-content/uploads/2023/08/WhatsApp-Image-2023-08-14-at-1.52.19-PM-2.jpeg
END:VEVENT
BEGIN:VEVENT
DTSTART;TZID=America/Mexico_City:20230820T140000
DTEND;TZID=America/Mexico_City:20230820T160000
DTSTAMP:20260425T172730
CREATED:20230804T185246Z
LAST-MODIFIED:20230804T185246Z
UID:51149-1692540000-1692547200@www.quierodisfrutar.mx
SUMMARY:Misión Patitas S.O.S.
DESCRIPTION:Las Fanbase del grupo de kpop Super Junior en la republica mexicana realizan como celebración al cumpleaños de uno de sus integrantes Yesung; una iniciativa nacional para apoyar distintos refugios de animales\, como parte del proyecto la fanbase de la ciudad de Xalapa ( Sapphire Elf Xalapa) organiza un evento de recaudación de insumos para el refugió de perros y gatos “ Hogar 4 Patitas”. \nEl evento se llevara a cabo el día domingo 20 de agosto a las 2:00 pm en “las letras “del paseo de los lagos. Se esperan contar con la participación de toda la ciudadanía en esta noble y gratificante labor. \nLos insumos que necesita el refugio son los siguientes:-Alimento (croquetas) perro/cachorro/adulto y gato marca cat chow ( sellados\, no a granel).-Sobres de alimento húmedo\, atún\, arroz y pollo.-Artículos de limpieza: escobas\, recogedores\, jergas\, limpiadores\, jabón en polvo\, cloro y cubetas de piso.-Artículos de segunda mano: colchones\, sillones\, cobijas\, juguetes\, tazones para comida\, peluches y contenedores para almacenar agua.-Artículos de higiene y salud: medicamentos (no caducos) \, pipetas anti pulgas\, desparasitantes.
URL:https://www.quierodisfrutar.mx/evento/mision-patitas-s-o-s/
LOCATION:Paseo de los lagos\, Paseo de Los Lagos\, Xalapa\, Veracruz\, 91000\, México
CATEGORIES:Actividades Altruistas
ATTACH;FMTTYPE=image/jpeg:https://www.quierodisfrutar.mx/wp-content/uploads/2023/08/362269454_176826912077202_2337556543941836444_n.jpg
END:VEVENT
END:VCALENDAR