BEGIN:VCALENDAR
VERSION:2.0
PRODID:-//Quiero Disfrutar - ECPv6.15.1.1//NONSGML v1.0//EN
CALSCALE:GREGORIAN
METHOD:PUBLISH
X-ORIGINAL-URL:https://www.quierodisfrutar.mx
X-WR-CALDESC:Eventos para Quiero Disfrutar
REFRESH-INTERVAL;VALUE=DURATION:PT1H
X-Robots-Tag:noindex
X-PUBLISHED-TTL:PT1H
BEGIN:VTIMEZONE
TZID:America/Mexico_City
BEGIN:DAYLIGHT
TZOFFSETFROM:-0600
TZOFFSETTO:-0500
TZNAME:CDT
DTSTART:20230402T080000
END:DAYLIGHT
BEGIN:STANDARD
TZOFFSETFROM:-0500
TZOFFSETTO:-0600
TZNAME:CST
DTSTART:20231029T070000
END:STANDARD
END:VTIMEZONE
BEGIN:VEVENT
DTSTART;VALUE=DATE:20230902
DTEND;VALUE=DATE:20231001
DTSTAMP:20260425T154716
CREATED:20230902T191010Z
LAST-MODIFIED:20230902T191010Z
UID:51171-1693612800-1696118399@www.quierodisfrutar.mx
SUMMARY:Propone IVEC actividades artísticas y educativas con enfoque inclusivo durante el mes de septiembre
DESCRIPTION:El Instituto Veracruzano de la Cultura\, por medio del Programa de Inclusión a través de las Artes\, invita a toda la comunidad a participar en las diversas actividades inclusivas que propone durante el mes de septiembre\, diseñadas especialmente para honrar la diversidad y promover el disfrute cultural del amplio público veracruzano\, así también para personas en condición de discapacidad. Se ofrece una cartelera accesible para lector de pantalla en https://shorturl.at/xRXZ3. \nLa Galería de Arte Contemporáneo de Xalapa invita a la comunidad de personas sordas a disfrutar de la exposición Concreto\, obra del artista Manuel Velázquez\, la cual cuenta con una pantalla que brinda información sobre la sobre la muestra con interpretación en Lengua de Señas Mexicana. Asimismo\, el miércoles 6 de septiembre a las 17:00 horas se realizará una visita guiada para la comunidad sorda contando con la participación de la intérprete Aleisha Collins y el destacado artista plástico. \nEn la Pinacoteca Diego Rivera se realizará el martes 12 a las 17:00 horas un conversatorio didáctico sobre el dibujo como medio de expresión\, actividad en vinculación con la comunidad LGBTTT+. Este diálogo y ejercicio libre de dibujo contará con la participación del artista Johnnie Calladhan. \nEn conmemoración del Día Nacional de las Mujeres con Discapacidad\, en el foro abierto del Ágora de la Ciudad se llevará a cabo una tarde recreativa el viernes 8 de septiembre\, de las  16:00 a 18:00 horas\, contando con la participación  de la Colectiva FemiDisca\, grupo de mujeres feministas en movimiento desde la discapacidad. \nEn el recinto más verde del IVEC\, el Jardín de las Esculturas\, la maestra Pilar Luengas presenta el Taller de cartonería tradicional\, a realizarse de lunes a viernes\, del 4 al 15 de septiembre. También continúan los recorridos dedicados a personas con discapacidad del programa permanente Un Jardín incluyente\, coordinado por Brenda Ramos. \nEl Centro Cultural Exconvento Betlehemita es sede de la  3ª Feria Nacional del Libro Infantil y Juvenil en la ciudad de Veracruz\, gran fiesta literaria que tendrá lugar del 30 de agosto al 3 de septiembre y que contará con diversas presentaciones editoriales interpretadas en Lengua de Señas Mexicana. \nDesde Tlacotalpan\, Veracruz\, el Centro Cultural del Sotavento genera un diálogo de integración comunitaria a los espacios y talleres del recinto cada miércoles\, de 11:00 a 12:30 horas\, dinámica con el objetivo de seguir vinculando y promoviendo sus actividades. \nPor último\, el Museo de Arte del Estado de Veracruz\, localizado en la ciudad de Orizaba\, llevará a cabo la “Jornada por la inclusión: Retos socioculturales de la comunidad sorda en México” el viernes 29 de septiembre\, de las 11:00 a las 17:00 horas. Asimismo\, invita a conocer la exposición permanente Diego ConSentido\, donde las personas con discapacidad pueden conocer a través de una experiencia multisensorial la obra del artista Diego Rivera. La entrada es gratuita\, de martes a domingo en horario de 10:00 a 19:00 horas. \n  \nPara seguir conociendo las actividades y acciones inclusivas que se realizan en el Instituto Veracruzano de la Cultura visita la página web www.ivec.gob.mx y las redes sociales @IVECoficial y @InclusionIVEC. Descarga la cartelera accesible para lector de pantalla en https://shorturl.at/xRXZ3.
URL:https://www.quierodisfrutar.mx/evento/propone-ivec-actividades-artisticas-y-educativas-con-enfoque-inclusivo-durante-el-mes-de-septiembre/
LOCATION:Veracruz
CATEGORIES:Arte,Variados
ATTACH;FMTTYPE=image/jpeg:https://www.quierodisfrutar.mx/wp-content/uploads/2023/09/Actividades-inclusivas-2-768x513.jpeg
END:VEVENT
BEGIN:VEVENT
DTSTART;TZID=America/Mexico_City:20230905T140000
DTEND;TZID=America/Mexico_City:20230907T170000
DTSTAMP:20260425T154716
CREATED:20230902T190837Z
LAST-MODIFIED:20230902T190837Z
UID:51167-1693922400-1694106000@www.quierodisfrutar.mx
SUMMARY:Invita IVEC a taller de grabado en relieve con el artista José Antonio Platas
DESCRIPTION:El Instituto Veracruzano de la Cultura invita a participar en el taller de grabado en relieve que impartirá el artista José Antonio Platas en el Centro Cultural del Sotavento. La actividad tendrá lugar del martes 5 al jueves 7 de septiembre\, a partir de las 14:00 horas\, en la calle Miguel Z. Cházaro 57\, en el centro de Tlacotalpan\, Veracruz. \nEste taller abre un espacio de diálogo\, análisis y práctica en torno a la disciplina de la gráfica y del grabado en relieve como sistema de estampación; las y los participantes podrán desarrollar sus habilidades\, y con la guía un experimentado maestro ampliar sus conocimientos. Así también formarán parte del proceso creativo de un proyecto colectivo a partir de la fauna endémica del Sotavento veracruzano. El resultado será instalado en una de las salas de exposición del recinto para complementar la exhibición Abezoodario\, colección de Antonio Platas que será inaugurada en el Centro Cultural del Sotavento el próximo 9 de septiembre. \nJosé Antonio Platas Olvera es egresado de la Escuela Nacional de Pintura\, Escultura y Grabado “La Esmeralda”\, maestro en Artes Visuales por la Universidad Nacional Autónoma de México (UNAM) y especialista en Museografía por la Escuela Nacional de Conservación\, Restauración y Museografía “Manuel del Castillo Negrete”. Es miembro del Sistema Nacional de Creadores de Arte en la emisión 2012. Ha sido seleccionado en diversos certámenes nacionales e internacionales y su obra se ha presentado en más de cincuenta muestras colectivas. Cuenta con veintidós exposiciones individuales\, siendo las más recientes Imágenes reversibles en 2015\,  Centricidad y excentricidad en 2016 y Ex−céntrico\, presentada de manera virtual en el sitio web del IVEC en 2021 y de forma presencial en la Casa de Cultura de Coatepec durante 2022. Actualmente su nueva exposición Abezoodario se presenta en el Museo de Arte Popular en la CDMX y a partir de la próxima semana se exhibirá precisamente en el Centro Cultural del Sotavento. \nEl IVEC reitera la invitación al taller de grabado en relieve del artista residente José Antonio Platas del martes 5 al jueves 7 de septiembre\, a partir de las 14:00 horas\, en el Centro Cultural del Sotavento. Consulta más información y conoce todas las actividades del recinto en las redes sociales @CentroCulturaldelSotavento. Visita el sitio web www.ivec.gob.mx para conocer la programación completa del Instituto Veracruzano de la Cultura.
URL:https://www.quierodisfrutar.mx/evento/invita-ivec-a-taller-de-grabado-en-relieve-con-el-artista-jose-antonio-platas/
LOCATION:Centro Tlacotalpan\, Miguel Z. Cházaro 57\, Tlacotalpan\, Veracruz\, México
CATEGORIES:Arte,Exposiciones
ATTACH;FMTTYPE=image/jpeg:https://www.quierodisfrutar.mx/wp-content/uploads/2023/09/Expo-768x907.jpeg
END:VEVENT
BEGIN:VEVENT
DTSTART;TZID=America/Mexico_City:20230906T193000
DTEND;TZID=America/Mexico_City:20230906T203000
DTSTAMP:20260425T154716
CREATED:20230905T160957Z
LAST-MODIFIED:20230905T160957Z
UID:51175-1694028600-1694032200@www.quierodisfrutar.mx
SUMMARY:Canto gregoriano o la fe medieval
DESCRIPTION:
URL:https://www.quierodisfrutar.mx/evento/canto-gregoriano-o-la-fe-medieval/
LOCATION:Sala Anexa de Tlaqná\, Complejo Cultural
CATEGORIES:Arte,Concierto
ATTACH;FMTTYPE=image/jpeg:https://www.quierodisfrutar.mx/wp-content/uploads/2023/09/carteles-all.jpg
END:VEVENT
END:VCALENDAR