BEGIN:VCALENDAR
VERSION:2.0
PRODID:-//Quiero Disfrutar - ECPv6.15.1.1//NONSGML v1.0//EN
CALSCALE:GREGORIAN
METHOD:PUBLISH
X-ORIGINAL-URL:https://www.quierodisfrutar.mx
X-WR-CALDESC:Eventos para Quiero Disfrutar
REFRESH-INTERVAL;VALUE=DURATION:PT1H
X-Robots-Tag:noindex
X-PUBLISHED-TTL:PT1H
BEGIN:VTIMEZONE
TZID:America/Mexico_City
BEGIN:DAYLIGHT
TZOFFSETFROM:-0600
TZOFFSETTO:-0500
TZNAME:CDT
DTSTART:20230402T080000
END:DAYLIGHT
BEGIN:STANDARD
TZOFFSETFROM:-0500
TZOFFSETTO:-0600
TZNAME:CST
DTSTART:20231029T070000
END:STANDARD
END:VTIMEZONE
BEGIN:VEVENT
DTSTART;VALUE=DATE:20230925
DTEND;VALUE=DATE:20231002
DTSTAMP:20260425T141111
CREATED:20230925T230834Z
LAST-MODIFIED:20230925T230834Z
UID:51237-1695600000-1696204799@www.quierodisfrutar.mx
SUMMARY:Actividades culturales en Xalapa durante el mes de septiembre
DESCRIPTION:Actividades culturales en Xalapa durante el mes de septiembre\n  \n  \n 
URL:https://www.quierodisfrutar.mx/evento/actividades-culturales-en-xalapa-durante-el-mes-de-septiembre-3/
LOCATION:Veracruz
CATEGORIES:Cine,Concierto,Concurso
ATTACH;FMTTYPE=image/jpeg:https://www.quierodisfrutar.mx/wp-content/uploads/2023/09/WhatsApp-Image-2023-09-25-at-6.02.04-PM.jpeg
END:VEVENT
BEGIN:VEVENT
DTSTART;VALUE=DATE:20230930
DTEND;VALUE=DATE:20231002
DTSTAMP:20260425T141111
CREATED:20230928T152922Z
LAST-MODIFIED:20230928T152922Z
UID:51267-1696032000-1696204799@www.quierodisfrutar.mx
SUMMARY:DONDE HABITAN LOS SUEÑOS
DESCRIPTION:
URL:https://www.quierodisfrutar.mx/evento/donde-habitan-los-suenos/
LOCATION:TRASMUNDO TEATRO\, Xalapeños Ilustres 171 casi 20 de nov\, Xalapa\, Veracruz\, 91000\, México
CATEGORIES:Arte,Teatro
ATTACH;FMTTYPE=image/jpeg:https://www.quierodisfrutar.mx/wp-content/uploads/2023/09/sueños.jpeg
ORGANIZER;CN="Trasmundo Teatro":MAILTO:trasmundoteatro@gmail.com
END:VEVENT
BEGIN:VEVENT
DTSTART;VALUE=DATE:20231001
DTEND;VALUE=DATE:20231009
DTSTAMP:20260425T141111
CREATED:20231001T225830Z
LAST-MODIFIED:20231001T225830Z
UID:51270-1696118400-1696809599@www.quierodisfrutar.mx
SUMMARY:Actividades culturales en Xalapa durante el mes de octubre
DESCRIPTION:Actividades culturales en Xalapa durante el mes de octubre \n  \n 
URL:https://www.quierodisfrutar.mx/evento/actividades-culturales-en-xalapa-durante-el-mes-de-octubre/
LOCATION:Veracruz
CATEGORIES:Arte
ATTACH;FMTTYPE=image/jpeg:https://www.quierodisfrutar.mx/wp-content/uploads/2023/10/WhatsApp-Image-2023-10-01-at-5.21.32-PM-2.jpeg
END:VEVENT
END:VCALENDAR