BEGIN:VCALENDAR
VERSION:2.0
PRODID:-//Quiero Disfrutar - ECPv6.15.1.1//NONSGML v1.0//EN
CALSCALE:GREGORIAN
METHOD:PUBLISH
X-WR-CALNAME:Quiero Disfrutar
X-ORIGINAL-URL:https://www.quierodisfrutar.mx
X-WR-CALDESC:Eventos para Quiero Disfrutar
REFRESH-INTERVAL;VALUE=DURATION:PT1H
X-Robots-Tag:noindex
X-PUBLISHED-TTL:PT1H
BEGIN:VTIMEZONE
TZID:America/Mexico_City
BEGIN:DAYLIGHT
TZOFFSETFROM:-0600
TZOFFSETTO:-0500
TZNAME:CDT
DTSTART:20230402T080000
END:DAYLIGHT
BEGIN:STANDARD
TZOFFSETFROM:-0500
TZOFFSETTO:-0600
TZNAME:CST
DTSTART:20231029T070000
END:STANDARD
END:VTIMEZONE
BEGIN:VEVENT
DTSTART;VALUE=DATE:20231003
DTEND;VALUE=DATE:20231101
DTSTAMP:20260425T122837
CREATED:20231006T154914Z
LAST-MODIFIED:20231006T154914Z
UID:51299-1696291200-1698796799@www.quierodisfrutar.mx
SUMMARY:
DESCRIPTION:
URL:https://www.quierodisfrutar.mx/evento/51299/
LOCATION:Veracruz
CATEGORIES:Arte,Variados
ATTACH;FMTTYPE=image/jpeg:https://www.quierodisfrutar.mx/wp-content/uploads/2023/10/F7tdGtNXAAATAaP.jpg
END:VEVENT
BEGIN:VEVENT
DTSTART;VALUE=DATE:20231019
DTEND;VALUE=DATE:20231203
DTSTAMP:20260425T122837
CREATED:20231013T183539Z
LAST-MODIFIED:20231013T183539Z
UID:51361-1697673600-1701561599@www.quierodisfrutar.mx
SUMMARY:"RITUS"\, exposición fotográfica
DESCRIPTION:
URL:https://www.quierodisfrutar.mx/evento/ritus-exposicion-fotografica/
LOCATION:Galería Mezzanine\, Av. Xalapa s/n Col. Unidad Magisterial\, Xalapa\, Veracruz\, 91010\, México
CATEGORIES:Arte,Exposiciones,Fotografía
ATTACH;FMTTYPE=image/jpeg:https://www.quierodisfrutar.mx/wp-content/uploads/2023/10/QuieroDisfrutar.jpeg
END:VEVENT
BEGIN:VEVENT
DTSTART;TZID=America/Mexico_City:20231027T190000
DTEND;TZID=America/Mexico_City:20231105T200000
DTSTAMP:20260425T122837
CREATED:20231018T152337Z
LAST-MODIFIED:20231018T152337Z
UID:51394-1698433200-1699214400@www.quierodisfrutar.mx
SUMMARY:La fábrica maldita presenta: Sótano del Terror
DESCRIPTION:La fábrica maldita presenta: Sótano del Terror \n  \n \nDel 27 de octubre al 5 de noviembre a partir de las 19:00 horas. En la avenida Adolfo Ruiz Cortines esquina Calle Hortensia\, Col. Represa del Carmen.
URL:https://www.quierodisfrutar.mx/evento/la-fabrica-maldita-presenta-sotano-del-terror/
LOCATION:Veracruz
CATEGORIES:Arte
ATTACH;FMTTYPE=image/jpeg:https://www.quierodisfrutar.mx/wp-content/uploads/2023/10/Sótano.jpg
END:VEVENT
BEGIN:VEVENT
DTSTART;VALUE=DATE:20231030
DTEND;VALUE=DATE:20231101
DTSTAMP:20260425T122837
CREATED:20231007T190815Z
LAST-MODIFIED:20231007T190815Z
UID:51311-1698624000-1698796799@www.quierodisfrutar.mx
SUMMARY:Llega a Xalapa el espectáculo HOGUERA Show de terror bosque briones
DESCRIPTION:– 12 artistas y asustadores en escena ¡Un espectáculo que no te puedes perder! \n– Vive un recorrido nocturno a través del bosque y conoce a sus habitantes. \n– Se presentará el 30 y 31 de Octubre\, en Pista Bosque Briones dentro de la Plaza Bosque Briones. \n– Recorridos cada 20 minutos a partir de las 20:00 hrs\, último recorrido 22:40 hrs. \n  \nLa Pista Bosque Briones será sede de “HOGUERA\, Show de terror” un espectáculo inolvidable en el corazón del bosque para vivirlo con familia y amigos. \nEl bosque despierta\, alguien ha roto el pacto y ahora los ecos del bosque quieren venganza y recuperar su libertad entregándoles a nuevas almas en lo profundo del Bosque Briones. \n¿Podrás salir del bosque en el que todos entran pero nadie sale? \n“Habrá mucho terror\, un fotógrafo los acompañará durante el recorrido y tenemos la opción de asistir al Meet&greet terrorífico con los actores y asustadores para que cada uno capte las mejores fotografías\, videos\, ¡también el público puede venir disfrazado!” menciona Ruth Vargas\, coproductora del show. \nTendrán la participación de 12 asustadores\, bailarines y actores profesionales para el espectáculo sea inolvidable y terrorífico para todos los visitantes del bosque. \nLos recorridos se llevarán a cabo el 30 y 31 de Octubre a partir de las 20:00 horas\, con recorridos cada 20 minutos\, siendo el último a las 22:40 horas\, por supuesto en Pista Bosque Briones\, que se encuentra dentro de la Plaza Bosque Briones ubicada en Carretera Antigua a Coatepec 2.7km local Ruedas Libres\, la entrada al espectáculo se encuentra al finalizar la tirolesa del lugar. \n¡Ya puedes comprar tus boletos en PREVENTA! y aprovechar del 40% de descuento\, adquiriendo tus boletos en: \nPUNTO DE VENTA \n📍 Plaza Bosque Briones\, local Ruedas Libres (al finalizar la tirolesa) Carretera Antigua a Coatepec 2.7km. en un horario de 09:00 a 18:00 hrs. \nBOLETOS ONLINE en nuestro sitio web \nhttps://ruedaslibres.com/hoguera/ \n*Cupo limitado \nCualquier duda también puedes enviar un mensaje vía Whats App al 22 81 64 93 87. \nNo te pierdas este espectáculo producido y dirigido por Ruth Vargas y Yoruba Romero by Duit Producta en colaboración con Ruedas Libres y Pista Bosque Briones.
URL:https://www.quierodisfrutar.mx/evento/llega-a-xalapa-el-espectaculo-hoguera-show-de-terror-bosque-briones/
LOCATION:Bosque Briones\, antiguo camino a Coatepec km 2.7\, Coatepec Ver\, Veracruz\, México
CATEGORIES:Turismo,Variados
ATTACH;FMTTYPE=image/jpeg:https://www.quierodisfrutar.mx/wp-content/uploads/2023/10/HOGUERA-FINAL.jpeg
END:VEVENT
BEGIN:VEVENT
DTSTART;VALUE=DATE:20231030
DTEND;VALUE=DATE:20231101
DTSTAMP:20260425T122839
CREATED:20231027T155509Z
LAST-MODIFIED:20231027T155509Z
UID:51455-1698624000-1698796799@www.quierodisfrutar.mx
SUMMARY:Jornadas Funerarias
DESCRIPTION:
URL:https://www.quierodisfrutar.mx/evento/jornadas-funerarias/
LOCATION:Centro de Estudios de la Cultura y la Comunicación\, Benito Juárez 126\, Xalapa\, Veracruz\, 91000\, México
CATEGORIES:Arte,Fiesta y tradición
ATTACH;FMTTYPE=image/png:https://www.quierodisfrutar.mx/wp-content/uploads/2023/10/POSTCartel-Jornadas.png
END:VEVENT
BEGIN:VEVENT
DTSTART;VALUE=DATE:20231031
DTEND;VALUE=DATE:20231103
DTSTAMP:20260425T122839
CREATED:20231006T200406Z
LAST-MODIFIED:20231006T200506Z
UID:51303-1698710400-1698969599@www.quierodisfrutar.mx
SUMMARY:Altar del Día de Muertos más grande del mundo
DESCRIPTION:
URL:https://www.quierodisfrutar.mx/evento/altar-del-dia-de-muertos-mas-grande-del-mundo/
LOCATION:Velodromo Xalapa\, Salida a coatepec\, Xalapa\, Veracruz\, 91000\, México
CATEGORIES:Arte,Fiesta y tradición,Turismo,Variados
ATTACH;FMTTYPE=image/jpeg:https://www.quierodisfrutar.mx/wp-content/uploads/2023/10/F7yNGKoaMAAxylh.jpg
END:VEVENT
BEGIN:VEVENT
DTSTART;TZID=America/Mexico_City:20231031T160000
DTEND;TZID=America/Mexico_City:20231031T210000
DTSTAMP:20260425T122839
CREATED:20231026T151312Z
LAST-MODIFIED:20231026T151312Z
UID:51451-1698768000-1698786000@www.quierodisfrutar.mx
SUMMARY:Desfile de Día de Muertos en Las Vigas de Ramírez
DESCRIPTION:
URL:https://www.quierodisfrutar.mx/evento/desfile-de-dia-de-muertos-en-las-vigas-de-ramirez/
LOCATION:Las Vigas de Ramírez\, Ver.
CATEGORIES:Arte,Fiesta y tradición,Turismo
ATTACH;FMTTYPE=image/jpeg:https://www.quierodisfrutar.mx/wp-content/uploads/2023/10/WhatsApp-Image-2023-10-25-at-8.45.46-PM.jpeg
END:VEVENT
BEGIN:VEVENT
DTSTART;TZID=America/Mexico_City:20231031T190000
DTEND;TZID=America/Mexico_City:20231104T000000
DTSTAMP:20260425T122839
CREATED:20231024T145753Z
LAST-MODIFIED:20231024T145838Z
UID:51442-1698778800-1699056000@www.quierodisfrutar.mx
SUMMARY:Bosque del Terror
DESCRIPTION:RANCHO LEYENDA LES INVITA A LA CUARTA EDICIÓN DE BOSQUE DEL TERROR \nUN EVENTO TOTALMENTE REMASTERIZADO.  \nATREVETE A VIVIR MUCHAS EXPERIENCIAS PARANORMALES Y A ESCUCHAR VIEJAS HISTORIAS QUE A LO LARGO DEL TIEMPO SE HAN PRESENCIADO EN ESTE LUGAR. \nVIVE UN TENEBROSO RECORRIDO POR NUESTRO BOSQUE LLENO DE PERSONAJES  QUE VIENEN DIRECTAMENTE DEL INFRAMUNDO  Y QUE HARÁN SUBIR TU ADRENALINA MINUTO A MINUTO MIENTRAS CAMINAS POR LA OSCURIDAD.  \nVEN Y DISFRUTA ESTA TEMPORADA DE DÍA DE MUERTOS  UN ESPECTÁCULO ÚNICO Y DIFERENTE   \n31 DE OCTUBRE\, 1\, 2\, 3 Y 4 DE NOVIEMBRE DEL 2023. \nRANCHO LA LEYENDA TE INVITA.  \nADEMÁS DEL RECORRIDO\, TENDREMOS DIFERENTES ACTIVIDADES PARA HACER TU VISITA MAS PLACENTERA. \n PROYECCIÓN DE PELÍCULAS DE TERROR   \n VENTA DE COMIDA Y BEBIDAS  \nLICOR DE FRUTAS FABRICADOS DE MANERA ARTESANAL  CON FRUTOS COSECHADOS EN NUESTRO RANCHO.  \n FOGATA  \n SEGURIDAD Y VIGILANCIA  \n AMPLIO ESTACIONAMIENTO \nES IMPORTANTE QUE TOMES LAS SIGUIENTES RECOMENDACIONES PARA DISFRUTAR AL MÁXIMO ESTE EVENTO 100% FAMILIAR  \nZAPATO CÓMODO PARA RECORRER EL BOSQUE  \n ROPA ABRIGADORA \nNINGÚN OBJETO QUE PUEDA CAUSAR DAÑO A ALGUNA PERSONA \nES MOMENTO DE QUE VIVAS ESTAS TERRORÍFICA EXPERIENCIA.  \nBOSQUE DEL TERROR 2023 \nPARA MAYORES INFORMES \nEnvía un mensaje a BOSQUEDELTERROR 2023 Rancho Leyenda por WhatsApp. https://wa.me/5212284998430 
URL:https://www.quierodisfrutar.mx/evento/bosque-del-terror/
LOCATION:Rancho Leyenda\, Carretera Jilotepec\, Jilotepec\, Veracruz\, México
CATEGORIES:Turismo,Variados
ATTACH;FMTTYPE=image/jpeg:https://www.quierodisfrutar.mx/wp-content/uploads/2023/10/395406997_836992511242173_207636136906496006_n.jpg
END:VEVENT
END:VCALENDAR