BEGIN:VCALENDAR
VERSION:2.0
PRODID:-//Quiero Disfrutar - ECPv6.15.1.1//NONSGML v1.0//EN
CALSCALE:GREGORIAN
METHOD:PUBLISH
X-ORIGINAL-URL:https://www.quierodisfrutar.mx
X-WR-CALDESC:Eventos para Quiero Disfrutar
REFRESH-INTERVAL;VALUE=DURATION:PT1H
X-Robots-Tag:noindex
X-PUBLISHED-TTL:PT1H
BEGIN:VTIMEZONE
TZID:America/Mexico_City
BEGIN:DAYLIGHT
TZOFFSETFROM:-0600
TZOFFSETTO:-0500
TZNAME:CDT
DTSTART:20230402T080000
END:DAYLIGHT
BEGIN:STANDARD
TZOFFSETFROM:-0500
TZOFFSETTO:-0600
TZNAME:CST
DTSTART:20231029T070000
END:STANDARD
END:VTIMEZONE
BEGIN:VEVENT
DTSTART;VALUE=DATE:20231019
DTEND;VALUE=DATE:20231203
DTSTAMP:20260425T122909
CREATED:20231013T183539Z
LAST-MODIFIED:20231013T183539Z
UID:51361-1697673600-1701561599@www.quierodisfrutar.mx
SUMMARY:"RITUS"\, exposición fotográfica
DESCRIPTION:
URL:https://www.quierodisfrutar.mx/evento/ritus-exposicion-fotografica/
LOCATION:Galería Mezzanine\, Av. Xalapa s/n Col. Unidad Magisterial\, Xalapa\, Veracruz\, 91010\, México
CATEGORIES:Arte,Exposiciones,Fotografía
ATTACH;FMTTYPE=image/jpeg:https://www.quierodisfrutar.mx/wp-content/uploads/2023/10/QuieroDisfrutar.jpeg
END:VEVENT
BEGIN:VEVENT
DTSTART;VALUE=DATE:20231101
DTEND;VALUE=DATE:20231201
DTSTAMP:20260425T122909
CREATED:20231101T175726Z
LAST-MODIFIED:20231101T175726Z
UID:51469-1698796800-1701388799@www.quierodisfrutar.mx
SUMMARY:Cartelera Cultural para el mes de Noviembre en Xalapa
DESCRIPTION:
URL:https://www.quierodisfrutar.mx/evento/cartelera-cultural-para-el-mes-de-noviembre-en-xalapa/
LOCATION:Veracruz
CATEGORIES:Arte,Exposiciones,Fiesta y tradición,Variados
ATTACH;FMTTYPE=image/jpeg:https://www.quierodisfrutar.mx/wp-content/uploads/2023/11/WhatsApp-Image-2023-11-01-at-11.46.41-AM.jpeg
END:VEVENT
BEGIN:VEVENT
DTSTART;VALUE=DATE:20231117
DTEND;VALUE=DATE:20231120
DTSTAMP:20260425T122909
CREATED:20231109T231905Z
LAST-MODIFIED:20231109T231905Z
UID:51505-1700179200-1700438399@www.quierodisfrutar.mx
SUMMARY:XII Congreso Tequio - Feria Artesanal
DESCRIPTION:
URL:https://www.quierodisfrutar.mx/evento/xii-congreso-tequio-feria-artesanal/
LOCATION:Paseo de los lagos\, Paseo de Los Lagos\, Xalapa\, Veracruz\, 91000\, México
CATEGORIES:Especiales
ATTACH;FMTTYPE=image/jpeg:https://www.quierodisfrutar.mx/wp-content/uploads/2023/11/1.jpeg
END:VEVENT
BEGIN:VEVENT
DTSTART;VALUE=DATE:20231118
DTEND;VALUE=DATE:20231119
DTSTAMP:20260425T122909
CREATED:20231006T234314Z
LAST-MODIFIED:20231006T234355Z
UID:51307-1700265600-1700351999@www.quierodisfrutar.mx
SUMMARY:Adriana Macías en Xalapa
DESCRIPTION:
URL:https://www.quierodisfrutar.mx/evento/adriana-macias-en-xalapa/
LOCATION:Auditorio SNTE sección 32\, Xalapa\, Veracruz\, México
CATEGORIES:Charlas
ATTACH;FMTTYPE=image/jpeg:https://www.quierodisfrutar.mx/wp-content/uploads/2023/10/evento.jpg
END:VEVENT
BEGIN:VEVENT
DTSTART;TZID=America/Mexico_City:20231118T190000
DTEND;TZID=America/Mexico_City:20231118T210000
DTSTAMP:20260425T122909
CREATED:20230609T202008Z
LAST-MODIFIED:20230609T202008Z
UID:51058-1700334000-1700341200@www.quierodisfrutar.mx
SUMMARY:Adriana Macías... Éxito Sin Pretextos
DESCRIPTION:
URL:https://www.quierodisfrutar.mx/evento/adriana-macias-exito-sin-pretextos/
LOCATION:Auditorio SNTE sección 32\, Xalapa\, Veracruz\, México
CATEGORIES:Variados
ATTACH;FMTTYPE=image/jpeg:https://www.quierodisfrutar.mx/wp-content/uploads/2023/06/adriana-macias-2.jpg
END:VEVENT
END:VCALENDAR