BEGIN:VCALENDAR
VERSION:2.0
PRODID:-//Quiero Disfrutar - ECPv6.15.1.1//NONSGML v1.0//EN
CALSCALE:GREGORIAN
METHOD:PUBLISH
X-WR-CALNAME:Quiero Disfrutar
X-ORIGINAL-URL:https://www.quierodisfrutar.mx
X-WR-CALDESC:Eventos para Quiero Disfrutar
REFRESH-INTERVAL;VALUE=DURATION:PT1H
X-Robots-Tag:noindex
X-PUBLISHED-TTL:PT1H
BEGIN:VTIMEZONE
TZID:America/Mexico_City
BEGIN:DAYLIGHT
TZOFFSETFROM:-0600
TZOFFSETTO:-0500
TZNAME:CDT
DTSTART:20230402T080000
END:DAYLIGHT
BEGIN:STANDARD
TZOFFSETFROM:-0500
TZOFFSETTO:-0600
TZNAME:CST
DTSTART:20231029T070000
END:STANDARD
END:VTIMEZONE
BEGIN:VEVENT
DTSTART;VALUE=DATE:20231201
DTEND;VALUE=DATE:20231223
DTSTAMP:20260425T103032
CREATED:20231201T180329Z
LAST-MODIFIED:20231201T180920Z
UID:51541-1701388800-1703289599@www.quierodisfrutar.mx
SUMMARY:Calendario Navideño 2023
DESCRIPTION:
URL:https://www.quierodisfrutar.mx/evento/calendario-navideno-2023/
LOCATION:Xalapa\, Centro de Xalapa\, Xalapa\, Veracruz\, 91000\, México
CATEGORIES:Arte,Fiesta y tradición,Variados
ATTACH;FMTTYPE=image/jpeg:https://www.quierodisfrutar.mx/wp-content/uploads/2023/12/GAJFLlIXsAAC-bk.jpg
END:VEVENT
BEGIN:VEVENT
DTSTART;VALUE=DATE:20231201
DTEND;VALUE=DATE:20240101
DTSTAMP:20260425T103032
CREATED:20231201T180757Z
LAST-MODIFIED:20231201T180757Z
UID:51545-1701388800-1704067199@www.quierodisfrutar.mx
SUMMARY:Cartelera Cultural Diciembre 2023
DESCRIPTION:
URL:https://www.quierodisfrutar.mx/evento/cartelera-cultural-diciembre-2023/
LOCATION:Xalapa\, Centro de Xalapa\, Xalapa\, Veracruz\, 91000\, México
CATEGORIES:Arte,Variados
ATTACH;FMTTYPE=image/jpeg:https://www.quierodisfrutar.mx/wp-content/uploads/2023/12/406508104_859501616178820_2790452773276217569_n.jpg
END:VEVENT
BEGIN:VEVENT
DTSTART;VALUE=DATE:20231214
DTEND;VALUE=DATE:20231224
DTSTAMP:20260425T103032
CREATED:20231209T195624Z
LAST-MODIFIED:20231209T195624Z
UID:51589-1702512000-1703375999@www.quierodisfrutar.mx
SUMMARY:TATUAJES POR JUGUETES - PACHAMAMA CLAUS 2023
DESCRIPTION:Juguetes nuevos con un valor de $300 pesos o más (traer tiket de compra)Juguetes usados\, que estén en buen estado\, de 3 en adelanteJuguetes NO violentosJuguetes que NO usen bateríasSolo se cambiara 1 tatuaje por los juguetes que traigasLos tatuajes serán de max. 5 cm. Tatuajes a 1 sola tintaTatuajes a 1 sola lineaTodo será donado el día 25 de diciembre por un servidor en las calles\, semáforos\, hospitales y colonias.Agenda a mi what’s 2292656423Fracc. Reforma Veracruz Ver.Vigencia del 14 al 23 de diciembre 2023Aplican restricciones.
URL:https://www.quierodisfrutar.mx/evento/tatuajes-por-juguetes-pachamama-claus-2023/
LOCATION:Veracruz
CATEGORIES:Variados
ATTACH;FMTTYPE=image/jpeg:https://www.quierodisfrutar.mx/wp-content/uploads/2023/12/404025199_323460883883846_6985500900687849289_n.jpg
END:VEVENT
BEGIN:VEVENT
DTSTART;TZID=America/Mexico_City:20231218T080000
DTEND;TZID=America/Mexico_City:20231218T170000
DTSTAMP:20260425T103032
CREATED:20231218T191455Z
LAST-MODIFIED:20231218T191455Z
UID:51597-1702886400-1702918800@www.quierodisfrutar.mx
SUMMARY:Cartelera Cultural Diciembre 2023
DESCRIPTION:Cartelera Cultural Diciembre 2023 \n  \n  \n\n		\n		\n			\n				\n			\n			\n				\n			\n			\n				\n			\n			\n				\n			\n			\n				\n			\n			\n				\n			\n			\n				\n			\n			\n				\n			\n			\n				\n			\n			\n				\n			\n			\n				\n			\n			\n				\n			\n			\n				\n			\n			\n		\n\n  \n  \n 
URL:https://www.quierodisfrutar.mx/evento/cartelera-cultural-diciembre-2023-2/
LOCATION:Veracruz
CATEGORIES:Arte
ATTACH;FMTTYPE=image/jpeg:https://www.quierodisfrutar.mx/wp-content/uploads/2023/12/406508104_859501616178820_2790452773276217569_n-1.jpg
END:VEVENT
END:VCALENDAR