BEGIN:VCALENDAR
VERSION:2.0
PRODID:-//Quiero Disfrutar - ECPv6.15.1.1//NONSGML v1.0//EN
CALSCALE:GREGORIAN
METHOD:PUBLISH
X-WR-CALNAME:Quiero Disfrutar
X-ORIGINAL-URL:https://www.quierodisfrutar.mx
X-WR-CALDESC:Eventos para Quiero Disfrutar
REFRESH-INTERVAL;VALUE=DURATION:PT1H
X-Robots-Tag:noindex
X-PUBLISHED-TTL:PT1H
BEGIN:VTIMEZONE
TZID:America/Mexico_City
BEGIN:DAYLIGHT
TZOFFSETFROM:-0600
TZOFFSETTO:-0500
TZNAME:CDT
DTSTART:20240407T080000
END:DAYLIGHT
BEGIN:STANDARD
TZOFFSETFROM:-0500
TZOFFSETTO:-0600
TZNAME:CST
DTSTART:20241027T070000
END:STANDARD
END:VTIMEZONE
BEGIN:VEVENT
DTSTART;VALUE=DATE:20240301
DTEND;VALUE=DATE:20240304
DTSTAMP:20260425T052247
CREATED:20240226T173521Z
LAST-MODIFIED:20240226T173630Z
UID:51703-1709251200-1709510399@www.quierodisfrutar.mx
SUMMARY:Invita al estreno de "La máquina de hacer teatro ".
DESCRIPTION:La compañía de teatro «Ese perro está enroscado»\, radicada en Xalapa invita al estreno de nuestro último estreno: \n  \n«La máquina de hacer teatro «. \nProyecto apoyado por el Programa de Estímulo para la Creación y Desarrollo Artístico PECDA Veracruz 2023. \n  \nEspectáculo callejero para toda la familia\, que incluye tres obras cortas y el uso de máscaras\, títeres y sombras. Se presentará este viernes 1 y sábado 2 de marzo a las 16:30 horas en el Parque Sandino (A. Mella 6A Adalberto Tejeda. A unos metros de la Facultad de Artes de la Universidad Veracruzana). Y el domingo 3 de marzo a las 19:00 horas en la plaza Xallitic (Xallitic\, Zona Centro). La entrada es libre. \n  \n«La máquina de hacer teatro» cuenta con la dirección y dramaturgia de Vladimir Arzate\, la producción de Grecia Melo y las actuaciones de Carolina Hérom y Daniel Hurtado. \n  \n«Ese perro está enroscado» es una compañía de teatro físico que se presenta en teatros\, y también cuenta con espectáculos callejeros que han recorrido las calles de Xalapa y los semáforos está ciudad los últimos diez años. \n  \nPueden encontrar más información en:  \nFacebook; Ese perro está enroscado \nInstagram; ese_perro_esta_enroscado \n  \n \n 
URL:https://www.quierodisfrutar.mx/evento/invita-al-estreno-de-la-maquina-de-hacer-teatro/
LOCATION:Veracruz
CATEGORIES:Teatro
ATTACH;FMTTYPE=image/jpeg:https://www.quierodisfrutar.mx/wp-content/uploads/2024/02/Obra.jpg
END:VEVENT
BEGIN:VEVENT
DTSTART;VALUE=DATE:20240302
DTEND;VALUE=DATE:20240304
DTSTAMP:20260425T052247
CREATED:20240119T181719Z
LAST-MODIFIED:20240119T181830Z
UID:51621-1709337600-1709510399@www.quierodisfrutar.mx
SUMMARY:Expo Venta Dealers Cactus y Suculentas Xalapa
DESCRIPTION:2ª Expo Dealers Cactus y Suculentas Xalapa Nos complace invitarlos por segundo año en Xalapa Veracruz a la Expo Dealers Cactus y Suculentas\, el único evento de la región que reúne a más de 20 expositores de diversos estados de la republica especializados en cactus y suculentas\, ven y disfruta de un evento familiar único e irrepetible.2 y 3 de marzo del 2024 Casa del Lago UV\, Xalapa Sábado y domingo de 10:30 a 19:00hrs Entrada LibreEn el evento se podrá contar con:– Cactus– Suculentas– Macetas– Productos ecológicos – Carnívoras – Plantas de interior – Orquídeas– Artesanías – Comida y snaks – Pláticas– Talleres– Rifas– Entre otras cosas.Asiste y adéntrate en el maravilloso mundo de las plantas\, asiste a los talleres y pláticas para aprender los cuidados básicos\, tips de crecimiento y reproducción\, pero sobre todo no pierdas la oportunidad de encontrar esa planta exclusiva que tanto buscasEncuéntranos en Facebook como @Expo Venta Dealers Cactus y Suculentas Xalapa
URL:https://www.quierodisfrutar.mx/evento/expo-venta-dealers-cactus-y-suculentas-xalapa/
LOCATION:Casa del Lago UV\,  El Dique #27\,  Zona Centro\, Xalapa\, Veracruz\, México
CATEGORIES:Exposiciones
ATTACH;FMTTYPE=image/jpeg:https://www.quierodisfrutar.mx/wp-content/uploads/2024/01/415233433_3598926857054966_2211944685705888797_n.jpg
END:VEVENT
BEGIN:VEVENT
DTSTART;TZID=America/Mexico_City:20240302T100000
DTEND;TZID=America/Mexico_City:20240302T200000
DTSTAMP:20260425T052247
CREATED:20240302T200428Z
LAST-MODIFIED:20240302T200428Z
UID:51707-1709373600-1709409600@www.quierodisfrutar.mx
SUMMARY:Bazar con causa\, en Xalapa
DESCRIPTION:Bazar de segunda mano en apoyo a Eric Candanedo para que siga su tratamiento oncológico. \nDirección: Jorge Serdán Sur #80 
URL:https://www.quierodisfrutar.mx/evento/bazar-con-causa-en-xalapa/
LOCATION:Veracruz
CATEGORIES:Actividades Altruistas
ATTACH;FMTTYPE=image/jpeg:https://www.quierodisfrutar.mx/wp-content/uploads/2024/03/429731867_1181224556191856_6005800627613581741_n.jpg
END:VEVENT
END:VCALENDAR