BEGIN:VCALENDAR
VERSION:2.0
PRODID:-//Quiero Disfrutar - ECPv6.15.1.1//NONSGML v1.0//EN
CALSCALE:GREGORIAN
METHOD:PUBLISH
X-ORIGINAL-URL:https://www.quierodisfrutar.mx
X-WR-CALDESC:Eventos para Quiero Disfrutar
REFRESH-INTERVAL;VALUE=DURATION:PT1H
X-Robots-Tag:noindex
X-PUBLISHED-TTL:PT1H
BEGIN:VTIMEZONE
TZID:America/Mexico_City
BEGIN:DAYLIGHT
TZOFFSETFROM:-0600
TZOFFSETTO:-0500
TZNAME:CDT
DTSTART:20240407T080000
END:DAYLIGHT
BEGIN:STANDARD
TZOFFSETFROM:-0500
TZOFFSETTO:-0600
TZNAME:CST
DTSTART:20241027T070000
END:STANDARD
END:VTIMEZONE
BEGIN:VEVENT
DTSTART;VALUE=DATE:20240303
DTEND;VALUE=DATE:20240308
DTSTAMP:20260425T052420
CREATED:20240220T001350Z
LAST-MODIFIED:20240220T001350Z
UID:51690-1709424000-1709855999@www.quierodisfrutar.mx
SUMMARY:Museo de la Lectura COLVER 2024
DESCRIPTION:En el Marco del Museo de la Lectura COLVER 2024\, el Colegio de Veracruz invitan a la presentación de diversos eventos que se llevará a cabo del 3 al 7 de marzo en el Museo Kaná
URL:https://www.quierodisfrutar.mx/evento/museo-de-la-lectura-colver-2024/
LOCATION:Veracruz
CATEGORIES:Educativos
ATTACH;FMTTYPE=image/jpeg:https://www.quierodisfrutar.mx/wp-content/uploads/2024/02/Museo.jpg
END:VEVENT
BEGIN:VEVENT
DTSTART;TZID=America/Mexico_City:20240306T080000
DTEND;TZID=America/Mexico_City:20240306T170000
DTSTAMP:20260425T052420
CREATED:20240306T162959Z
LAST-MODIFIED:20240306T162959Z
UID:51722-1709712000-1709744400@www.quierodisfrutar.mx
SUMMARY:Primer encuentro Baile Fitness 2024
DESCRIPTION:
URL:https://www.quierodisfrutar.mx/evento/primer-encuentro-baile-fitness-2024/
LOCATION:Veracruz
ATTACH;FMTTYPE=image/jpeg:https://www.quierodisfrutar.mx/wp-content/uploads/2024/03/fitnes.jpg
END:VEVENT
BEGIN:VEVENT
DTSTART;TZID=America/Mexico_City:20240306T080000
DTEND;TZID=America/Mexico_City:20240306T170000
DTSTAMP:20260425T052420
CREATED:20240306T163740Z
LAST-MODIFIED:20240306T163740Z
UID:51726-1709712000-1709744400@www.quierodisfrutar.mx
SUMMARY:Evento Fitness con causa
DESCRIPTION:
URL:https://www.quierodisfrutar.mx/evento/evento-fitness-con-causa/
LOCATION:Veracruz
ATTACH;FMTTYPE=image/jpeg:https://www.quierodisfrutar.mx/wp-content/uploads/2024/03/Evento.jpg
END:VEVENT
END:VCALENDAR