BEGIN:VCALENDAR
VERSION:2.0
PRODID:-//Quiero Disfrutar - ECPv6.15.1.1//NONSGML v1.0//EN
CALSCALE:GREGORIAN
METHOD:PUBLISH
X-WR-CALNAME:Quiero Disfrutar
X-ORIGINAL-URL:https://www.quierodisfrutar.mx
X-WR-CALDESC:Eventos para Quiero Disfrutar
REFRESH-INTERVAL;VALUE=DURATION:PT1H
X-Robots-Tag:noindex
X-PUBLISHED-TTL:PT1H
BEGIN:VTIMEZONE
TZID:America/Mexico_City
BEGIN:DAYLIGHT
TZOFFSETFROM:-0600
TZOFFSETTO:-0500
TZNAME:CDT
DTSTART:20240407T080000
END:DAYLIGHT
BEGIN:STANDARD
TZOFFSETFROM:-0500
TZOFFSETTO:-0600
TZNAME:CST
DTSTART:20241027T070000
END:STANDARD
END:VTIMEZONE
BEGIN:VEVENT
DTSTART;VALUE=DATE:20240317
DTEND;VALUE=DATE:20240320
DTSTAMP:20260425T052211
CREATED:20240314T012858Z
LAST-MODIFIED:20240314T012858Z
UID:51734-1710633600-1710892799@www.quierodisfrutar.mx
SUMMARY:Presentan la obra "Farah" de la actriz Grecia Melo
DESCRIPTION:Este fin de semana se presentará «Farah» unipersonal en español y lenguaje inventado\, de la actriz Grecia Melo. \nLa obra narra la historia de Farah\, una mujer que huye de la guerra refugiándose en la cosmopolita República de Corse\, donde una vieja amiga le ha conseguido trabajo como traductora. Sin embargo\, la barrera del lenguaje en una cultura ajena enfrenta a Farah con situaciones ridículas y melancólicas. \nEstá obra fue producida por la compañía Verité Teatro con el apoyo del Programa de Estímulo para la Creación y Desarrollo Artístico PECDA 2022; y ha sido seleccionada para formar parte de la Programación de Teatro del Centro Cultural del Bosque en la Ciudad de México\, el Festival de Unipersonales Xalapa 2023; y la Muestra Estatal de Artes Escénicas Veracruz 2023\, donde obtuvo una mención honoífica a Mejor intérprete. \nLas funciones se llevarán a cabo este domingo 17 de marzo a las 18:00 hrs en Trasmundo Teatro (Xalapeños Ilustres 171 Zona Centro)\, un foro independiente en la ciudad de Xalapa que busca ser un espacio de vanguardia y diversidad. \nPor otro lado\, habrá dos funciones más el sábado 16 y martes 19 de marzo en la Escuela Industrial Concepción Quirós Pérez\, que desde hace años es un centro de formación para los futuros artistas de esta ciudad. \nConsulta más información en el Instagram farah.teatro y Trasmundo Teatro. \n\n		\n		\n			\n				\n			\n				\n				Fotografía: @plachis_is_dead   \n				\n			\n				\n			\n				\n				Fotografía: @plachis_is_dead   \n				\n			\n				\n			\n				\n				Fotografía: @plachis_is_dead   \n				\n			\n				\n			\n				\n				Fotografía: @plachis_is_dead   \n				\n			\n				\n			\n				\n				Fotografía: @plachis_is_dead   \n				\n			\n				\n			\n				\n				Fotografía: @plachis_is_dead   \n				\n		\n\n 
URL:https://www.quierodisfrutar.mx/evento/presentan-la-obra-farah-de-la-actriz-grecia-melo/
LOCATION:Veracruz
CATEGORIES:Teatro
ATTACH;FMTTYPE=image/jpeg:https://www.quierodisfrutar.mx/wp-content/uploads/2024/03/Farah_foto6.jpg
END:VEVENT
END:VCALENDAR