BEGIN:VCALENDAR
VERSION:2.0
PRODID:-//Quiero Disfrutar - ECPv6.15.1.1//NONSGML v1.0//EN
CALSCALE:GREGORIAN
METHOD:PUBLISH
X-ORIGINAL-URL:https://www.quierodisfrutar.mx
X-WR-CALDESC:Eventos para Quiero Disfrutar
REFRESH-INTERVAL;VALUE=DURATION:PT1H
X-Robots-Tag:noindex
X-PUBLISHED-TTL:PT1H
BEGIN:VTIMEZONE
TZID:America/Mexico_City
BEGIN:DAYLIGHT
TZOFFSETFROM:-0600
TZOFFSETTO:-0500
TZNAME:CDT
DTSTART:20240407T080000
END:DAYLIGHT
BEGIN:STANDARD
TZOFFSETFROM:-0500
TZOFFSETTO:-0600
TZNAME:CST
DTSTART:20241027T070000
END:STANDARD
END:VTIMEZONE
BEGIN:VEVENT
DTSTART;VALUE=DATE:20240805
DTEND;VALUE=DATE:20240901
DTSTAMP:20260424T204804
CREATED:20240805T203625Z
LAST-MODIFIED:20240805T203625Z
UID:52098-1722816000-1725148799@www.quierodisfrutar.mx
SUMMARY:Eventos culturales en Xalapa durante el mes de agosto
DESCRIPTION:
URL:https://www.quierodisfrutar.mx/evento/eventos-culturales-en-xalapa-durante-el-mes-de-agosto/
LOCATION:Veracruz
CATEGORIES:Arte,Variados
ATTACH;FMTTYPE=image/jpeg:https://www.quierodisfrutar.mx/wp-content/uploads/2024/08/WhatsApp-Image-2024-08-05-at-3.18.58-PM-1.jpeg
END:VEVENT
BEGIN:VEVENT
DTSTART;VALUE=DATE:20240822
DTEND;VALUE=DATE:20240826
DTSTAMP:20260424T204804
CREATED:20240820T150527Z
LAST-MODIFIED:20240820T150527Z
UID:52165-1724284800-1724630399@www.quierodisfrutar.mx
SUMMARY:Velorios de Rancho
DESCRIPTION:
URL:https://www.quierodisfrutar.mx/evento/velorios-de-rancho/
LOCATION:TRASMUNDO TEATRO\, Xalapeños Ilustres 171 casi 20 de nov\, Xalapa\, Veracruz\, 91000\, México
CATEGORIES:Arte,Teatro
ATTACH;FMTTYPE=image/jpeg:https://www.quierodisfrutar.mx/wp-content/uploads/2024/08/quiero-disfrutar.jpeg
END:VEVENT
BEGIN:VEVENT
DTSTART;TZID=America/Mexico_City:20240823T190000
DTEND;TZID=America/Mexico_City:20240823T210000
DTSTAMP:20260424T204804
CREATED:20240820T172437Z
LAST-MODIFIED:20240820T172437Z
UID:52175-1724439600-1724446800@www.quierodisfrutar.mx
SUMMARY:Guitarras y salsa en Casa del Lago UV
DESCRIPTION:Casa del Lago UV se llenará de música con dos eventos inolvidables que prometen enriquecer a los asistentes con música y momentos vibrantes. El jueves 22 de agosto a las 19:00 horas\, el Ensamble Clásico de Guitarras\, presentará el concierto “Melodías y arreglos de la Maestra Adeï Berea”. Un homenaje a la destacada compositora que ha acompañado y dedicado obras a esta agrupación a lo largo del tiempo. \nEste grupo artístico\, cuenta con un gran reconocimiento por su interpretación de obras clásicas y contemporáneas\, se ha destacado por su habilidad para adaptar melodías complejas a un formato de guitarras\, creando un sonido único y cautivador. \nEl viernes 23 de agosto a las 19:00 horas\, se llevará a cabo la celebración de los 45 años de la Orquesta de Salsa UV\, con un Concierto Especial titulado “Salsa de mi corazón”. \nEsta agrupación es un ícono de música tropical en Veracruz y ha sido una plataforma para generaciones de músicos talentosos que han llevado el sabor de la salsa a escenarios de talla internacional. \nAmbos eventos se realizarán en el espacio universitario Casa del Lago UV de forma gratuita\, un lugar que ha sido testigo de innumerables presentaciones artísticas y que continúa siendo un punto de encuentro cultural en la región. \nPara más información de los Grupos Artísticos de la Universidad Veracruzana\, visita nuestras redes sociales de Difusión Cultural y descubre contenido exclusivo.
URL:https://www.quierodisfrutar.mx/evento/guitarras-y-salsa-en-casa-del-lago-uv/
LOCATION:Casa del Lago UV\,  El Dique #27\,  Zona Centro\, Xalapa\, Veracruz\, México
CATEGORIES:Arte,Concierto,Música y Danza
ATTACH;FMTTYPE=image/png:https://www.quierodisfrutar.mx/wp-content/uploads/2024/08/23-ago.png
END:VEVENT
END:VCALENDAR