BEGIN:VCALENDAR
VERSION:2.0
PRODID:-//Quiero Disfrutar - ECPv6.15.1.1//NONSGML v1.0//EN
CALSCALE:GREGORIAN
METHOD:PUBLISH
X-ORIGINAL-URL:https://www.quierodisfrutar.mx
X-WR-CALDESC:Eventos para Quiero Disfrutar
REFRESH-INTERVAL;VALUE=DURATION:PT1H
X-Robots-Tag:noindex
X-PUBLISHED-TTL:PT1H
BEGIN:VTIMEZONE
TZID:America/Mexico_City
BEGIN:DAYLIGHT
TZOFFSETFROM:-0600
TZOFFSETTO:-0500
TZNAME:CDT
DTSTART:20240407T080000
END:DAYLIGHT
BEGIN:STANDARD
TZOFFSETFROM:-0500
TZOFFSETTO:-0600
TZNAME:CST
DTSTART:20241027T070000
END:STANDARD
END:VTIMEZONE
BEGIN:VEVENT
DTSTART;VALUE=DATE:20240921
DTEND;VALUE=DATE:20241001
DTSTAMP:20260424T191141
CREATED:20240921T234849Z
LAST-MODIFIED:20240921T234945Z
UID:52236-1726876800-1727740799@www.quierodisfrutar.mx
SUMMARY:Actividades culturales en Xalapa
DESCRIPTION:
URL:https://www.quierodisfrutar.mx/evento/actividades-culturales-en-xalapa-5/
LOCATION:Veracruz
CATEGORIES:Arte,Variados
ATTACH;FMTTYPE=image/jpeg:https://www.quierodisfrutar.mx/wp-content/uploads/2024/09/WhatsApp-Image-2024-09-21-at-6.38.51-PM-3.jpeg
END:VEVENT
BEGIN:VEVENT
DTSTART;TZID=America/Mexico_City:20240927T190000
DTEND;TZID=America/Mexico_City:20240927T203000
DTSTAMP:20260424T191141
CREATED:20240924T144036Z
LAST-MODIFIED:20240924T144036Z
UID:52267-1727463600-1727469000@www.quierodisfrutar.mx
SUMMARY:“Aniversario del Ballet Folklórico UV: celebrando un viaje de tradiciones y raíces”
DESCRIPTION:El Ballet Folklórico de la Universidad Veracruzana celebra su 49° aniversario con una función especial el próximo viernes 27 de septiembre a las 19:00 horas\, en el Foro Miguel Vélez Arceo de Casa del Lago UV.\nEste grupo artístico\, es reconocido a nivel nacional e internacional\, ha sido un pilar fundamental en la preservación y difusión de las tradiciones dancísticas mexicanas. Fundado en 1975 como el “Ballet Folklórico de la Universidad Veracruzana” bajo la dirección del Maestro Miguel Vélez Arceo\, se incorporó a los grupos artísticos de la Máxima Casa de Estudios en Xalapa. Su labor ha sido premiada con la distinción de la Unión Nacional de Críticos de Música y Teatro como el “Mejor Ballet de México” por su autenticidad y calidad artística. A lo largo de su trayectoria dancística\, el ballet ha llevado su arte a foros en México y el extranjero\, presentándose en países de Europa\, Asia y América\, donde ha recibido numerosos premios. Cuenta con un equipo de profesionales y un laboratorio de danza donde los estudiantes reciben un entrenamiento riguroso hasta alcanzar un grado de excelencia en el escenario.\nDurante esta presentación se contará con un repertorio vibrante\, donde el Ballet Folklórico UV presentará una selección de bailes regionales que retratan la diversidad cultural del país\, desde los coloridos huapangos hasta las enérgicas danzas del sureste.\nEl evento será abierto a todo el público\, siendo una oportunidad para disfrutar de la riqueza del folklor mexicano en un espacio abierto como lo es Casa del Lago. Este aniversario marca casi cinco décadas de trabajo artístico continuo\, bajo la dirección de talentosos coreógrafos y maestros que han contribuido a posicionar al Ballet Folklórico UV como un referente cultural alrededor el mundo.\nNo te pierdas esta gran celebración que promete ser una presentación llena de colores\, música y tradición en honor a 49 años de trayectoria. Para conocer más sobre próximas actividades\, síguenos en nuestras redes sociales de Difusión Cultural UV.
URL:https://www.quierodisfrutar.mx/evento/aniversario-del-ballet-folklorico-uv-celebrando-un-viaje-de-tradiciones-y-raices/
LOCATION:Casa del Lago UV\,  El Dique #27\,  Zona Centro\, Xalapa\, Veracruz\, México
CATEGORIES:Arte,Danza
ATTACH;FMTTYPE=image/jpeg:https://www.quierodisfrutar.mx/wp-content/uploads/2024/09/27-sep.jpg
END:VEVENT
BEGIN:VEVENT
DTSTART;TZID=America/Mexico_City:20240927T190000
DTEND;TZID=America/Mexico_City:20240927T203000
DTSTAMP:20260424T191141
CREATED:20240924T151523Z
LAST-MODIFIED:20240924T151523Z
UID:52271-1727463600-1727469000@www.quierodisfrutar.mx
SUMMARY:Este viernes se presentará el tenor Roberto Macías\, en Coatepec
DESCRIPTION:“Passione” es el nombre del recital que ofrecerán el tenor Roberto Macías y el pianista Aurelio Aponte\, este viernes 27 de septiembre\, a las 19:00 horas en el Hotel Posada Coatepec\, ubicado en la calle Hidalgo número 9\, del Pueblo Mágico. \nEl recital fue preparado especialmente para el Festival Cultural San Jerónimo. En la primera parte del programa se interpretará un repertorio de canciones de autores italianos como Ernesto di Curtis\, Andrea Bixio y Pepino Di Capri. \nEn la segunda parte del recital se escucharán canciones de los autores mexicanos María Greever y Agustín Lara. En el segmento final\, fueron incluidos algunos boleros del compositor Armando Manzanero y un cierre con canciones mexicanas de fiestas patrias. \nRoberto Macías\, tenor originario de Colima\, tiene 35 años de radicar en Coatepec. Muy joven mostró su afición a la música y en especial al canto\, donde se encontró en la interpretación de canciones de corte romántico como el bolero y la balada. \nDedicado a su preparación en el Bel Canto\, ha tomado clases de técnica vocal e interpretación con los prestigiados maestros Alicia Hernández\, Samuel Alamilla y Mariano Fernández. Como integrante del Coro de la Orquesta Filarmónica de Xalapa\, se ha presentado en varios escenarios locales y de la entidad. Entrada libre para todo el público\, sólo se sugiere llegar temprano\, el cupo es limitado.
URL:https://www.quierodisfrutar.mx/evento/este-viernes-se-presentara-el-tenor-roberto-macias-en-coatepec/
LOCATION:Hotel Posada Coatepec\, calle Hidalgo número 9\, Coatepec\, Veracruz\, México
CATEGORIES:Arte,Concierto
ATTACH;FMTTYPE=image/jpeg:https://www.quierodisfrutar.mx/wp-content/uploads/2024/09/quiero-disfrutar-1.jpeg
END:VEVENT
END:VCALENDAR