BEGIN:VCALENDAR
VERSION:2.0
PRODID:-//Quiero Disfrutar - ECPv6.15.1.1//NONSGML v1.0//EN
CALSCALE:GREGORIAN
METHOD:PUBLISH
X-WR-CALNAME:Quiero Disfrutar
X-ORIGINAL-URL:https://www.quierodisfrutar.mx
X-WR-CALDESC:Eventos para Quiero Disfrutar
REFRESH-INTERVAL;VALUE=DURATION:PT1H
X-Robots-Tag:noindex
X-PUBLISHED-TTL:PT1H
BEGIN:VTIMEZONE
TZID:America/Mexico_City
BEGIN:DAYLIGHT
TZOFFSETFROM:-0600
TZOFFSETTO:-0500
TZNAME:CDT
DTSTART:20240407T080000
END:DAYLIGHT
BEGIN:STANDARD
TZOFFSETFROM:-0500
TZOFFSETTO:-0600
TZNAME:CST
DTSTART:20241027T070000
END:STANDARD
END:VTIMEZONE
BEGIN:VEVENT
DTSTART;TZID=America/Mexico_City:20241007T160000
DTEND;TZID=America/Mexico_City:20241129T173000
DTSTAMP:20260424T172325
CREATED:20241008T001435Z
LAST-MODIFIED:20241008T001435Z
UID:52305-1728316800-1732901400@www.quierodisfrutar.mx
SUMMARY:Convocan a los talleres de “lectura dramatizada”
DESCRIPTION:Estimados editores. \nMe pongo en contacto con ustedes\, para solicitar la publicación de la siguiente convocatoria: \n   \n La Biblioteca Gonzalo Aguirre Beltrán del Centro de Investigaciones y Estudios Superiores en Antropología Social\, unidad Golfo convoca a los talleres de “lectura dramatizada” \n  \nEl primero\, está dirigido a estudiantes de 13 a 15 años. \nSe llevará acabo los jueves. \nCon horario de 4 a 5:30 pm. \nDel 10 de octubre al 28 de noviembre del año en curso. \n  \nEl segundo\, se dirige a estudiantes mayores de 16 años y/o universitarios \nTendrá lugar los viernes. \nCon horario de 4 a 5:30 pm. \nDel 11 de octubre al 29 de noviembre del año en curso \n  \nLos cursos son gratuitos. Cupo limitado. \n  \nAmbos talleres serán impartidos por Monzerrat Capetillo. \n  \nEn 2016\, Monzerrat inició su formación teatral en el Taller Juvenil de Teatro «Francisco Javier Clavijero»\, en la cual realizó labores de coordinación y dirección. Participó del 2017 al 2019 en la Muestra Regional de Teatro y Artes Escénicas de Veracruz con la misma compañía. \n  \nDe 2018 al 2020 impartió el Taller Infantil y Juvenil de Teatro en el Centro Cultural Atarazanas y el Exconvento Betlehemita. En 2021 comenzó el proyecto Taller Konstantin para niños\, jóvenes y adultos. Actualmente es estudiante de la Facultad de Teatro por la Universidad Veracruzana\, en donde ha participado en obras como «De la calle» de Jesús González Dávila bajo la dirección de Rubén Reyes y montajes de teatro de formas animadas como «Hechos de maíz» de Miguel A. Asturias con dirección y adaptación de Oceany Mollinedo. \n  \nAgradezco de antemano el favor de su atención y quedo al pendiente para proporcionar cualquier información adicional que ustedes puedan requerir. \n  \nLes saluda \n  \nAtentamente \nCoordinadora del taller “lectura dramatizada”
URL:https://www.quierodisfrutar.mx/evento/convocan-a-los-talleres-de-lectura-dramatizada/
LOCATION:Veracruz
CATEGORIES:Cursos
ATTACH;FMTTYPE=image/png:https://www.quierodisfrutar.mx/wp-content/uploads/2024/10/Lectura-dramatizada-PRIMER-CURSO.png
END:VEVENT
BEGIN:VEVENT
DTSTART;TZID=America/Mexico_City:20241010T170000
DTEND;TZID=America/Mexico_City:20241010T183000
DTSTAMP:20260424T172325
CREATED:20241008T175639Z
LAST-MODIFIED:20241008T175639Z
UID:52309-1728579600-1728585000@www.quierodisfrutar.mx
SUMMARY:Ritmo y baile en Xallitic: Orquesta de Salsa UV
DESCRIPTION:La Dirección General de Difusión Cultural invita a la comunidad xalapeña a disfrutar de un concierto inolvidable en compañía de la Orquesta de Salsa UV titulado “Xallitic Pachanguero”\, que se llevará a cabo el jueves 10 de octubre a las 17:00 horas en el emblemático Barrio Mágico Xallitic. Este evento será una celebración en compañía de los ritmos y melodías de la salsa\, donde podrán disfrutar de una tarde llena de música y baile.\n \nLa Orquesta de Salsa UV agrupación reconocida por su energía contagiosa y su pasión por la música tropical\, ofrecerá un repertorio que incluye clásicos del género y composiciones originales como “No vale la pena”\, “Todo tiene su final”\, “Se me olvidó otra vez”\, entre otras\, en el que destacarán la riqueza cultural y musical del género.\n \n«Xallitic Pachanguero» no solo es una oportunidad para disfrutar de la música\, sino también para reunir a la comunidad y disfrutar de uno de los mejores barrios de Xalapa. Invitamos a todos los amantes de la salsa y la buena música a unirse a nosotros para una tarde inolvidable\, no olvides tus mejores pasos de baile.\n \nPara más información no olvides consultar nuestras redes sociales de Difusión Cultural UV\, así no te perderás de los próximos eventos y de contenido exclusivo.\n 
URL:https://www.quierodisfrutar.mx/evento/ritmo-y-baile-en-xallitic-orquesta-de-salsa-uv/
LOCATION:Barrio Xallitic\, Centro\, Xalapa\, Veracruz\, 91000\, México
CATEGORIES:Arte,Concierto
ATTACH;FMTTYPE=image/jpeg:https://www.quierodisfrutar.mx/wp-content/uploads/2024/10/10-oct.jpg
END:VEVENT
END:VCALENDAR