BEGIN:VCALENDAR
VERSION:2.0
PRODID:-//Quiero Disfrutar - ECPv6.15.1.1//NONSGML v1.0//EN
CALSCALE:GREGORIAN
METHOD:PUBLISH
X-WR-CALNAME:Quiero Disfrutar
X-ORIGINAL-URL:https://www.quierodisfrutar.mx
X-WR-CALDESC:Eventos para Quiero Disfrutar
REFRESH-INTERVAL;VALUE=DURATION:PT1H
X-Robots-Tag:noindex
X-PUBLISHED-TTL:PT1H
BEGIN:VTIMEZONE
TZID:America/Mexico_City
BEGIN:DAYLIGHT
TZOFFSETFROM:-0600
TZOFFSETTO:-0500
TZNAME:CDT
DTSTART:20240407T080000
END:DAYLIGHT
BEGIN:STANDARD
TZOFFSETFROM:-0500
TZOFFSETTO:-0600
TZNAME:CST
DTSTART:20241027T070000
END:STANDARD
END:VTIMEZONE
BEGIN:VEVENT
DTSTART;TZID=America/Mexico_City:20241007T160000
DTEND;TZID=America/Mexico_City:20241129T173000
DTSTAMP:20260424T172325
CREATED:20241008T001435Z
LAST-MODIFIED:20241008T001435Z
UID:52305-1728316800-1732901400@www.quierodisfrutar.mx
SUMMARY:Convocan a los talleres de “lectura dramatizada”
DESCRIPTION:Estimados editores. \nMe pongo en contacto con ustedes\, para solicitar la publicación de la siguiente convocatoria: \n   \n La Biblioteca Gonzalo Aguirre Beltrán del Centro de Investigaciones y Estudios Superiores en Antropología Social\, unidad Golfo convoca a los talleres de “lectura dramatizada” \n  \nEl primero\, está dirigido a estudiantes de 13 a 15 años. \nSe llevará acabo los jueves. \nCon horario de 4 a 5:30 pm. \nDel 10 de octubre al 28 de noviembre del año en curso. \n  \nEl segundo\, se dirige a estudiantes mayores de 16 años y/o universitarios \nTendrá lugar los viernes. \nCon horario de 4 a 5:30 pm. \nDel 11 de octubre al 29 de noviembre del año en curso \n  \nLos cursos son gratuitos. Cupo limitado. \n  \nAmbos talleres serán impartidos por Monzerrat Capetillo. \n  \nEn 2016\, Monzerrat inició su formación teatral en el Taller Juvenil de Teatro «Francisco Javier Clavijero»\, en la cual realizó labores de coordinación y dirección. Participó del 2017 al 2019 en la Muestra Regional de Teatro y Artes Escénicas de Veracruz con la misma compañía. \n  \nDe 2018 al 2020 impartió el Taller Infantil y Juvenil de Teatro en el Centro Cultural Atarazanas y el Exconvento Betlehemita. En 2021 comenzó el proyecto Taller Konstantin para niños\, jóvenes y adultos. Actualmente es estudiante de la Facultad de Teatro por la Universidad Veracruzana\, en donde ha participado en obras como «De la calle» de Jesús González Dávila bajo la dirección de Rubén Reyes y montajes de teatro de formas animadas como «Hechos de maíz» de Miguel A. Asturias con dirección y adaptación de Oceany Mollinedo. \n  \nAgradezco de antemano el favor de su atención y quedo al pendiente para proporcionar cualquier información adicional que ustedes puedan requerir. \n  \nLes saluda \n  \nAtentamente \nCoordinadora del taller “lectura dramatizada”
URL:https://www.quierodisfrutar.mx/evento/convocan-a-los-talleres-de-lectura-dramatizada/
LOCATION:Veracruz
CATEGORIES:Cursos
ATTACH;FMTTYPE=image/png:https://www.quierodisfrutar.mx/wp-content/uploads/2024/10/Lectura-dramatizada-PRIMER-CURSO.png
END:VEVENT
BEGIN:VEVENT
DTSTART;TZID=America/Mexico_City:20241027T130000
DTEND;TZID=America/Mexico_City:20241027T143000
DTSTAMP:20260424T172325
CREATED:20241025T191448Z
LAST-MODIFIED:20241025T191448Z
UID:52352-1730034000-1730039400@www.quierodisfrutar.mx
SUMMARY:Tributo musical: Mariachi UV celebra a Javier Solís en Xalapa
DESCRIPTION:Este domingo 27 de octubre a las 13:00 hrs.\, el Museo de Antropología de Xalapa se transformará en un escenario vibrante donde la música ranchera resonará en honor a uno de sus más grandes íconos: Javier Solís. La agrupación Mariachi UV se prepara con un programa lleno de pasión y el romanticismo de las letras que han tocado los corazones de generaciones\, prometiendo ser una velada llena de nostalgia y emoción en recuerdo del legado de uno de los más grandes intérpretes del género.\n \nEn este homenaje\, el talentoso grupo de Mariachi de la Universidad Veracruzana interpretará bajo cuerdas y trompetas los clásicos que hicieron de Solís una leyenda\, incluirán canciones como “En tu pelo”\, “Por qué me dejas”\, “Amor perdido”\, entre otras composiciones populares del artista.\n \nLa entrada es gratuita y para todo el público\, se recomienda llegar con anticipación para que no te quedes sin lugar. No te pierdas esta oportunidad única de revivir la mágica de la música ranchera y los clásicos que marcaron huella de una tradición mexicana. \n \nPara más información\, no olvides seguir las redes sociales de Difusión Cultural UV\, podrás encontrar contenido exclusivo e información de los próximos conciertos.
URL:https://www.quierodisfrutar.mx/evento/tributo-musical-mariachi-uv-celebra-a-javier-solis-en-xalapa/
LOCATION:Museo de Antropología de Xalapa\, Av. Xalapa\, Unidad Magisterial\, Xalapa 
CATEGORIES:Arte,Concierto
ATTACH;FMTTYPE=image/jpeg:https://www.quierodisfrutar.mx/wp-content/uploads/2024/10/27-oct.jpg
END:VEVENT
BEGIN:VEVENT
DTSTART;TZID=America/Mexico_City:20241027T190000
DTEND;TZID=America/Mexico_City:20241027T210000
DTSTAMP:20260424T172325
CREATED:20241022T144752Z
LAST-MODIFIED:20241022T144752Z
UID:52330-1730055600-1730062800@www.quierodisfrutar.mx
SUMMARY:Rodada Mexantolo 2024
DESCRIPTION:*RODADA MEXANTOLO* \nEl día domingo 27 de Octubre en Coatepec.  Punto de reunión 7:00pm en la parada del Aurrera.  \nTodas las cilindradas son Bienvenidas.
URL:https://www.quierodisfrutar.mx/evento/rodada-mexantolo-2024/
LOCATION:Coatepec\, Ver.\, Coatepec\, Veracruz\, México
CATEGORIES:Turismo,Variados
ATTACH;FMTTYPE=image/jpeg:https://www.quierodisfrutar.mx/wp-content/uploads/2024/10/462583637_1094731792016070_1522923707879532500_n-1.jpg
END:VEVENT
END:VCALENDAR