BEGIN:VCALENDAR
VERSION:2.0
PRODID:-//Quiero Disfrutar - ECPv6.15.1.1//NONSGML v1.0//EN
CALSCALE:GREGORIAN
METHOD:PUBLISH
X-ORIGINAL-URL:https://www.quierodisfrutar.mx
X-WR-CALDESC:Eventos para Quiero Disfrutar
REFRESH-INTERVAL;VALUE=DURATION:PT1H
X-Robots-Tag:noindex
X-PUBLISHED-TTL:PT1H
BEGIN:VTIMEZONE
TZID:America/Mexico_City
BEGIN:DAYLIGHT
TZOFFSETFROM:-0600
TZOFFSETTO:-0500
TZNAME:CDT
DTSTART:20240407T080000
END:DAYLIGHT
BEGIN:STANDARD
TZOFFSETFROM:-0500
TZOFFSETTO:-0600
TZNAME:CST
DTSTART:20241027T070000
END:STANDARD
END:VTIMEZONE
BEGIN:VEVENT
DTSTART;VALUE=DATE:20241118
DTEND;VALUE=DATE:20241213
DTSTAMP:20260424T134249
CREATED:20241119T183654Z
LAST-MODIFIED:20241119T183654Z
UID:52416-1731888000-1734047999@www.quierodisfrutar.mx
SUMMARY:Donación Navideña
DESCRIPTION:Este año hemos propuesto organizar una colecta para la Loc. de Perote ! Únete\, queremos que más niños reciban la palabra de Dios y un regalo. \nSi tienes algún juguete en buen estado que quieras donar te invitamos a sumarte. Te puedes contactar a los número que aparecen en la imagen. \nÚnete y juntos hagamos la diferencia.
URL:https://www.quierodisfrutar.mx/evento/donacion-navidena/
LOCATION:Veracruz
CATEGORIES:Actividades Altruistas
ATTACH;FMTTYPE=image/jpeg:https://www.quierodisfrutar.mx/wp-content/uploads/2024/11/463211809_591716890106241_1354058503959215419_n.jpg
END:VEVENT
BEGIN:VEVENT
DTSTART;VALUE=DATE:20241201
DTEND;VALUE=DATE:20241207
DTSTAMP:20260424T134249
CREATED:20241204T203454Z
LAST-MODIFIED:20241204T203454Z
UID:52513-1733011200-1733529599@www.quierodisfrutar.mx
SUMMARY:¡Celebra la Navidad con música en vivo! Disfruta de los últimos conciertos de diciembre con los Grupos UV
DESCRIPTION:La Dirección General de Difusión Cultural invita a todos a celebrar la temporada navideña con una serie de conciertos especiales que se llevarán a cabo del 1 al 16 de diciembre. Esta es una oportunidad única para disfrutar de la música y contagiarse del espíritu festivo\, con presentaciones para todos los gustos y con entrada libre. \nEl público podrá disfrutar de conciertos navideños con entrada gratuita en diversos espacios. Estas presentaciones estarán a cargo de Tlen Huicani\, Mariachi UV y Tlen Huicani Maderas\, quienes ofrecerán un repertorio navideño lleno de alegría\, magia y música en vivo. \n\n		\n		\n			\n				\n			\n			\n				\n			\n			\n				\n			\n			\n				\n			\n			\n		\n\nAdemás\, el Ensamble Clásico de Guitarras y el Trío Chopin\, ofrecerán conciertos de música clásica en el Teatro J.J. Herrera\, la Estancia Garnica y Radio UV\, todos con entrada libre. \nLos conciertos especiales con costo serán a cargo de la Orquesta Universitaria de Música Popular desde la sala de conciertos de Tlaqná\, Centro Cultural\, el sábado 7 de diciembre presentan: Rock en español con el grupo Rovolution 4 y el sábado 14 de diciembre: Oldies Night\, éxitos de los 70’s y 80’s\, los boletos se pueden adquirir en Tienda UV o en línea: \nhttps://empresasuv.comprarboletos.com/ \n¡Acompáñanos a vivir los últimos conciertos del año con los Grupos UV! No olvides compartir este evento con tus amigos y familiares. \n  \nPara más información visita las redes sociales de Difusión Cultural UV.
URL:https://www.quierodisfrutar.mx/evento/celebra-la-navidad-con-musica-en-vivo-disfruta-de-los-ultimos-conciertos-de-diciembre-con-los-grupos-uv/
LOCATION:Veracruz
CATEGORIES:Concierto
ATTACH;FMTTYPE=image/jpeg:https://www.quierodisfrutar.mx/wp-content/uploads/2024/12/ECG.jpg
END:VEVENT
BEGIN:VEVENT
DTSTART;VALUE=DATE:20241204
DTEND;VALUE=DATE:20241207
DTSTAMP:20260424T134249
CREATED:20241204T184441Z
LAST-MODIFIED:20241204T191030Z
UID:52493-1733270400-1733529599@www.quierodisfrutar.mx
SUMMARY:Actividades culturales en Xalapa
DESCRIPTION:Actividades culturales en Xalapa\n 
URL:https://www.quierodisfrutar.mx/evento/actividades-culturales-en-xalapa-8/
LOCATION:Veracruz
CATEGORIES:Concierto
ATTACH;FMTTYPE=image/jpeg:https://www.quierodisfrutar.mx/wp-content/uploads/2024/12/WhatsApp-Image-2024-12-04-at-12.38.09-PM.jpeg
END:VEVENT
BEGIN:VEVENT
DTSTART;TZID=America/Mexico_City:20241204T080000
DTEND;TZID=America/Mexico_City:20241204T170000
DTSTAMP:20260424T134249
CREATED:20241204T190315Z
LAST-MODIFIED:20241204T191859Z
UID:52504-1733299200-1733331600@www.quierodisfrutar.mx
SUMMARY:Suite de: "El Cascanueces y musicales de navidad
DESCRIPTION:  \n \n\n\nSe presentará la Orquesta Municipal de Xalapa con su segunda fecha para el concierto con causa.\nPresentan suite de : «El Cascanueces y musicales de navidad».\n\n\n Instalaciones del Palacio Municipal de Xalapa.\n4 de diciembre.\n19:00 horas.
URL:https://www.quierodisfrutar.mx/evento/suite-de-el-cascanueces-y-musicales-de-navidad/
LOCATION:Veracruz
CATEGORIES:Concierto
ATTACH;FMTTYPE=image/jpeg:https://www.quierodisfrutar.mx/wp-content/uploads/2024/12/WhatsApp-Image-2024-12-04-at-12.37.26-PM.jpeg
END:VEVENT
END:VCALENDAR