BEGIN:VCALENDAR
VERSION:2.0
PRODID:-//Quiero Disfrutar - ECPv6.15.1.1//NONSGML v1.0//EN
CALSCALE:GREGORIAN
METHOD:PUBLISH
X-WR-CALNAME:Quiero Disfrutar
X-ORIGINAL-URL:https://www.quierodisfrutar.mx
X-WR-CALDESC:Eventos para Quiero Disfrutar
REFRESH-INTERVAL;VALUE=DURATION:PT1H
X-Robots-Tag:noindex
X-PUBLISHED-TTL:PT1H
BEGIN:VTIMEZONE
TZID:America/Mexico_City
BEGIN:DAYLIGHT
TZOFFSETFROM:-0600
TZOFFSETTO:-0500
TZNAME:CDT
DTSTART:20250406T080000
END:DAYLIGHT
BEGIN:STANDARD
TZOFFSETFROM:-0500
TZOFFSETTO:-0600
TZNAME:CST
DTSTART:20251026T070000
END:STANDARD
END:VTIMEZONE
BEGIN:VEVENT
DTSTART;VALUE=DATE:20250120
DTEND;VALUE=DATE:20250127
DTSTAMP:20260424T120041
CREATED:20250120T193408Z
LAST-MODIFIED:20250120T193408Z
UID:52651-1737331200-1737935999@www.quierodisfrutar.mx
SUMMARY:Actividades culturales en la Capital
DESCRIPTION:Actividades culturales en la Capital\n  \n 
URL:https://www.quierodisfrutar.mx/evento/actividades-culturales-en-la-capital-2/
LOCATION:Veracruz
CATEGORIES:Variados
ATTACH;FMTTYPE=image/jpeg:https://www.quierodisfrutar.mx/wp-content/uploads/2025/01/WhatsApp-Image-2025-01-20-at-1.12.35-PM-1.jpeg
END:VEVENT
BEGIN:VEVENT
DTSTART;VALUE=DATE:20250120
DTEND;VALUE=DATE:20250121
DTSTAMP:20260424T120041
CREATED:20250121T020031Z
LAST-MODIFIED:20250121T020031Z
UID:52681-1737331200-1737417599@www.quierodisfrutar.mx
SUMMARY:¡Ballet Folklórico Juvenil de Veracruz abre sus puertas!
DESCRIPTION:¡Ballet Folklórico Juvenil de Veracruz abre sus puertas! Queremos que nuestra familia siga creciendo ¡Estamos muy emocionados por poder recibirte! Te recordamos que no necesitas experiencia\, ¡únicamente necesitamos de tus ganas por aprender! ¡Te esperamos con los brazos abiertos! ¡Danza y libera tu espíritu! Para mayor información: 2281249786\, 2288359363\, 2289793922. También\, puedes contactarnos a través de este medio. \n 
URL:https://www.quierodisfrutar.mx/evento/ballet-folklorico-juvenil-de-veracruz-abre-sus-puertas/
LOCATION:Veracruz
CATEGORIES:Cursos,Danza
ATTACH;FMTTYPE=image/jpeg:https://www.quierodisfrutar.mx/wp-content/uploads/2025/01/dd.jpg
END:VEVENT
END:VCALENDAR