BEGIN:VCALENDAR
VERSION:2.0
PRODID:-//Quiero Disfrutar - ECPv6.15.1.1//NONSGML v1.0//EN
CALSCALE:GREGORIAN
METHOD:PUBLISH
X-ORIGINAL-URL:https://www.quierodisfrutar.mx
X-WR-CALDESC:Eventos para Quiero Disfrutar
REFRESH-INTERVAL;VALUE=DURATION:PT1H
X-Robots-Tag:noindex
X-PUBLISHED-TTL:PT1H
BEGIN:VTIMEZONE
TZID:America/Mexico_City
BEGIN:DAYLIGHT
TZOFFSETFROM:-0600
TZOFFSETTO:-0500
TZNAME:CDT
DTSTART:20250406T080000
END:DAYLIGHT
BEGIN:STANDARD
TZOFFSETFROM:-0500
TZOFFSETTO:-0600
TZNAME:CST
DTSTART:20251026T070000
END:STANDARD
END:VTIMEZONE
BEGIN:VEVENT
DTSTART;VALUE=DATE:20250220
DTEND;VALUE=DATE:20250629
DTSTAMP:20260424T054654
CREATED:20250218T201743Z
LAST-MODIFIED:20250218T201804Z
UID:52777-1740009600-1751155199@www.quierodisfrutar.mx
SUMMARY:Cartelera de conciertos de la Orquesta Sinfónica de Xalapa
DESCRIPTION:La Orquesta Sinfónica de Xalapa\, en su misión de acercar la música a más personas\, comparten su cartelera de conciertos para los meses de febrero\, marzo\, abril\, mayo y junio. 
URL:https://www.quierodisfrutar.mx/evento/cartelera-de-conciertos-de-la-orquesta-sinfonica-de-xalapa/
LOCATION:Veracruz
CATEGORIES:Arte,Concierto
ATTACH;FMTTYPE=image/jpeg:https://www.quierodisfrutar.mx/wp-content/uploads/2025/02/CARTELERA_2025_TEMPO1-ACTUALIZADA_page-0001.jpg
END:VEVENT
BEGIN:VEVENT
DTSTART;VALUE=DATE:20250507
DTEND;VALUE=DATE:20250530
DTSTAMP:20260424T054654
CREATED:20250502T183329Z
LAST-MODIFIED:20250502T183329Z
UID:53060-1746576000-1748563199@www.quierodisfrutar.mx
SUMMARY:Los Grupos Artísticos UV con las mejores presentaciones
DESCRIPTION:La Dirección General de Difusión Cultural invita al público a disfrutar de una variada programación artística durante el mes de mayo\, con eventos pensados para todos los gustos y edades.\nDesde la elegancia de la música clásica hasta la energía del mariachi\, el jazz\, la trova y el bolero\, pasando por la alegría de la marimba veracruzana y una presentación de los inolvidables éxitos de Chicago\, esta guía de presentaciones celebra la diversidad musical con propuestas de alta calidad que enriquecen la vida cultural de nuestra comunidad. Toma nota de alguno de ellos:\n\nMiércoles 7 y jueves 8: Orquesta Universitaria de Música Popular\, en la Parroquia San José y la Sala Anexa de Tlaqná.\nLos días 8\,10\,11 y 22: Trío Chopin con programas de música clásica en diferentes sedes de la ciudad.\nJueves 8: Tardes de Xallitic con Tlen Huicani Maderas en el Barrio Mágico de Xallitic (19:00 h).\nDomingo 11: Especial del día de las madres con el Mariachi UV desde el Museo de Antropología de Xalapa (13:00 h).\nMiércoles 14: Esta noche suena a… Sergio Martínez con un programa de Grandes éxitos de Chicago en el Foro de Difusión Cultural UV (19:00 h).\nViernes 23: Concierto para la 30° edición FILU dedicada a Canadá y EUA con la Orquesta Sinfónica de Xalapa y Orbis Tertius en Tlaqná\, Centro Cultural (20:00 h).\nJueves 29: Trova y Bolero con Cutberto Navarro en el Museo San Rafael Guízar y Valencia (18:00 h)\n\nUno de los momentos más esperados será “Salsa en el Nido”\, este evento promete una noche inolvidable de ritmo y sabor latino\, con el talento de la Orquesta de Salsa UV y la Xalli Big Band\, en un ambiente para toda la familia. La cita es el sábado 17 de mayo a las 18:00 h en el Gimnasio Nido del Halcón. Los boletos están disponibles en línea empresasuv.comprarboletos.com y en Tienda UV.\nConsulta la programación completa en nuestras redes sociales y acompáñanos en todos los eventos.
URL:https://www.quierodisfrutar.mx/evento/los-grupos-artisticos-uv-con-las-mejores-presentaciones/
LOCATION:Veracruz
CATEGORIES:Arte,Concierto,Variados
ATTACH;FMTTYPE=image/jpeg:https://www.quierodisfrutar.mx/wp-content/uploads/2025/05/MAYO.jpg
END:VEVENT
BEGIN:VEVENT
DTSTART;VALUE=DATE:20250507
DTEND;VALUE=DATE:20250529
DTSTAMP:20260424T054654
CREATED:20250507T232209Z
LAST-MODIFIED:20250507T232209Z
UID:53079-1746576000-1748476799@www.quierodisfrutar.mx
SUMMARY:La guerra de los Balcanes en el cine
DESCRIPTION:La guerra de los Balcanes en el cine\, funciones en la SalaX Xalapa
URL:https://www.quierodisfrutar.mx/evento/la-guerra-de-los-balcanes-en-el-cine/
LOCATION:Veracruz
CATEGORIES:Cine
ATTACH;FMTTYPE=image/jpeg:https://www.quierodisfrutar.mx/wp-content/uploads/2025/05/cine-1.jpg
END:VEVENT
BEGIN:VEVENT
DTSTART;VALUE=DATE:20250519
DTEND;VALUE=DATE:20250525
DTSTAMP:20260424T054654
CREATED:20250506T232405Z
LAST-MODIFIED:20250506T232405Z
UID:53070-1747612800-1748131199@www.quierodisfrutar.mx
SUMMARY:Exposición Colectiva: Entre calles
DESCRIPTION:La Facultad de Artes Plásticas se complace en presentar Entre calles\, una exposición colectiva que reúne el trabajo de doce artistas visuales en formación\, cuyo punto de partida es la exploración del espacio urbano como escenario simbólico\, social y estético. \nLa calle\, entendida como un ente dinámico y compartido\, se convierte aquí en objeto de interpretación y diálogo. Cada propuesta artística —realizada mediante técnicas mixtas— ofrece una mirada singular sobre la vida urbana\, los vínculos comunitarios y la experiencia cotidiana del entorno. Esta muestra busca no sólo capturar la esencia visual de la ciudad\, sino también cuestionar nuestras formas de habitarla\, percibirla y representarla. \nLa exposición invita al espectador a reflexionar sobre su propia relación con el espacio público\, propiciando una interacción entre el arte\, la comunidad y la ciudad. En este cruce de miradas\, Entre calles propone una lectura sensible y crítica del contexto urbano contemporáneo. \nEl evento inaugural se llevará a cabo el lunes 19 de mayo de 2025 a las 19:00 horas en el Centro Recreativo Xalapeño\, ubicado en Xalapeños Ilustres 31\, Zona Centro\, Xalapa\, Veracruz. La exposición estará abierta al público del 19 al 24 de mayo de 2025. \nEsta muestra forma parte del compromiso de la comunidad artística universitaria con la creación contemporánea y el diálogo ciudadano a través del arte.
URL:https://www.quierodisfrutar.mx/evento/exposicion-colectiva-entre-calles/
LOCATION:Centro Recreativo Xalapeño\, avenida Insurgentes esquina con Xalapeños Ilustres\, col. Centro\, Xalapa\, Veracruz\, México
CATEGORIES:Arte,Exposiciones
ATTACH;FMTTYPE=image/jpeg:https://www.quierodisfrutar.mx/wp-content/uploads/2025/05/Cartel-Vertical.jpeg
END:VEVENT
BEGIN:VEVENT
DTSTART;TZID=America/Mexico_City:20250521T180000
DTEND;TZID=America/Mexico_City:20250521T190000
DTSTAMP:20260424T054654
CREATED:20250520T181050Z
LAST-MODIFIED:20250520T181050Z
UID:53111-1747850400-1747854000@www.quierodisfrutar.mx
SUMMARY:AIRES DE PRIMAVERA
DESCRIPTION:
URL:https://www.quierodisfrutar.mx/evento/aires-de-primavera/
LOCATION:Museo de la Música Veracruzana Casa Doña Falla\, calle Salvador Díaz Mirón número 21\, Xalapa\, Veracruz\, 91000\, México
CATEGORIES:Arte,Concierto
ATTACH;FMTTYPE=image/jpeg:https://www.quierodisfrutar.mx/wp-content/uploads/2025/05/WhatsApp-Image-2025-05-20-at-12.37.04-PM.jpeg
END:VEVENT
END:VCALENDAR