BEGIN:VCALENDAR
VERSION:2.0
PRODID:-//Quiero Disfrutar - ECPv6.15.1.1//NONSGML v1.0//EN
CALSCALE:GREGORIAN
METHOD:PUBLISH
X-ORIGINAL-URL:https://www.quierodisfrutar.mx
X-WR-CALDESC:Eventos para Quiero Disfrutar
REFRESH-INTERVAL;VALUE=DURATION:PT1H
X-Robots-Tag:noindex
X-PUBLISHED-TTL:PT1H
BEGIN:VTIMEZONE
TZID:America/Mexico_City
BEGIN:DAYLIGHT
TZOFFSETFROM:-0600
TZOFFSETTO:-0500
TZNAME:CDT
DTSTART:20250406T080000
END:DAYLIGHT
BEGIN:STANDARD
TZOFFSETFROM:-0500
TZOFFSETTO:-0600
TZNAME:CST
DTSTART:20251026T070000
END:STANDARD
END:VTIMEZONE
BEGIN:VEVENT
DTSTART;VALUE=DATE:20250806
DTEND;VALUE=DATE:20250901
DTSTAMP:20260424T020102
CREATED:20250806T191134Z
LAST-MODIFIED:20250806T191134Z
UID:53516-1754438400-1756684799@www.quierodisfrutar.mx
SUMMARY: ¡Cartelera de agosto en Trasmundo Teatro!
DESCRIPTION:Cartelera de Agosto: \n 
URL:https://www.quierodisfrutar.mx/evento/cartelera-de-agosto-en-trasmundo-teatro/
LOCATION:Veracruz
CATEGORIES:Teatro
ATTACH;FMTTYPE=image/jpeg:https://www.quierodisfrutar.mx/wp-content/uploads/2025/08/tras.jpg
END:VEVENT
BEGIN:VEVENT
DTSTART;VALUE=DATE:20250821
DTEND;VALUE=DATE:20250901
DTSTAMP:20260424T020102
CREATED:20250822T151442Z
LAST-MODIFIED:20250822T151442Z
UID:53616-1755734400-1756684799@www.quierodisfrutar.mx
SUMMARY:Tercer Festival Teatro Coatepec 2025
DESCRIPTION:
URL:https://www.quierodisfrutar.mx/evento/tercer-festival-teatro-coatepec-2025/
LOCATION:Centro Cultural de Coatepec\, Jimenez del Campillo No. 4\, Coatepec\, Veracruz\, 91500\, México
CATEGORIES:Arte,Teatro,Variados
ATTACH;FMTTYPE=image/jpeg:https://www.quierodisfrutar.mx/wp-content/uploads/2025/08/WhatsApp-Image-2025-08-22-at-10.09.29-AM.jpeg
END:VEVENT
BEGIN:VEVENT
DTSTART;VALUE=DATE:20250825
DTEND;VALUE=DATE:20250901
DTSTAMP:20260424T020102
CREATED:20250825T200437Z
LAST-MODIFIED:20250825T200437Z
UID:53633-1756080000-1756684799@www.quierodisfrutar.mx
SUMMARY:Eventos culturales en Xalapa
DESCRIPTION:Eventos culturales en Xalapa del 25 al 31 de agosto
URL:https://www.quierodisfrutar.mx/evento/eventos-culturales-en-xalapa-3/
LOCATION:Veracruz
CATEGORIES:Variados
ATTACH;FMTTYPE=image/jpeg:https://www.quierodisfrutar.mx/wp-content/uploads/2025/08/WhatsApp-Image-2025-08-25-at-2.13.47-PM-1.jpeg
END:VEVENT
BEGIN:VEVENT
DTSTART;VALUE=DATE:20250827
DTEND;VALUE=DATE:20250901
DTSTAMP:20260424T020102
CREATED:20250827T163205Z
LAST-MODIFIED:20250827T163205Z
UID:53663-1756252800-1756684799@www.quierodisfrutar.mx
SUMMARY:Tercer Festival de Teatro en Coatepec
DESCRIPTION:Tercer Festival de Teatro en Coatepec \n 
URL:https://www.quierodisfrutar.mx/evento/tercer-festival-de-teatro-en-coatepec/
LOCATION:Veracruz
CATEGORIES:Teatro
ATTACH;FMTTYPE=image/jpeg:https://www.quierodisfrutar.mx/wp-content/uploads/2025/08/TF-T.jpg
END:VEVENT
END:VCALENDAR