BEGIN:VCALENDAR
VERSION:2.0
PRODID:-//Quiero Disfrutar - ECPv6.15.1.1//NONSGML v1.0//EN
CALSCALE:GREGORIAN
METHOD:PUBLISH
X-ORIGINAL-URL:https://www.quierodisfrutar.mx
X-WR-CALDESC:Eventos para Quiero Disfrutar
REFRESH-INTERVAL;VALUE=DURATION:PT1H
X-Robots-Tag:noindex
X-PUBLISHED-TTL:PT1H
BEGIN:VTIMEZONE
TZID:America/Mexico_City
BEGIN:DAYLIGHT
TZOFFSETFROM:-0600
TZOFFSETTO:-0500
TZNAME:CDT
DTSTART:20260405T080000
END:DAYLIGHT
BEGIN:STANDARD
TZOFFSETFROM:-0500
TZOFFSETTO:-0600
TZNAME:CST
DTSTART:20261025T070000
END:STANDARD
END:VTIMEZONE
BEGIN:VEVENT
DTSTART;TZID=America/Mexico_City:20260121T080000
DTEND;TZID=America/Mexico_City:20260121T170000
DTSTAMP:20260423T171001
CREATED:20260120T172449Z
LAST-MODIFIED:20260120T172449Z
UID:54242-1768982400-1769014800@www.quierodisfrutar.mx
SUMMARY:Orquesta Moscovita presenta producción discográfica: Legado
DESCRIPTION:Este miércoles\, la Universidad Veracruzana (UV)\, a través de la Dirección General de Difusión Cultural (DGDC)\, invita a la Comunidad UV y al público en general a la sesión de escucha del disco Legado\, producción discográfica que conmemora el 45 aniversario de la Orquesta Tradicional “Moscovita”.\n\nDesde 1980\, la agrupación -originaria del Puerto de Veracruz- promueve el rescate y difusión de la música afrocaribeña tradicional veracruzana; además\, guarda dentro de su repertorio lo más variado del danzón\, los boleros\, el son montuno\, son pregón\, mambo\, chachachá hasta la salsa.\n\nEn esta sesión de escucha se contará con la participación de varios miembros de la orquesta\, quienes compartirán los detalles\, historias y anécdotas detrás de la creación de este material discográfico. No se trata de un concierto\, sino de un encuentro para conocer y disfrutar el legado musical de la Orquesta Tradicional “Moscovita”.\n\nLa cita es este miércoles 21 de enero\, a las 18:00 horas\, en el Casino Jalapeño\, ubicado en la calle Zamora No. 12 de la Zona Centro de la ciudad. La entrada es completamente gratuita con aforo limitado a la capacidad del recinto.
URL:https://www.quierodisfrutar.mx/evento/orquesta-moscovita-presenta-produccion-discografica-legado/
LOCATION:Casino Jalapeño\, calle Zamora 12\, col. centro casi junto a VIPS.\, Xalapa \, Veracruz 
CATEGORIES:Arte,Concierto
ATTACH;FMTTYPE=image/jpeg:https://www.quierodisfrutar.mx/wp-content/uploads/2026/01/app1.jpg
END:VEVENT
END:VCALENDAR