BEGIN:VCALENDAR
VERSION:2.0
PRODID:-//Quiero Disfrutar - ECPv6.15.1.1//NONSGML v1.0//EN
CALSCALE:GREGORIAN
METHOD:PUBLISH
X-WR-CALNAME:Quiero Disfrutar
X-ORIGINAL-URL:https://www.quierodisfrutar.mx
X-WR-CALDESC:Eventos para Quiero Disfrutar
REFRESH-INTERVAL;VALUE=DURATION:PT1H
X-Robots-Tag:noindex
X-PUBLISHED-TTL:PT1H
BEGIN:VTIMEZONE
TZID:America/Mexico_City
BEGIN:DAYLIGHT
TZOFFSETFROM:-0600
TZOFFSETTO:-0500
TZNAME:CDT
DTSTART:20260405T080000
END:DAYLIGHT
BEGIN:STANDARD
TZOFFSETFROM:-0500
TZOFFSETTO:-0600
TZNAME:CST
DTSTART:20261025T070000
END:STANDARD
END:VTIMEZONE
BEGIN:VEVENT
DTSTART;VALUE=DATE:20260402
DTEND;VALUE=DATE:20260501
DTSTAMP:20260423T135502
CREATED:20260402T201240Z
LAST-MODIFIED:20260402T201240Z
UID:54364-1775088000-1777593599@www.quierodisfrutar.mx
SUMMARY:Cartelera cultural del mes de abril en la ciudad de Xalapa
DESCRIPTION:Cartelera cultural del mes de abril en la ciudad de Xalapa \n 
URL:https://www.quierodisfrutar.mx/evento/cartelera-cultural-del-mes-de-abril-en-la-ciudad-de-xalapa/
CATEGORIES:Actividades Altruistas,Arte,Variados
ATTACH;FMTTYPE=image/jpeg:https://www.quierodisfrutar.mx/wp-content/uploads/2026/04/Carte.jpg
END:VEVENT
BEGIN:VEVENT
DTSTART;VALUE=DATE:20260410
DTEND;VALUE=DATE:20260501
DTSTAMP:20260423T135502
CREATED:20260409T200702Z
LAST-MODIFIED:20260410T220826Z
UID:54427-1775779200-1777593599@www.quierodisfrutar.mx
SUMMARY:Actividades culturales en Xalapa durante abril
DESCRIPTION:
URL:https://www.quierodisfrutar.mx/evento/actividades-culturales-en-xalapa-durante-abril-2/
CATEGORIES:Arte,Variados
ATTACH;FMTTYPE=image/jpeg:https://www.quierodisfrutar.mx/wp-content/uploads/2026/04/WhatsApp-Image-2026-04-09-at-2.02.52-PM.jpeg
END:VEVENT
BEGIN:VEVENT
DTSTART;VALUE=DATE:20260430
DTEND;VALUE=DATE:20260503
DTSTAMP:20260423T135502
CREATED:20260412T000953Z
LAST-MODIFIED:20260412T000953Z
UID:54443-1777507200-1777766399@www.quierodisfrutar.mx
SUMMARY:Cine + Música en vivo: una experiencia que rompe lo real
DESCRIPTION: Cine + Música en vivo: una experiencia que rompe lo real. \nDel 30 de abril al 2 de mayo\, AUR4 te invita a sumergirte en tres noches de expresionismo alemán\, cine mudo y tensión psicológica\, acompañadas de una propuesta sonora electrónica en vivo.\n Programa:\n 30 de abril – El gabinete del doctor Caligari\, Paranoia\, sueños torcidos y una mente que se desmorona.\n 1 de mayo – Nosferatu\, La sombra del vampiro se expande lento\, inevitable.\n 2 de mayo – Metrópolis\, Lujo\, máquinas y una grieta en el orden establecido. \n\n Lugar: Artífice Foro Cultural (Av. Américas 73) Ubicación\n Dirección sonora: AUR4 (electrónica)\n 19:00 h\n $120 general\n Reservaciones: 228 183 0056 o en taquilla directamente\n https://linktr.ee/theaura
URL:https://www.quierodisfrutar.mx/evento/cine-musica-en-vivo-una-experiencia-que-rompe-lo-real/
CATEGORIES:Arte,Cine,Concierto
ATTACH;FMTTYPE=image/jpeg:https://www.quierodisfrutar.mx/wp-content/uploads/2026/04/art4.jpeg
END:VEVENT
END:VCALENDAR