BEGIN:VCALENDAR
VERSION:2.0
PRODID:-//Quiero Disfrutar - ECPv6.15.1.1//NONSGML v1.0//EN
CALSCALE:GREGORIAN
METHOD:PUBLISH
X-WR-CALNAME:Quiero Disfrutar
X-ORIGINAL-URL:https://www.quierodisfrutar.mx
X-WR-CALDESC:Eventos para Quiero Disfrutar
REFRESH-INTERVAL;VALUE=DURATION:PT1H
X-Robots-Tag:noindex
X-PUBLISHED-TTL:PT1H
BEGIN:VTIMEZONE
TZID:America/Mexico_City
BEGIN:DAYLIGHT
TZOFFSETFROM:-0600
TZOFFSETTO:-0500
TZNAME:CDT
DTSTART:20250406T080000
END:DAYLIGHT
BEGIN:STANDARD
TZOFFSETFROM:-0500
TZOFFSETTO:-0600
TZNAME:CST
DTSTART:20251026T070000
END:STANDARD
END:VTIMEZONE
BEGIN:VEVENT
DTSTART;TZID=America/Mexico_City:20251012T100000
DTEND;TZID=America/Mexico_City:20251012T120000
DTSTAMP:20260423T234214
CREATED:20251010T190054Z
LAST-MODIFIED:20251010T190054Z
UID:53909-1760263200-1760270400@www.quierodisfrutar.mx
SUMMARY:Las virtudes cardinales
DESCRIPTION:
URL:https://www.quierodisfrutar.mx/evento/las-virtudes-cardinales/
LOCATION:IMAC\, Calle Facultad de Arquitectura #11 Col. Represa del Carmen \, Xalapa\, Veracruz\, México
CATEGORIES:Charlas
ATTACH;FMTTYPE=image/jpeg:https://www.quierodisfrutar.mx/wp-content/uploads/2025/10/WhatsApp-Image-2025-10-10-at-1.40.32-PM.jpeg
END:VEVENT
BEGIN:VEVENT
DTSTART;TZID=America/Mexico_City:20251022T180000
DTEND;TZID=America/Mexico_City:20251022T190000
DTSTAMP:20260423T234214
CREATED:20251022T144910Z
LAST-MODIFIED:20251022T144932Z
UID:53990-1761156000-1761159600@www.quierodisfrutar.mx
SUMMARY:Presentan libro “Así es la vida. Ensayos periodísticos”\, de José Antonio Medina Aguilar
DESCRIPTION:“Así es la vida. Ensayos periodísticos”\, libro de José Antonio Medina Aguilar\, será presentado este miércoles en el Centro Recreativo a las 18:00 horas \n 
URL:https://www.quierodisfrutar.mx/evento/presentan-libro-asi-es-la-vida-ensayos-periodisticos-de-jose-antonio-medina-aguilar/
CATEGORIES:Charlas
ATTACH;FMTTYPE=image/jpeg:https://www.quierodisfrutar.mx/wp-content/uploads/2025/10/ALV.jpg
END:VEVENT
BEGIN:VEVENT
DTSTART;TZID=America/Mexico_City:20251029T193000
DTEND;TZID=America/Mexico_City:20251029T210000
DTSTAMP:20260423T234214
CREATED:20251023T010319Z
LAST-MODIFIED:20251023T010800Z
UID:53998-1761766200-1761771600@www.quierodisfrutar.mx
SUMMARY:¿Para ti\, qué es la muerte?
DESCRIPTION: 
URL:https://www.quierodisfrutar.mx/evento/para-ti-que-es-la-muerte/
CATEGORIES:Charlas
ATTACH;FMTTYPE=image/jpeg:https://www.quierodisfrutar.mx/wp-content/uploads/2025/10/WhatsApp-Image-2025-10-22-at-1.38.07-PM.jpeg
END:VEVENT
END:VCALENDAR