BEGIN:VCALENDAR
VERSION:2.0
PRODID:-//Quiero Disfrutar - ECPv6.15.1.1//NONSGML v1.0//EN
CALSCALE:GREGORIAN
METHOD:PUBLISH
X-WR-CALNAME:Quiero Disfrutar
X-ORIGINAL-URL:https://www.quierodisfrutar.mx
X-WR-CALDESC:Eventos para Quiero Disfrutar
REFRESH-INTERVAL;VALUE=DURATION:PT1H
X-Robots-Tag:noindex
X-PUBLISHED-TTL:PT1H
BEGIN:VTIMEZONE
TZID:America/Mexico_City
BEGIN:DAYLIGHT
TZOFFSETFROM:-0600
TZOFFSETTO:-0500
TZNAME:CDT
DTSTART:20250406T080000
END:DAYLIGHT
BEGIN:STANDARD
TZOFFSETFROM:-0500
TZOFFSETTO:-0600
TZNAME:CST
DTSTART:20251026T070000
END:STANDARD
END:VTIMEZONE
BEGIN:VEVENT
DTSTART;VALUE=DATE:20251103
DTEND;VALUE=DATE:20251110
DTSTAMP:20260423T220202
CREATED:20251103T202516Z
LAST-MODIFIED:20251103T202516Z
UID:54057-1762128000-1762732799@www.quierodisfrutar.mx
SUMMARY:Actividades culturales en Xalapa
DESCRIPTION:Actividades culturales en la ciudad de Xalapa\n\n 
URL:https://www.quierodisfrutar.mx/evento/actividades-culturales-en-xalapa-18/
CATEGORIES:Arte,Charlas,Cine,Concierto,Exposiciones,Festival,Variados
ATTACH;FMTTYPE=image/jpeg:https://www.quierodisfrutar.mx/wp-content/uploads/2025/11/WhatsApp-Image-2025-11-03-at-2.07.18-PM-4.jpeg
END:VEVENT
BEGIN:VEVENT
DTSTART;TZID=America/Mexico_City:20251122T110000
DTEND;TZID=America/Mexico_City:20251122T123000
DTSTAMP:20260423T220202
CREATED:20251120T205623Z
LAST-MODIFIED:20251120T205623Z
UID:54120-1763809200-1763814600@www.quierodisfrutar.mx
SUMMARY:¿Por qué se dice que somos polvo de estrellas?
DESCRIPTION:
URL:https://www.quierodisfrutar.mx/evento/por-que-se-dice-que-somos-polvo-de-estrellas/
LOCATION:Museo de Antropología de Xalapa\, Av. Xalapa\, Unidad Magisterial\, Xalapa 
CATEGORIES:Charlas
ATTACH;FMTTYPE=image/jpeg:https://www.quierodisfrutar.mx/wp-content/uploads/2025/11/WhatsApp-Image-2025-11-20-at-11.05.19-AM.jpeg
END:VEVENT
BEGIN:VEVENT
DTSTART;TZID=America/Mexico_City:20251128T183000
DTEND;TZID=America/Mexico_City:20251128T193000
DTSTAMP:20260423T220202
CREATED:20251125T162919Z
LAST-MODIFIED:20251125T162919Z
UID:54130-1764354600-1764358200@www.quierodisfrutar.mx
SUMMARY:Compartir el Hábitat\, el Sueño del Cielo en la Tierra
DESCRIPTION:
URL:https://www.quierodisfrutar.mx/evento/compartir-el-habitat-el-sueno-del-cielo-en-la-tierra/
LOCATION:Xanadu Art\, Zamora X48\, col. Centro\, Coatepec\, Veracruz\, México
CATEGORIES:Arte,Charlas
ATTACH;FMTTYPE=image/jpeg:https://www.quierodisfrutar.mx/wp-content/uploads/2025/11/WhatsApp-Image-2025-11-25-at-10.23.44-AM.jpeg
END:VEVENT
END:VCALENDAR