BEGIN:VCALENDAR
VERSION:2.0
PRODID:-//Quiero Disfrutar - ECPv6.15.1.1//NONSGML v1.0//EN
CALSCALE:GREGORIAN
METHOD:PUBLISH
X-WR-CALNAME:Quiero Disfrutar
X-ORIGINAL-URL:https://www.quierodisfrutar.mx
X-WR-CALDESC:Eventos para Quiero Disfrutar
REFRESH-INTERVAL;VALUE=DURATION:PT1H
X-Robots-Tag:noindex
X-PUBLISHED-TTL:PT1H
BEGIN:VTIMEZONE
TZID:America/Mexico_City
BEGIN:DAYLIGHT
TZOFFSETFROM:-0600
TZOFFSETTO:-0500
TZNAME:CDT
DTSTART:20260405T080000
END:DAYLIGHT
BEGIN:STANDARD
TZOFFSETFROM:-0500
TZOFFSETTO:-0600
TZNAME:CST
DTSTART:20261025T070000
END:STANDARD
END:VTIMEZONE
BEGIN:VEVENT
DTSTART;TZID=America/Mexico_City:20260321T190000
DTEND;TZID=America/Mexico_City:20260321T200000
DTSTAMP:20260423T171455
CREATED:20260319T235924Z
LAST-MODIFIED:20260319T235924Z
UID:54349-1774119600-1774123200@www.quierodisfrutar.mx
SUMMARY:EL GABINETE DEL DR CALIGARI (1920)
DESCRIPTION:Te invitamos a una experiencia única que une el cine clásico y la música electrónica en vivo;  EL GABINETE DEL DR CALIGARI (1920) \n\n **Música en vivo:** Dueto de música electrónica AURA\n**Fecha:** SÁBADO 21 DE MARZO\n– **Hora:** 19:00 horas\n– **Lugar:** FAUNO ESPACIO CULTURAL\, Sebastián Camacho 35\, centro\, Xalapa
URL:https://www.quierodisfrutar.mx/evento/el-gabinete-del-dr-caligari-1920/
CATEGORIES:Cine
ATTACH;FMTTYPE=image/jpeg:https://www.quierodisfrutar.mx/wp-content/uploads/2026/03/Fauno.jpg
END:VEVENT
END:VCALENDAR