BEGIN:VCALENDAR
VERSION:2.0
PRODID:-//Quiero Disfrutar - ECPv6.15.1.1//NONSGML v1.0//EN
CALSCALE:GREGORIAN
METHOD:PUBLISH
X-WR-CALNAME:Quiero Disfrutar
X-ORIGINAL-URL:https://www.quierodisfrutar.mx
X-WR-CALDESC:Eventos para Quiero Disfrutar
REFRESH-INTERVAL;VALUE=DURATION:PT1H
X-Robots-Tag:noindex
X-PUBLISHED-TTL:PT1H
BEGIN:VTIMEZONE
TZID:America/Mexico_City
BEGIN:DAYLIGHT
TZOFFSETFROM:-0600
TZOFFSETTO:-0500
TZNAME:CDT
DTSTART:20240407T080000
END:DAYLIGHT
BEGIN:STANDARD
TZOFFSETFROM:-0500
TZOFFSETTO:-0600
TZNAME:CST
DTSTART:20241027T070000
END:STANDARD
END:VTIMEZONE
BEGIN:VEVENT
DTSTART;VALUE=DATE:20240527
DTEND;VALUE=DATE:20240603
DTSTAMP:20260425T232713
CREATED:20240527T195030Z
LAST-MODIFIED:20240527T195242Z
UID:51867-1716768000-1717372799@www.quierodisfrutar.mx
SUMMARY:Cartelera cultural del mes de mayo en Xalapa
DESCRIPTION:Cartelera cultural del mes de mayo en Xalapa \n 
URL:https://www.quierodisfrutar.mx/evento/cartelera-cultural-del-mes-de-mayo-en-xalapa/
CATEGORIES:Cine,Concierto
ATTACH;FMTTYPE=image/jpeg:https://www.quierodisfrutar.mx/wp-content/uploads/2024/05/WhatsApp-Image-2024-05-27-at-1.43.44-PM-2.jpeg
END:VEVENT
END:VCALENDAR