BEGIN:VCALENDAR
VERSION:2.0
PRODID:-//Quiero Disfrutar - ECPv6.15.1.1//NONSGML v1.0//EN
CALSCALE:GREGORIAN
METHOD:PUBLISH
X-WR-CALNAME:Quiero Disfrutar
X-ORIGINAL-URL:https://www.quierodisfrutar.mx
X-WR-CALDESC:Eventos para Quiero Disfrutar
REFRESH-INTERVAL;VALUE=DURATION:PT1H
X-Robots-Tag:noindex
X-PUBLISHED-TTL:PT1H
BEGIN:VTIMEZONE
TZID:America/Mexico_City
BEGIN:DAYLIGHT
TZOFFSETFROM:-0600
TZOFFSETTO:-0500
TZNAME:CDT
DTSTART:20230402T080000
END:DAYLIGHT
BEGIN:STANDARD
TZOFFSETFROM:-0500
TZOFFSETTO:-0600
TZNAME:CST
DTSTART:20231029T070000
END:STANDARD
END:VTIMEZONE
BEGIN:VEVENT
DTSTART;TZID=America/Mexico_City:20231125T200000
DTEND;TZID=America/Mexico_City:20231125T220000
DTSTAMP:20260425T152816
CREATED:20231121T164856Z
LAST-MODIFIED:20231121T164933Z
UID:51511-1700942400-1700949600@www.quierodisfrutar.mx
SUMMARY:Los Foráneos en Concierto
DESCRIPTION:* LOS FORÁNEOS * \nUna Banda independiente de pop/rock/alternativo\, originaria de Xalapa\, Ver.  \nCon 9 años de trayectoria musical\, se caracterizan por tener un sonido auténtico y en donde dejan expuestas todas sus influencias artísticas como parte de su educación musical. \nPresentes en el Festival Internacional Xalapa y su Cultura este sábado 25 de noviembre\, en punto de las 20:00 h \nParque Juárez  \n 
URL:https://www.quierodisfrutar.mx/evento/51511/
LOCATION:Parque Juárez\, Calle Enríquez
CATEGORIES:Arte,Concierto
ATTACH;FMTTYPE=image/jpeg:https://www.quierodisfrutar.mx/wp-content/uploads/2023/11/400537577_315118747942036_2396849362269977747_n.jpg
END:VEVENT
END:VCALENDAR