BEGIN:VCALENDAR
VERSION:2.0
PRODID:-//Quiero Disfrutar - ECPv6.15.1.1//NONSGML v1.0//EN
CALSCALE:GREGORIAN
METHOD:PUBLISH
X-WR-CALNAME:Quiero Disfrutar
X-ORIGINAL-URL:https://www.quierodisfrutar.mx
X-WR-CALDESC:Eventos para Quiero Disfrutar
REFRESH-INTERVAL;VALUE=DURATION:PT1H
X-Robots-Tag:noindex
X-PUBLISHED-TTL:PT1H
BEGIN:VTIMEZONE
TZID:America/Mexico_City
BEGIN:DAYLIGHT
TZOFFSETFROM:-0600
TZOFFSETTO:-0500
TZNAME:CDT
DTSTART:20240407T080000
END:DAYLIGHT
BEGIN:STANDARD
TZOFFSETFROM:-0500
TZOFFSETTO:-0600
TZNAME:CST
DTSTART:20241027T070000
END:STANDARD
END:VTIMEZONE
BEGIN:VEVENT
DTSTART;TZID=America/Mexico_City:20240901T180000
DTEND;TZID=America/Mexico_City:20240901T200000
DTSTAMP:20260424T213636
CREATED:20240829T172011Z
LAST-MODIFIED:20240829T172044Z
UID:52201-1725213600-1725220800@www.quierodisfrutar.mx
SUMMARY:Celebramos XX años de música vernácula con el Mariachi UV
DESCRIPTION:El Mariachi de la Universidad Veracruzana celebra su 20 aniversario este domingo 1 de septiembre a las 18:00 horas\, en el Foro Abierto “Miguel Vélez Arceo” de Casa del Lago UV. \nLa agrupación fue fundada el 15 de septiembre del 2004 por el maestro Héctor Guerrero\, a lo largo del tiempo se ha constituido como uno de los nuevos baluartes musicales del Estado de Veracruz y la Universidad Veracruzana. Su objetivo primordial es la academización del mariachi\, brindar la oportunidad de conocer y reconocer la diversidad de géneros musicales que existen en la República Mexicana\, que forman parte del extenso mosaico y acervo musical del país. \nSu principal propósito es involucrarse con la comunidad universitaria y público en general a través de clases maestras\, conciertos didácticos y tutoriales que permiten conocer la estructura actual y tradicional del mariachi\, con el objetivo de brindar esparcimientos\, pero también conocimiento\, antes de cada número musical los integrantes comparten una breve semblanza que incluye información relevante. \nLa importancia de la preservación y conservación de esta manifestación cultural es reconocida por la Organización de las Naciones Unidas para la Educación\, la Ciencia y la Cultura (UNESCO) y la comunidad de la Universidad Veracruzana\, debido a que el mariachi es el máximo referente de la música tradicional mexicana logrando trasmitir valores\, historia y diferentes lenguas\, por lo que es reconocido como Patrimonio Inmaterial de la Humanidad. \nEste concierto promete ser una experiencia única\, con popurrís de María Grever\, Glenn Miller\, Mocedades y Rodríguez de Hijar\, también podremos escuchar: Adoro\, Virgen de la Macarena\, Estoy perdido\, entre otras. \nEl punto de reunión es en el Foro Abierto “Miguel Vélez Arceo” de Casa del Lago UV\, este domingo 1 de septiembre a las 18:00 horas\, entrada libre ¡Celebremos juntos 20 años del Mariachi UV! \nPara más información no olvides consultar nuestras redes sociales de Difusión Cultural UV\, así como mantenerte al tanto de La Guía del mes en https://www.uv.mx/difusioncultural
URL:https://www.quierodisfrutar.mx/evento/52201/
LOCATION:Casa del Lago UV\,  El Dique #27\,  Zona Centro\, Xalapa\, Veracruz\, México
CATEGORIES:Arte,Concierto
ATTACH;FMTTYPE=image/jpeg:https://www.quierodisfrutar.mx/wp-content/uploads/2024/08/Mariachi-aniversario.jpg
END:VEVENT
BEGIN:VEVENT
DTSTART;TZID=America/Mexico_City:20240913T180000
DTEND;TZID=America/Mexico_City:20240913T200000
DTSTAMP:20260424T213636
CREATED:20240910T153902Z
LAST-MODIFIED:20240910T153902Z
UID:52219-1726250400-1726257600@www.quierodisfrutar.mx
SUMMARY:Raíces del Pueblo
DESCRIPTION:
URL:https://www.quierodisfrutar.mx/evento/raices-del-pueblo/
LOCATION:Sala Emilio Carballido del Teatro del Estado\, 91000\, México
CATEGORIES:Arte,Concierto
ATTACH;FMTTYPE=image/jpeg:https://www.quierodisfrutar.mx/wp-content/uploads/2024/09/quiero-disfrutar.jpeg
END:VEVENT
BEGIN:VEVENT
DTSTART;TZID=America/Mexico_City:20240927T190000
DTEND;TZID=America/Mexico_City:20240927T203000
DTSTAMP:20260424T213636
CREATED:20240924T151523Z
LAST-MODIFIED:20240924T151523Z
UID:52271-1727463600-1727469000@www.quierodisfrutar.mx
SUMMARY:Este viernes se presentará el tenor Roberto Macías\, en Coatepec
DESCRIPTION:“Passione” es el nombre del recital que ofrecerán el tenor Roberto Macías y el pianista Aurelio Aponte\, este viernes 27 de septiembre\, a las 19:00 horas en el Hotel Posada Coatepec\, ubicado en la calle Hidalgo número 9\, del Pueblo Mágico. \nEl recital fue preparado especialmente para el Festival Cultural San Jerónimo. En la primera parte del programa se interpretará un repertorio de canciones de autores italianos como Ernesto di Curtis\, Andrea Bixio y Pepino Di Capri. \nEn la segunda parte del recital se escucharán canciones de los autores mexicanos María Greever y Agustín Lara. En el segmento final\, fueron incluidos algunos boleros del compositor Armando Manzanero y un cierre con canciones mexicanas de fiestas patrias. \nRoberto Macías\, tenor originario de Colima\, tiene 35 años de radicar en Coatepec. Muy joven mostró su afición a la música y en especial al canto\, donde se encontró en la interpretación de canciones de corte romántico como el bolero y la balada. \nDedicado a su preparación en el Bel Canto\, ha tomado clases de técnica vocal e interpretación con los prestigiados maestros Alicia Hernández\, Samuel Alamilla y Mariano Fernández. Como integrante del Coro de la Orquesta Filarmónica de Xalapa\, se ha presentado en varios escenarios locales y de la entidad. Entrada libre para todo el público\, sólo se sugiere llegar temprano\, el cupo es limitado.
URL:https://www.quierodisfrutar.mx/evento/este-viernes-se-presentara-el-tenor-roberto-macias-en-coatepec/
LOCATION:Hotel Posada Coatepec\, calle Hidalgo número 9\, Coatepec\, Veracruz\, México
CATEGORIES:Arte,Concierto
ATTACH;FMTTYPE=image/jpeg:https://www.quierodisfrutar.mx/wp-content/uploads/2024/09/quiero-disfrutar-1.jpeg
END:VEVENT
END:VCALENDAR