BEGIN:VCALENDAR
VERSION:2.0
PRODID:-//Quiero Disfrutar - ECPv6.15.1.1//NONSGML v1.0//EN
CALSCALE:GREGORIAN
METHOD:PUBLISH
X-WR-CALNAME:Quiero Disfrutar
X-ORIGINAL-URL:https://www.quierodisfrutar.mx
X-WR-CALDESC:Eventos para Quiero Disfrutar
REFRESH-INTERVAL;VALUE=DURATION:PT1H
X-Robots-Tag:noindex
X-PUBLISHED-TTL:PT1H
BEGIN:VTIMEZONE
TZID:America/Mexico_City
BEGIN:DAYLIGHT
TZOFFSETFROM:-0600
TZOFFSETTO:-0500
TZNAME:CDT
DTSTART:20250406T080000
END:DAYLIGHT
BEGIN:STANDARD
TZOFFSETFROM:-0500
TZOFFSETTO:-0600
TZNAME:CST
DTSTART:20251026T070000
END:STANDARD
END:VTIMEZONE
BEGIN:VEVENT
DTSTART;TZID=America/Mexico_City:20251004T170000
DTEND;TZID=America/Mexico_City:20251004T183000
DTSTAMP:20260423T235336
CREATED:20251003T205510Z
LAST-MODIFIED:20251003T205730Z
UID:53868-1759597200-1759602600@www.quierodisfrutar.mx
SUMMARY:NUNTEMPA
DESCRIPTION:
URL:https://www.quierodisfrutar.mx/evento/nuntempa/
LOCATION:Museo de la Música Veracruzana Casa Doña Falla\, calle Salvador Díaz Mirón número 21\, Xalapa\, Veracruz\, 91000\, México
CATEGORIES:Arte,Concierto
ATTACH;FMTTYPE=image/jpeg:https://www.quierodisfrutar.mx/wp-content/uploads/2025/10/WhatsApp-Image-2025-10-03-at-3.45.30-PM-2.jpeg
END:VEVENT
BEGIN:VEVENT
DTSTART;TZID=America/Mexico_City:20251016T193000
DTEND;TZID=America/Mexico_City:20251016T193000
DTSTAMP:20260423T235336
CREATED:20251016T005000Z
LAST-MODIFIED:20251016T005051Z
UID:53916-1760643000-1760643000@www.quierodisfrutar.mx
SUMMARY:UNDER SESSION Tercera Edición
DESCRIPTION:UNDER SESSION Tercera Edición\nDesde San Luis Potosí llega Efecto Mingus\, un ensamble que rinde homenaje al legendario Charles Mingus interpretando íntegramente el icónico álbum “Mingus Ah Um” (1959). Una noche para sumergirse en una experiencia sonora intensa\, donde el legado del jazz cobra nueva vida a través de una lectura contemporánea y profundamente respetuosa.  \n– Miércoles 16 de octubre  \n– Puertas 7:30 PM | Inicio 8:30 PM  \n– Estudio de Arte Emmanuel Cruz (3er piso de la Barra China) \n– $80 (incluye bebida camaleónica)  \n  \n \n 
URL:https://www.quierodisfrutar.mx/evento/under-session-tercera-edicion/
CATEGORIES:Concierto
ATTACH;FMTTYPE=image/jpeg:https://www.quierodisfrutar.mx/wp-content/uploads/2025/10/e1.jpg
END:VEVENT
BEGIN:VEVENT
DTSTART;TZID=America/Mexico_City:20251017T193000
DTEND;TZID=America/Mexico_City:20251017T210000
DTSTAMP:20260423T235336
CREATED:20251016T005739Z
LAST-MODIFIED:20251016T005739Z
UID:53920-1760729400-1760734800@www.quierodisfrutar.mx
SUMMARY:El Elefante Volador PRESENTA:¡𝗙𝗘𝗥𝗠𝗜𝗡𝗔 𝗟𝗔 𝗕𝗘𝗦𝗨𝗖𝗢𝗡𝗔!
DESCRIPTION:El Elefante Volador PRESENTA:¡𝗙𝗘𝗥𝗠𝗜𝗡𝗔 𝗟𝗔 𝗕𝗘𝗦𝗨𝗖𝗢𝗡𝗔! \n  \n 
URL:https://www.quierodisfrutar.mx/evento/el-elefante-volador-presenta%f0%9d%97%99%f0%9d%97%98%f0%9d%97%a5%f0%9d%97%a0%f0%9d%97%9c%f0%9d%97%a1%f0%9d%97%94-%f0%9d%97%9f%f0%9d%97%94-%f0%9d%97%95%f0%9d%97%98%f0%9d%97%a6%f0%9d%97%a8/
CATEGORIES:Concierto,Teatro
ATTACH;FMTTYPE=image/jpeg:https://www.quierodisfrutar.mx/wp-content/uploads/2025/10/FE.jpg
END:VEVENT
BEGIN:VEVENT
DTSTART;TZID=America/Mexico_City:20251023T200000
DTEND;TZID=America/Mexico_City:20251023T210000
DTSTAMP:20260423T235336
CREATED:20251018T190217Z
LAST-MODIFIED:20251018T190344Z
UID:53926-1761249600-1761253200@www.quierodisfrutar.mx
SUMMARY:Nosferatu
DESCRIPTION:Invitación a un evento inolvidable \nTe invitamos a una experiencia única que une el cine clásico y la música electrónica en vivo. Ven a disfrutar de la proyección musicalizada de **Nosferatu** (1922)\, una obra maestra del expresionismo alemán.\nDetalles del evento \n– **Película:** *Nosferatu* (1922)\n– **Música en vivo:** Dueto de música electrónica AUR4\n– **Fecha:** Jueves\, 23 de octubre\n– **Hora:** 20:00 horas\n– **Lugar:** Cineclub Xanadú\, Zamora 48\, Centro\, Pueblo Mágico de Coatepec \nSobre el filme \n*Nosferatu*\, dirigida por F.W. Murnau\, es una joya del cine mudo y una adaptación libre de la novela *Drácula* de Bram Stoker. La atmósfera sombría y el estilo visual expresionista crean una experiencia visual inolvidable. \nMúsica en vivo \nEl dueto AUR4\, reconocido por su innovador enfoque en la música electrónica\, acompañará la película con una banda sonora original creada especialmente para esta ocasión. Esta fusión promete intensificar la atmósfera y resaltar las emociones del filme. \nUbicación \nEl evento se llevará a cabo en el encantador **Pueblo Mágico de Coatepec**\, en el **Cine Club Xanadú**\, un espacio dedicado al arte y la cultura. \nNo te pierdas esta oportunidad de disfrutar del cine clásico de una manera completamente nueva e inmersiva. ¡Te esperamos para vivir una noche única y mágica! \nCooperación Voluntaria
URL:https://www.quierodisfrutar.mx/evento/nosferatu/
LOCATION:Cine Club Xanadú\, Calle Zamora 48\, Coatepec\, Veracruz\, 91500\, México
CATEGORIES:Arte,Cine,Concierto
ATTACH;FMTTYPE=image/jpeg:https://www.quierodisfrutar.mx/wp-content/uploads/2025/10/xanadu-nosferatu.jpg
END:VEVENT
BEGIN:VEVENT
DTSTART;TZID=America/Mexico_City:20251026T130000
DTEND;TZID=America/Mexico_City:20251026T150000
DTSTAMP:20260423T235336
CREATED:20251021T191306Z
LAST-MODIFIED:20251021T191306Z
UID:53984-1761483600-1761490800@www.quierodisfrutar.mx
SUMMARY:El Coro UV transforma el Día de Muertos en concierto
DESCRIPTION:La Universidad Veracruzana (UV) y la Dirección General de Difusión Cultural (DGDC)\, a través del Coro UV\, invitan al público a ser parte de una velada única el próximo 26 de octubre\, Entre Catrinas y Alebrijes\, un concierto especial que celebra la vida\, la memoria y la riqueza simbólica del Día de Muertos desde la música coral.\n\nFundado en 1950\, el Coro de la Universidad Veracruzana es uno de los conjuntos corales más antiguos y reconocidos del país. A lo largo de más de siete décadas\, ha construido una sólida tradición coral en Xalapa\, convirtiéndose en referente cultural de la región. Su labor artística busca preservar y difundir la música coral con profesionalismo\, contribuyendo a la formación cultural y el enriquecimiento espiritual de la comunidad. Actualmente está dirigido por el Mtro. Jorge Cozátl\, un destacado director\, barítono\, productor\, compositor y arreglista mexicano.\n\nEntre Catrinas y Alebrijes es una propuesta escénico-musical\, donde un niño y una niña viajan entre mundos míticos y sonoros\, en busca de su madre. Entre cantos antiguos y lágrimas nuevas\, recorren el Mictlán\, evocan memorias\, enfrentan el dolor\, se encuentran con María y Cihuacóatl\, y redescubren que recordar es volver a pasar por el corazón. Entre rezos\, polifonías y palabras que sanan\, los personajes —y con ellos el público— caminan de la mano de la música hacia una comprensión profunda de la muerte como tránsito\, como acto de amor\, como reflejo de vida.\n\nEste montaje coral\, que contará con la participación del grupo Tlen-Huicani Maderas e integrantes del Mariachi UV\, rinde homenaje a las múltiples formas de concebir la muerte en México: desde la cosmovisión mexica hasta la mirada contemporánea atravesada por la pérdida y la resistencia. Porque recordar no es mirar atrás\, sino volver a vivir desde la memoria compartida.\n\nLa cita es el domingo 26 de octubre a las 13:00 horas en la Sala Anexa de Tlaqná\, Centro Cultural. Los boletos tienen un costo de $140 y $160 pesos\, disponibles en Tienda UV y en línea: https://empresasuv.comprarboletos.com\n\nPara más información y actualizaciones\, sigue las redes oficiales del Coro UV y Difusión Cultural UV.
URL:https://www.quierodisfrutar.mx/evento/el-coro-uv-transforma-el-dia-de-muertos-en-concierto/
LOCATION:Tlaqná Centro Cultural\, Cultura Veracruzana #1 Col. Emiliano Zapata\, Xalapa\, Veracruz\, México
CATEGORIES:Arte,Concierto
ATTACH;FMTTYPE=image/jpeg:https://www.quierodisfrutar.mx/wp-content/uploads/2025/10/Cartel-Caatrinas-Alebrijes-scaled.jpg
END:VEVENT
END:VCALENDAR