BEGIN:VCALENDAR
VERSION:2.0
PRODID:-//Quiero Disfrutar - ECPv6.15.1.1//NONSGML v1.0//EN
CALSCALE:GREGORIAN
METHOD:PUBLISH
X-ORIGINAL-URL:https://www.quierodisfrutar.mx
X-WR-CALDESC:Eventos para Quiero Disfrutar
REFRESH-INTERVAL;VALUE=DURATION:PT1H
X-Robots-Tag:noindex
X-PUBLISHED-TTL:PT1H
BEGIN:VTIMEZONE
TZID:America/Mexico_City
BEGIN:DAYLIGHT
TZOFFSETFROM:-0600
TZOFFSETTO:-0500
TZNAME:CDT
DTSTART:20240407T080000
END:DAYLIGHT
BEGIN:STANDARD
TZOFFSETFROM:-0500
TZOFFSETTO:-0600
TZNAME:CST
DTSTART:20241027T070000
END:STANDARD
END:VTIMEZONE
BEGIN:VEVENT
DTSTART;TZID=America/Mexico_City:20240404T190000
DTEND;TZID=America/Mexico_City:20240404T210000
DTSTAMP:20260425T085435
CREATED:20240402T185810Z
LAST-MODIFIED:20240402T185810Z
UID:51747-1712257200-1712264400@www.quierodisfrutar.mx
SUMMARY:45 Años de arte guitarrístico con el Ensamble Clásico de Guitarras UV
DESCRIPTION:Para celebrar su 45 aniversario\, el Ensamble Clásico de Guitarras ha preparado un programa muy especial que incluye arreglos y participación por parte de algunos ex integrantes y directores del grupo. Esta fiesta se realizará el próximo jueves 4 de abril en la Sala Anexa de Tlaqná\, Centro Cultural en punto de las 19:00 h. \nLas obras que se podrán disfrutar son: Huateque de Rodrigo Lomán\, Cuarteto Virreinal de Miguel Bernal\, Cadenza de Heitor Villalobos\, entre otras. Los solistas invitados son los maestros Rafael Jiménez\, Alfonso Moreno y la maestra Minerva Garibay. \nEn 1979 el Ensamble Clásico de Guitarras se instituye como un grupo artístico de la Universidad Veracruzana integrándose a él los maestros Rafael Jiménez\, José Luis Rosendo y Enrique Velasco\, todos ellos destacados guitarristas formados en el estudio del arte guitarrístico bajo la guía del notable guitarrista y pedagogo Manuel López Ramos. \nSu objetivo es aprovechar los variados recursos tímbricos que tiene el instrumento para lograr interpretaciones emotivas\, despertando el interés y la sensibilidad del público invitándolo a apreciar las variadas expresiones culturales. \nActualmente es conformado por Axel Reyes Hernández\, Luis Enrique González Ramírez\, Brandon García Pérez\, Leonardo David Rivera Hernández\, Josías Castillo Longoria y Víctor Luis Luna Galván bajo la dirección artística del Mtro. Jesús Omar Gutiérrez Yáñez. \nEste concierto de aniversario es gratuito\, será una noche de festejo\, recuerdos y muchas emociones que también forman parte de las actividades por el 80 aniversario de la Universidad Veracruzana. \nPara conocer más sobre las actividades de los Grupos UV\, sigue las redes sociales (TikTok\, Instagram\, Facebook y Canal de WhatsApp) de Difusión Cultural UV\, donde encontraran contenido exclusivo
URL:https://www.quierodisfrutar.mx/evento/45-anos-de-arte-guitarristico-con-el-ensamble-clasico-de-guitarras-uv/
LOCATION:Sala Anexa de Tlaqná\, Complejo Cultural
CATEGORIES:Arte,Concierto
ATTACH;FMTTYPE=image/png:https://www.quierodisfrutar.mx/wp-content/uploads/2024/04/ECG-ANIV.png
END:VEVENT
END:VCALENDAR