BEGIN:VCALENDAR
VERSION:2.0
PRODID:-//Quiero Disfrutar - ECPv6.15.1.1//NONSGML v1.0//EN
CALSCALE:GREGORIAN
METHOD:PUBLISH
X-ORIGINAL-URL:https://www.quierodisfrutar.mx
X-WR-CALDESC:Eventos para Quiero Disfrutar
REFRESH-INTERVAL;VALUE=DURATION:PT1H
X-Robots-Tag:noindex
X-PUBLISHED-TTL:PT1H
BEGIN:VTIMEZONE
TZID:America/Mexico_City
BEGIN:DAYLIGHT
TZOFFSETFROM:-0600
TZOFFSETTO:-0500
TZNAME:CDT
DTSTART:20240407T080000
END:DAYLIGHT
BEGIN:STANDARD
TZOFFSETFROM:-0500
TZOFFSETTO:-0600
TZNAME:CST
DTSTART:20241027T070000
END:STANDARD
END:VTIMEZONE
BEGIN:VEVENT
DTSTART;TZID=America/Mexico_City:20241110T120000
DTEND;TZID=America/Mexico_City:20241110T133000
DTSTAMP:20260424T195315
CREATED:20241105T193337Z
LAST-MODIFIED:20241105T193337Z
UID:52381-1731240000-1731245400@www.quierodisfrutar.mx
SUMMARY:"Oda a Santa Cecilia": Un homenaje musical con más de 50 artistas en escena en la Sala Anexa de Tlaqná\, Centro Cultural.
DESCRIPTION:El próximo 10 de noviembre\, el Coro UV se presentará en la Sala Anexa de Tlaqná para ofrecer un concierto único titulado «Oda a Santa Cecilia»\, donde interpretarán la cantata «Oda para el Día de Santa Cecilia»\, HWV 76\, de George Frideric Handel. Acompañados por el talentoso ensamble de música de cámara Novus Mundus (conformado por músicos de la OSX)\, más de 50 artistas estarán en escena para dar vida a esta obra maestra barroca\, que celebra a Santa Cecilia\, la patrona de los músicos.\nLa «Oda para el Día de Santa Cecilia»\, compuesta por Handel en 1739\, está inspirada en el poema de John Dryden y refleja la teoría pitagórica de la «harmonia mundi«\, según la cual la música es la fuerza central que ordena el universo. La obra simboliza el poder de la música para conectar lo divino con lo terrenal\, y será interpretada por más de 50 músicos\, coristas e instrumentistas\, quienes se unificarán para ofrecer una experiencia sonora impresionante. A través de esta obra\, el público podrá experimentar cómo la música no solo embellece el mundo\, sino que se revela como el motor primordial en la creación y el orden del universo.\nCon casi 75 años de trayectoria\, el Coro UV es reconocido por su capacidad de conectar profundamente con su público a través de interpretaciones llenas de emoción y pasión. En esta ocasión\, estarán acompañados por Novus Mundus\, juntos\, llevarán al público a una experiencia trascendental en la que la música barroca cobra vida con una energía propia y única.\nLas entradas para «Oda a Santa Cecilia» ya están disponibles en Tienda UV (ubicados en Zona UV y el Museo de Antropología de Xalapa) o en línea: https://empresasuv.comprarboletos.com
URL:https://www.quierodisfrutar.mx/evento/oda-a-santa-cecilia-un-homenaje-musical-con-mas-de-50-artistas-en-escena-en-la-sala-anexa-de-tlaqna-centro-cultural/
LOCATION:Sala Anexa de Tlaqná\, Complejo Cultural
CATEGORIES:Arte,Concierto
ATTACH;FMTTYPE=image/jpeg:https://www.quierodisfrutar.mx/wp-content/uploads/2024/11/Cartel-Santa-Cecilia.jpg
END:VEVENT
END:VCALENDAR