BEGIN:VCALENDAR
VERSION:2.0
PRODID:-//Quiero Disfrutar - ECPv6.15.1.1//NONSGML v1.0//EN
CALSCALE:GREGORIAN
METHOD:PUBLISH
X-ORIGINAL-URL:https://www.quierodisfrutar.mx
X-WR-CALDESC:Eventos para Quiero Disfrutar
REFRESH-INTERVAL;VALUE=DURATION:PT1H
X-Robots-Tag:noindex
X-PUBLISHED-TTL:PT1H
BEGIN:VTIMEZONE
TZID:America/Mexico_City
BEGIN:DAYLIGHT
TZOFFSETFROM:-0600
TZOFFSETTO:-0500
TZNAME:CDT
DTSTART:20240407T080000
END:DAYLIGHT
BEGIN:STANDARD
TZOFFSETFROM:-0500
TZOFFSETTO:-0600
TZNAME:CST
DTSTART:20241027T070000
END:STANDARD
END:VTIMEZONE
BEGIN:VEVENT
DTSTART;VALUE=DATE:20241127
DTEND;VALUE=DATE:20241202
DTSTAMP:20260424T173938
CREATED:20241127T172459Z
LAST-MODIFIED:20241127T172459Z
UID:52451-1732665600-1733097599@www.quierodisfrutar.mx
SUMMARY:Actividades culturales en Xalapa
DESCRIPTION:Actividades culturales en Xalapa\n  \n  \n 
URL:https://www.quierodisfrutar.mx/evento/actividades-culturales-en-xalapa-7/
CATEGORIES:Arte,Charlas,Cine,Concierto
ATTACH;FMTTYPE=image/jpeg:https://www.quierodisfrutar.mx/wp-content/uploads/2024/11/WhatsApp-Image-2024-11-25-at-11.06.39-AM.jpeg
END:VEVENT
BEGIN:VEVENT
DTSTART;VALUE=DATE:20241128
DTEND;VALUE=DATE:20241201
DTSTAMP:20260424T173938
CREATED:20241126T181921Z
LAST-MODIFIED:20241126T181921Z
UID:52433-1732752000-1733011199@www.quierodisfrutar.mx
SUMMARY:La Orquesta Universitaria de Música Popular celebra su 50 Aniversario\, actividades y concierto ¡Gratuito!
DESCRIPTION:La Orquesta Universitaria de Música Popular (OUMP) celebra 50 años de historia\, consolidándose como un referente cultural en el ámbito musical dentro de la Universidad Veracruzana. A lo largo de su medio siglo de trayectoria\, ha marcado un hito en la interpretación de música clásica y popular\, destacándose por sus arreglos musicales propios\, creados por sus mismos integrantes.\nDesde su origen en 1974 como una big band\, la OUMP ha sido pionera en la incorporación de música popular en el repertorio orquestal. Ha trascendido las fronteras de la música académica\, llevando a cabo presentaciones que han conquistado a públicos de diversas generaciones. En su aniversario número 50\, la OUMP se prepara para un evento que promete recordar la importancia de su legado y fortalecer su vínculo con la comunidad universitaria y el público en general.\nEl festejo de su aniversario contará con tres días llenos de actividades\, en los cuales se podrá disfrutar de la versatilidad de su repertorio\, la historia que ha acompañado a la orquesta a lo largo de estas cinco décadas y su legado artístico.\nPrograma de Actividades\, con entrada libre:\nDía 1: Conversatorio “50 años de la OUMP\, una mirada en retrospectiva” participan: Silvia Martínez\, Patricio Mendoza\, Memo Cuevas e Inés Rodríguez. Modera: Jorge Vázquez Pacheco.        Casa del Lago UV – Sala de Actividades Múltiples  | 17:00 h | jueves 28 nov.\n        Presentación musical: “Boleros inolvidables” participan: Patricio Mendoza\, Leonardo Corona\, Ángel Luis Guererro\, Israel Olivo y Baruch Ascención.        Casa del Lago UV – Patio Central | 18:00 h\nDía 2: Conversatorio “Una Orquesta Pop\, para el futuro” participan: Jorge Arturo Castillo García\, Rodolfo Sánchez Vega\, Sergio Martínez Ruiz\, Rubén Flores Hernández. Modera: Memo Cuevas.        Casa del Lago UV – Sala de Actividades Múltiples  | 17:00 h | viernes 29 nov.\n        Presentación musical: Big Band OUMP dirección: Rubén Flores Hernández.        Casa del Lago UV – Patio Central | 18:00 h\nDía 3: Concierto Especial de Aniversario\, con una selección especial de piezas que han marcado la trayectoria de la orquesta.Sala de conciertos de Tlaqná\, Centro Cultural | 20:00 h | sábado 30 nov.\nEste ciclo de actividades está dirigido a todos los amantes de la música\, la comunidad universitaria y el público en general. La entrada será libre\, lo que invita a ser parte de esta gran celebración.\n¡Vive la magia de la música en vivo! Acompáñanos estos tres días de conciertos y conversatorios que celebran 50 años de historia y pasión por la música.
URL:https://www.quierodisfrutar.mx/evento/la-orquesta-universitaria-de-musica-popular-celebra-su-50-aniversario-actividades-y-concierto-gratuito/
CATEGORIES:Arte,Concierto
ATTACH;FMTTYPE=image/png:https://www.quierodisfrutar.mx/wp-content/uploads/2024/11/Cartel-aniversario-redes.png
END:VEVENT
BEGIN:VEVENT
DTSTART;TZID=America/Mexico_City:20241128T200000
DTEND;TZID=America/Mexico_City:20241129T220000
DTSTAMP:20260424T173938
CREATED:20241127T193637Z
LAST-MODIFIED:20241127T193637Z
UID:52483-1732824000-1732917600@www.quierodisfrutar.mx
SUMMARY:OSX presenta: Queen Sinfónico vol. III
DESCRIPTION:  \n 
URL:https://www.quierodisfrutar.mx/evento/osx-presenta-queen-sinfonico-vol-iii/
LOCATION:Sala de conciertos Tlaqná\, Centro Cultural\, Xalapa
CATEGORIES:Concierto
ATTACH;FMTTYPE=image/jpeg:https://www.quierodisfrutar.mx/wp-content/uploads/2024/11/WhatsApp-Image-2024-11-27-at-1.01.32-PM.jpeg
END:VEVENT
END:VCALENDAR