BEGIN:VCALENDAR
VERSION:2.0
PRODID:-//Quiero Disfrutar - ECPv6.15.1.1//NONSGML v1.0//EN
CALSCALE:GREGORIAN
METHOD:PUBLISH
X-ORIGINAL-URL:https://www.quierodisfrutar.mx
X-WR-CALDESC:Eventos para Quiero Disfrutar
REFRESH-INTERVAL;VALUE=DURATION:PT1H
X-Robots-Tag:noindex
X-PUBLISHED-TTL:PT1H
BEGIN:VTIMEZONE
TZID:America/Mexico_City
BEGIN:DAYLIGHT
TZOFFSETFROM:-0600
TZOFFSETTO:-0500
TZNAME:CDT
DTSTART:20250406T080000
END:DAYLIGHT
BEGIN:STANDARD
TZOFFSETFROM:-0500
TZOFFSETTO:-0600
TZNAME:CST
DTSTART:20251026T070000
END:STANDARD
END:VTIMEZONE
BEGIN:VEVENT
DTSTART;TZID=America/Mexico_City:20250824T160000
DTEND;TZID=America/Mexico_City:20250824T180000
DTSTAMP:20260424T044345
CREATED:20250823T231705Z
LAST-MODIFIED:20250823T231743Z
UID:53629-1756051200-1756058400@www.quierodisfrutar.mx
SUMMARY:Show Oldies en Xalapa
DESCRIPTION:¡𝗘𝗹 𝗧𝗼𝘂𝗿 𝟮𝟬𝟮𝟱 𝗿𝗲𝗴𝗿𝗲𝘀𝗮 𝗮 𝗰𝗮𝘀𝗮!\nDespués de emocionar escenarios en Puebla y Ciudad de México\, el Tour Musical 2025: 𝗗𝗲 𝗣𝘂𝗲𝗯𝗹𝗮 𝗮 𝗹𝗮 𝗖𝗮𝗽𝗶𝘁𝗮𝗹 llega a Xalapa.  \n Acompáñanos a revivir este viaje musical con nuestro 𝗦𝗵𝗼𝘄 𝗢𝗹𝗱𝗶𝗲𝘀\, un recorrido que va desde el 𝗥𝗼𝗰𝗸 𝗮𝗻𝗱 𝗥𝗼𝗹𝗹 𝗵𝗮𝘀𝘁𝗮 𝗹𝗮 𝗲𝗿𝗮 𝗗𝗶𝘀𝗰𝗼.\nUna presentación llena de talento\, energía y pasión\, protagonizada por el #TalentoMArts  \n IMAC Xalapa\n Domingo 24 de agosto\n 16:00 hrs.\n Entrada libre \nVen a celebrar con nosotros esta experiencia familiar que une generaciones a través de la música. \n¡Te esperamos para cerrar nuestro Tour 2025!
URL:https://www.quierodisfrutar.mx/evento/show-oldies-en-xalapa/
LOCATION:Auditorio del IMAC\, Calle Facultad de Arquitectura 11\, Represa del Carmen\, Xalapa \, Veracruz\, México
CATEGORIES:Arte,Concierto
ATTACH;FMTTYPE=image/jpeg:https://www.quierodisfrutar.mx/wp-content/uploads/2025/08/535527784_1446970326355368_2051737197769327198_n.jpg
END:VEVENT
END:VCALENDAR